BEGIN:VCALENDAR
VERSION:2.0
PRODID:-//Durham Food Hall - ECPv6.15.20//NONSGML v1.0//EN
CALSCALE:GREGORIAN
METHOD:PUBLISH
X-ORIGINAL-URL:https://durhamfoodhall.com
X-WR-CALDESC:Events for Durham Food Hall
REFRESH-INTERVAL;VALUE=DURATION:PT1H
X-Robots-Tag:noindex
X-PUBLISHED-TTL:PT1H
BEGIN:VTIMEZONE
TZID:America/New_York
BEGIN:DAYLIGHT
TZOFFSETFROM:-0500
TZOFFSETTO:-0400
TZNAME:EDT
DTSTART:20230312T070000
END:DAYLIGHT
BEGIN:STANDARD
TZOFFSETFROM:-0400
TZOFFSETTO:-0500
TZNAME:EST
DTSTART:20231105T060000
END:STANDARD
BEGIN:DAYLIGHT
TZOFFSETFROM:-0500
TZOFFSETTO:-0400
TZNAME:EDT
DTSTART:20240310T070000
END:DAYLIGHT
BEGIN:STANDARD
TZOFFSETFROM:-0400
TZOFFSETTO:-0500
TZNAME:EST
DTSTART:20241103T060000
END:STANDARD
BEGIN:DAYLIGHT
TZOFFSETFROM:-0500
TZOFFSETTO:-0400
TZNAME:EDT
DTSTART:20250309T070000
END:DAYLIGHT
BEGIN:STANDARD
TZOFFSETFROM:-0400
TZOFFSETTO:-0500
TZNAME:EST
DTSTART:20251102T060000
END:STANDARD
END:VTIMEZONE
BEGIN:VEVENT
DTSTART;TZID=America/New_York:20240303T100000
DTEND;TZID=America/New_York:20240303T210000
DTSTAMP:20260422T131415
CREATED:20240227T165802Z
LAST-MODIFIED:20240227T165802Z
UID:6018-1709460000-1709499600@durhamfoodhall.com
SUMMARY:Auctioneer Bar: $20 'You Pick 4' Canned Beers
DESCRIPTION:Pick 4 local + craft beers for only $20 at the Auctioneer Bar every Sunday!
URL:https://durhamfoodhall.com/event/auctioneer-bar-20-you-pick-4-canned-beers-030324/
CATEGORIES:Daily Specials
END:VEVENT
BEGIN:VEVENT
DTSTART;VALUE=DATE:20240304
DTEND;VALUE=DATE:20240305
DTSTAMP:20260422T131415
CREATED:20240227T170131Z
LAST-MODIFIED:20240227T170131Z
UID:6022-1709510400-1709596799@durhamfoodhall.com
SUMMARY:Industry Night Specials
DESCRIPTION:Enjoy Industry Night Specials at Durham Food Hall:\nAuctioneer Bar – $10 boiler makers\nLittle Barb’s Bakery – BOGO 50% off pop tarts\nNapoli Pizzeria – $1 off meat & cheese boards after 5pm\nCornerYaki – Half off dashi fries with purchase of entrée after 5pm\nMango Indian Grill – 20% off finger foods with purchase from Auctioneer Bar
URL:https://durhamfoodhall.com/event/industry-night-specials-030424/
CATEGORIES:Daily Specials
END:VEVENT
BEGIN:VEVENT
DTSTART;TZID=America/New_York:20240304T063000
DTEND;TZID=America/New_York:20240304T080000
DTSTAMP:20260422T131415
CREATED:20240304T003623Z
LAST-MODIFIED:20240304T003623Z
UID:6135-1709533800-1709539200@durhamfoodhall.com
SUMMARY:Everything Bagels & Liturgy Beverage: 10% off between 6:30-8am
DESCRIPTION:Enjoy the “Earliest Breakfast in Town” at Everything Bagels and Liturgy Beverage every weekday! Celebrate being an early riser with 10% off your order between 6:30am-8am.
URL:https://durhamfoodhall.com/event/everything-bagels-liturgy-beverage-10-off-between-630-8am-030424/
CATEGORIES:Daily Specials
END:VEVENT
BEGIN:VEVENT
DTSTART;TZID=America/New_York:20240304T190000
DTEND;TZID=America/New_York:20240304T210000
DTSTAMP:20260422T131415
CREATED:20240216T173947Z
LAST-MODIFIED:20240227T212023Z
UID:5926-1709578800-1709586000@durhamfoodhall.com
SUMMARY:Harry Potter Books Trivia with TP Trivia
DESCRIPTION:Enjoy some Harry Potter (BOOKS ONLY) themed trivia with our friends from TP Trivia! The Auctioneer Bar will be featuring festive cocktails\, so be sure to try them!\n**The entire Food Hall will be open & available for playing trivia\, including upstairs. Please bring your own folding chairs & blankets for Loose Leaf Gallery space seating! \nMonday Night Specials:\nAuctioneer Bar – Industry Night: $10 Boilermakers (Bull Durham Light and a shot)\nLittle Barb’s Bakery – buy 1 poptart\, get one half off\nNapoli Pizzeria – $1 off formaggi or meat boards after 5pm\nCorner Yaki – Half priced dashi fries with purchase of entrée after 5pm\nMango Indian Grill – 20% off finger foods with proof of purchase from Auctioneer Bar
URL:https://durhamfoodhall.com/event/harry-potter-books-trivia-with-tp-trivia/
CATEGORIES:Upcoming Events
END:VEVENT
BEGIN:VEVENT
DTSTART;TZID=America/New_York:20240305T063000
DTEND;TZID=America/New_York:20240305T080000
DTSTAMP:20260422T131415
CREATED:20240304T003813Z
LAST-MODIFIED:20240304T003813Z
UID:6137-1709620200-1709625600@durhamfoodhall.com
SUMMARY:Everything Bagels & Liturgy Beverage: 10% off between 6:30-8am
DESCRIPTION:Enjoy the “Earliest Breakfast in Town” at Everything Bagels and Liturgy Beverage every weekday! Celebrate being an early riser with 10% off your order between 6:30am-8am.
URL:https://durhamfoodhall.com/event/everything-bagels-liturgy-beverage-10-off-between-630-8am-030524/
CATEGORIES:Daily Specials
END:VEVENT
BEGIN:VEVENT
DTSTART;TZID=America/New_York:20240305T110000
DTEND;TZID=America/New_York:20240305T180000
DTSTAMP:20260422T131415
CREATED:20240304T013222Z
LAST-MODIFIED:20240304T013222Z
UID:6201-1709636400-1709661600@durhamfoodhall.com
SUMMARY:Milklab: Rotating Drink Specials
DESCRIPTION:Milklab has seasonal & rotating drink specials every Tuesday! Try them next time you’re at Durham Food Hall!
URL:https://durhamfoodhall.com/event/milklab-rotating-drink-specials-030524/
CATEGORIES:Daily Specials
END:VEVENT
BEGIN:VEVENT
DTSTART;TZID=America/New_York:20240305T110000
DTEND;TZID=America/New_York:20240305T210000
DTSTAMP:20260422T131415
CREATED:20240304T005908Z
LAST-MODIFIED:20240304T005908Z
UID:6183-1709636400-1709672400@durhamfoodhall.com
SUMMARY:Auctioneer Bar: $5 Select Drafts
DESCRIPTION:Enjoy Tuesdays at the Auctioneer Bar with $5 select drafts. This pairs well with the other specials going on at the Hall + Trivia at 6:30pm!
URL:https://durhamfoodhall.com/event/auctioneer-bar-5-select-drafts-030524/
CATEGORIES:Daily Specials
END:VEVENT
BEGIN:VEVENT
DTSTART;TZID=America/New_York:20240305T110000
DTEND;TZID=America/New_York:20240305T210000
DTSTAMP:20260422T131415
CREATED:20240304T012852Z
LAST-MODIFIED:20240304T012852Z
UID:6193-1709636400-1709672400@durhamfoodhall.com
SUMMARY:Napoli Pizzeria: $22 for 2 - House Salad & Margherita Pizza Combo
DESCRIPTION:Get 2 house salads and 1 margherita pizza for only $22 every Tuesday at Napoli in Durham Food Hall! The perfect date night meal is waiting for you – don’t forget to pair it with the Auctioneer Bar’s $6 wine special.
URL:https://durhamfoodhall.com/event/napoli-pizzeria-22-for-2-house-salad-margherita-pizza-combo-030524/
CATEGORIES:Daily Specials
END:VEVENT
BEGIN:VEVENT
DTSTART;TZID=America/New_York:20240305T110000
DTEND;TZID=America/New_York:20240305T210000
DTSTAMP:20260422T131415
CREATED:20240304T013718Z
LAST-MODIFIED:20240304T013718Z
UID:6209-1709636400-1709672400@durhamfoodhall.com
SUMMARY:Mango Indian Grill: 20% off Finger Foods
DESCRIPTION:Enjoy 20% off Finger Foods at Mango Indian Grill every Monday & Tuesday. *Must show proof of purchase from Auctioneer Bar
URL:https://durhamfoodhall.com/event/mango-indian-grill-20-off-finger-foods-030524/
CATEGORIES:Daily Specials
END:VEVENT
BEGIN:VEVENT
DTSTART;TZID=America/New_York:20240305T123000
DTEND;TZID=America/New_York:20240305T210000
DTSTAMP:20260422T131415
CREATED:20240304T014115Z
LAST-MODIFIED:20240304T014115Z
UID:6217-1709641800-1709672400@durhamfoodhall.com
SUMMARY:Little Barb's Bakery: BOGO 50% Off Poptarts
DESCRIPTION:Enjoy some tasty poptarts from Little Barb’s Bakery – buy one\, get one half off every Monday & Tuesday!
URL:https://durhamfoodhall.com/event/little-barbs-bakery-bogo-50-off-poptarts-030524/
CATEGORIES:Daily Specials
END:VEVENT
BEGIN:VEVENT
DTSTART;TZID=America/New_York:20240305T183000
DTEND;TZID=America/New_York:20240305T203000
DTSTAMP:20260422T131415
CREATED:20240216T180145Z
LAST-MODIFIED:20240216T180145Z
UID:5931-1709663400-1709670600@durhamfoodhall.com
SUMMARY:Trivia Night with TP Trivia
DESCRIPTION:Join us every Tuesday at 6:30pm for Trivia at Durham Food Hall! \nTuesday Specials:\nAuctioneer Bar – $5 select drafts\nLittle Barb’s Bakery – Poptarts buy one\, get one half off\nNapoli – $22 for 2 side salads & one margherita pizza\nMilklab – rotating drink specials\nMango Indian Grill – 20% off finger foods with proof of purchase from the Auctioneer Bar
URL:https://durhamfoodhall.com/event/trivia-night-0305/
CATEGORIES:Upcoming Events
END:VEVENT
BEGIN:VEVENT
DTSTART;TZID=America/New_York:20240306T063000
DTEND;TZID=America/New_York:20240306T080000
DTSTAMP:20260422T131415
CREATED:20240304T003853Z
LAST-MODIFIED:20240304T003853Z
UID:6139-1709706600-1709712000@durhamfoodhall.com
SUMMARY:Everything Bagels & Liturgy Beverage: 10% off between 6:30-8am
DESCRIPTION:Enjoy the “Earliest Breakfast in Town” at Everything Bagels and Liturgy Beverage every weekday! Celebrate being an early riser with 10% off your order between 6:30am-8am.
URL:https://durhamfoodhall.com/event/everything-bagels-liturgy-beverage-10-off-between-630-8am-030624/
CATEGORIES:Daily Specials
END:VEVENT
BEGIN:VEVENT
DTSTART;TZID=America/New_York:20240306T110000
DTEND;TZID=America/New_York:20240306T200000
DTSTAMP:20260422T131415
CREATED:20240228T010130Z
LAST-MODIFIED:20240228T010130Z
UID:6098-1709722800-1709755200@durhamfoodhall.com
SUMMARY:Locals Seafood: $2 Oysters
DESCRIPTION:Enjoy $2 oysters from Durham Food Hall’s seafood specialists – Local’s Seafood! This is one shell of a deal – happening every Wednesday!
URL:https://durhamfoodhall.com/event/locals-seafood-2-oysters-030624/
CATEGORIES:Daily Specials
END:VEVENT
BEGIN:VEVENT
DTSTART;TZID=America/New_York:20240306T110000
DTEND;TZID=America/New_York:20240306T200000
DTSTAMP:20260422T131415
CREATED:20240304T005506Z
LAST-MODIFIED:20240304T005506Z
UID:6175-1709722800-1709755200@durhamfoodhall.com
SUMMARY:Ex-Voto: Pork Belly Crunchwraps
DESCRIPTION:Try this special crunchwrap concoction featuring pork belly from Ex-Voto every Wednesday at Durham Food Hall!
URL:https://durhamfoodhall.com/event/ex-voto-pork-belly-crunchwraps-030624/
CATEGORIES:Daily Specials
END:VEVENT
BEGIN:VEVENT
DTSTART;TZID=America/New_York:20240306T110000
DTEND;TZID=America/New_York:20240306T210000
DTSTAMP:20260422T131415
CREATED:20240228T005323Z
LAST-MODIFIED:20240228T005323Z
UID:6090-1709722800-1709758800@durhamfoodhall.com
SUMMARY:Auctioneer Bar: $25 Bottles of Bubbly
DESCRIPTION:Wednesdays are for champagne at Durham Food Hall – enjoy $25 bottles of bubbly from the Auctioneer Bar!
URL:https://durhamfoodhall.com/event/auctioneer-bar-25-bottles-of-bubbly-030624/
CATEGORIES:Daily Specials
END:VEVENT
BEGIN:VEVENT
DTSTART;TZID=America/New_York:20240307T063000
DTEND;TZID=America/New_York:20240307T080000
DTSTAMP:20260422T131415
CREATED:20240304T003953Z
LAST-MODIFIED:20240304T003953Z
UID:6141-1709793000-1709798400@durhamfoodhall.com
SUMMARY:Everything Bagels & Liturgy Beverage: 10% off between 6:30-8am
DESCRIPTION:Enjoy the “Earliest Breakfast in Town” at Everything Bagels and Liturgy Beverage every weekday! Celebrate being an early riser with 10% off your order between 6:30am-8am.
URL:https://durhamfoodhall.com/event/everything-bagels-liturgy-beverage-10-off-between-630-8am-030724/
CATEGORIES:Daily Specials
END:VEVENT
BEGIN:VEVENT
DTSTART;TZID=America/New_York:20240307T110000
DTEND;TZID=America/New_York:20240307T200000
DTSTAMP:20260422T131415
CREATED:20240228T004818Z
LAST-MODIFIED:20240228T004818Z
UID:6082-1709809200-1709841600@durhamfoodhall.com
SUMMARY:Ex-Voto: Fried Shrimp Crunchwraps
DESCRIPTION:Try Ex-Voto’s fried shrimp crunchwrap every Thursday at Durham Food Hall!
URL:https://durhamfoodhall.com/event/ex-voto-fried-shrimp-crunchwraps-030724/
CATEGORIES:Daily Specials
END:VEVENT
BEGIN:VEVENT
DTSTART;TZID=America/New_York:20240307T110000
DTEND;TZID=America/New_York:20240307T210000
DTSTAMP:20260422T131415
CREATED:20240227T231625Z
LAST-MODIFIED:20240227T231625Z
UID:6074-1709809200-1709845200@durhamfoodhall.com
SUMMARY:Auctioneer Bar: Featured "Break Even" Bottle
DESCRIPTION:Enjoy a featured ‘Break Even’ bottle every Thursday at the Auctioneer Bar! This means you’ll get to drink one of our spirits at a heavily discounted price. *While supplies last
URL:https://durhamfoodhall.com/event/auctioneer-bar-featured-break-even-bottle-030724/
CATEGORIES:Daily Specials
END:VEVENT
BEGIN:VEVENT
DTSTART;TZID=America/New_York:20240308T063000
DTEND;TZID=America/New_York:20240308T080000
DTSTAMP:20260422T131415
CREATED:20240304T004037Z
LAST-MODIFIED:20240304T004037Z
UID:6143-1709879400-1709884800@durhamfoodhall.com
SUMMARY:Everything Bagels & Liturgy Beverage: 10% off between 6:30-8am
DESCRIPTION:Enjoy the “Earliest Breakfast in Town” at Everything Bagels and Liturgy Beverage every weekday! Celebrate being an early riser with 10% off your order between 6:30am-8am.
URL:https://durhamfoodhall.com/event/everything-bagels-liturgy-beverage-10-off-between-630-8am-030824/
CATEGORIES:Daily Specials
END:VEVENT
BEGIN:VEVENT
DTSTART;TZID=America/New_York:20240308T110000
DTEND;TZID=America/New_York:20240308T200000
DTSTAMP:20260422T131415
CREATED:20240227T170842Z
LAST-MODIFIED:20240227T170842Z
UID:6030-1709895600-1709928000@durhamfoodhall.com
SUMMARY:Ex-Voto: Carne Asada Crunchwraps
DESCRIPTION:Kick off your weekend every Friday with a specialty carne asada crunchwrap from Ex-Voto in Durham Food Hall!
URL:https://durhamfoodhall.com/event/ex-voto-carne-asada-crunchwraps-030824/
CATEGORIES:Daily Specials
END:VEVENT
BEGIN:VEVENT
DTSTART;TZID=America/New_York:20240309T100000
DTEND;TZID=America/New_York:20240309T200000
DTSTAMP:20260422T131415
CREATED:20240227T230141Z
LAST-MODIFIED:20240227T230141Z
UID:6048-1709978400-1710014400@durhamfoodhall.com
SUMMARY:Ex-Voto: Breakfast Burritos
DESCRIPTION:You do not want to miss out on your chance for one of Ex-Voto’s massive breakfast burritos! These are available while supplies last every Saturday & Sunday – these go fast\, so hurry in to brunch at Durham Food Hall!
URL:https://durhamfoodhall.com/event/ex-voto-breakfast-burritos-030924/
CATEGORIES:Daily Specials
END:VEVENT
BEGIN:VEVENT
DTSTART;TZID=America/New_York:20240309T100000
DTEND;TZID=America/New_York:20240309T220000
DTSTAMP:20260422T131415
CREATED:20240227T230933Z
LAST-MODIFIED:20240227T230933Z
UID:6064-1709978400-1710021600@durhamfoodhall.com
SUMMARY:Auctioneer Bar: $9 House-made Bloody Marys
DESCRIPTION:Enjoy this tasty weekend treat from the Auctioneer Bar – $9 house-made bloody marys every Saturday\, created specially with Napoli’s tomato juice.
URL:https://durhamfoodhall.com/event/auctioneer-bar-9-house-made-bloody-marys-030924/
CATEGORIES:Daily Specials
END:VEVENT
BEGIN:VEVENT
DTSTART;TZID=America/New_York:20240310T100000
DTEND;TZID=America/New_York:20240310T150000
DTSTAMP:20260422T131415
CREATED:20240227T230514Z
LAST-MODIFIED:20240227T230514Z
UID:6056-1710064800-1710082800@durhamfoodhall.com
SUMMARY:Ex-Voto: Breakfast Burritos
DESCRIPTION:You do not want to miss out on your chance for one of Ex-Voto’s massive breakfast burritos! These are available while supplies last every Saturday & Sunday – these go fast\, so hurry in to brunch at Durham Food Hall!
URL:https://durhamfoodhall.com/event/ex-voto-breakfast-burritos-031024/
CATEGORIES:Daily Specials
END:VEVENT
BEGIN:VEVENT
DTSTART;TZID=America/New_York:20240310T100000
DTEND;TZID=America/New_York:20240310T210000
DTSTAMP:20260422T131415
CREATED:20240227T171337Z
LAST-MODIFIED:20240227T171337Z
UID:6038-1710064800-1710104400@durhamfoodhall.com
SUMMARY:Auctioneer Bar: $20 'You Pick 4' Canned Beers
DESCRIPTION:Pick 4 local + craft beers for only $20 at the Auctioneer Bar every Sunday!
URL:https://durhamfoodhall.com/event/auctioneer-bar-20-you-pick-4-canned-beers-031024/
CATEGORIES:Daily Specials
END:VEVENT
BEGIN:VEVENT
DTSTART;TZID=America/New_York:20240310T150000
DTEND;TZID=America/New_York:20240310T170000
DTSTAMP:20260422T131415
CREATED:20240216T180542Z
LAST-MODIFIED:20240216T180542Z
UID:5939-1710082800-1710090000@durhamfoodhall.com
SUMMARY:Little Barb's Bakery Cake Decorating Class
DESCRIPTION:Tickets for this 2 hour class gets you a 2 layer 6 inch vanilla cake! Learn how to decorate a cake from one of the best\, as Barb teaches you the ins and outs of her skills\, while creating some wonderful memories and at the end\, you get to take the cake home!
URL:https://durhamfoodhall.com/event/little-barbs-bakery-cake-decorating-class-0310/
CATEGORIES:Upcoming Events
END:VEVENT
BEGIN:VEVENT
DTSTART;VALUE=DATE:20240311
DTEND;VALUE=DATE:20240312
DTSTAMP:20260422T131415
CREATED:20240227T170224Z
LAST-MODIFIED:20240227T170224Z
UID:6024-1710115200-1710201599@durhamfoodhall.com
SUMMARY:Industry Night Specials
DESCRIPTION:Enjoy Industry Night Specials at Durham Food Hall:\nAuctioneer Bar – $10 boiler makers\nLittle Barb’s Bakery – BOGO 50% off pop tarts\nNapoli Pizzeria – $1 off meat & cheese boards after 5pm\nCornerYaki – Half off dashi fries with purchase of entrée after 5pm\nMango Indian Grill – 20% off finger foods with purchase from Auctioneer Bar
URL:https://durhamfoodhall.com/event/industry-night-specials-031124/
CATEGORIES:Daily Specials
END:VEVENT
BEGIN:VEVENT
DTSTART;TZID=America/New_York:20240311T063000
DTEND;TZID=America/New_York:20240311T080000
DTSTAMP:20260422T131415
CREATED:20240304T004118Z
LAST-MODIFIED:20240304T004118Z
UID:6145-1710138600-1710144000@durhamfoodhall.com
SUMMARY:Everything Bagels & Liturgy Beverage: 10% off between 6:30-8am
DESCRIPTION:Enjoy the “Earliest Breakfast in Town” at Everything Bagels and Liturgy Beverage every weekday! Celebrate being an early riser with 10% off your order between 6:30am-8am.
URL:https://durhamfoodhall.com/event/everything-bagels-liturgy-beverage-10-off-between-630-8am-031124/
CATEGORIES:Daily Specials
END:VEVENT
BEGIN:VEVENT
DTSTART;TZID=America/New_York:20240312T063000
DTEND;TZID=America/New_York:20240312T080000
DTSTAMP:20260422T131415
CREATED:20240304T004210Z
LAST-MODIFIED:20240304T004210Z
UID:6147-1710225000-1710230400@durhamfoodhall.com
SUMMARY:Everything Bagels & Liturgy Beverage: 10% off between 6:30-8am
DESCRIPTION:Enjoy the “Earliest Breakfast in Town” at Everything Bagels and Liturgy Beverage every weekday! Celebrate being an early riser with 10% off your order between 6:30am-8am.
URL:https://durhamfoodhall.com/event/everything-bagels-liturgy-beverage-10-off-between-630-8am-031224/
CATEGORIES:Daily Specials
END:VEVENT
BEGIN:VEVENT
DTSTART;TZID=America/New_York:20240312T110000
DTEND;TZID=America/New_York:20240312T180000
DTSTAMP:20260422T131415
CREATED:20240304T013327Z
LAST-MODIFIED:20240304T013327Z
UID:6203-1710241200-1710266400@durhamfoodhall.com
SUMMARY:Milklab: Rotating Drink Specials
DESCRIPTION:Milklab has seasonal & rotating drink specials every Tuesday! Try them next time you’re at Durham Food Hall!
URL:https://durhamfoodhall.com/event/milklab-rotating-drink-specials-031224/
CATEGORIES:Daily Specials
END:VEVENT
BEGIN:VEVENT
DTSTART;TZID=America/New_York:20240312T110000
DTEND;TZID=America/New_York:20240312T210000
DTSTAMP:20260422T131415
CREATED:20240304T005946Z
LAST-MODIFIED:20240304T005946Z
UID:6185-1710241200-1710277200@durhamfoodhall.com
SUMMARY:Auctioneer Bar: $5 Select Drafts
DESCRIPTION:Enjoy Tuesdays at the Auctioneer Bar with $5 select drafts. This pairs well with the other specials going on at the Hall + Trivia at 6:30pm!
URL:https://durhamfoodhall.com/event/auctioneer-bar-5-select-drafts-031224/
CATEGORIES:Daily Specials
END:VEVENT
END:VCALENDAR