BEGIN:VCALENDAR
VERSION:2.0
PRODID:-//Durham Food Hall - ECPv6.15.20//NONSGML v1.0//EN
CALSCALE:GREGORIAN
METHOD:PUBLISH
X-WR-CALNAME:Durham Food Hall
X-ORIGINAL-URL:https://durhamfoodhall.com
X-WR-CALDESC:Events for Durham Food Hall
REFRESH-INTERVAL;VALUE=DURATION:PT1H
X-Robots-Tag:noindex
X-PUBLISHED-TTL:PT1H
BEGIN:VTIMEZONE
TZID:America/New_York
BEGIN:DAYLIGHT
TZOFFSETFROM:-0500
TZOFFSETTO:-0400
TZNAME:EDT
DTSTART:20230312T070000
END:DAYLIGHT
BEGIN:STANDARD
TZOFFSETFROM:-0400
TZOFFSETTO:-0500
TZNAME:EST
DTSTART:20231105T060000
END:STANDARD
BEGIN:DAYLIGHT
TZOFFSETFROM:-0500
TZOFFSETTO:-0400
TZNAME:EDT
DTSTART:20240310T070000
END:DAYLIGHT
BEGIN:STANDARD
TZOFFSETFROM:-0400
TZOFFSETTO:-0500
TZNAME:EST
DTSTART:20241103T060000
END:STANDARD
BEGIN:DAYLIGHT
TZOFFSETFROM:-0500
TZOFFSETTO:-0400
TZNAME:EDT
DTSTART:20250309T070000
END:DAYLIGHT
BEGIN:STANDARD
TZOFFSETFROM:-0400
TZOFFSETTO:-0500
TZNAME:EST
DTSTART:20251102T060000
END:STANDARD
BEGIN:DAYLIGHT
TZOFFSETFROM:-0500
TZOFFSETTO:-0400
TZNAME:EDT
DTSTART:20260308T070000
END:DAYLIGHT
BEGIN:STANDARD
TZOFFSETFROM:-0400
TZOFFSETTO:-0500
TZNAME:EST
DTSTART:20261101T060000
END:STANDARD
END:VTIMEZONE
BEGIN:VEVENT
DTSTART;TZID=America/New_York:20250227T190000
DTEND;TZID=America/New_York:20250227T210000
DTSTAMP:20260421T112351
CREATED:20250128T212559Z
LAST-MODIFIED:20250128T212559Z
UID:7111-1740682800-1740690000@durhamfoodhall.com
SUMMARY:Trivia Night with TP Trivia
DESCRIPTION:Join us for weekly Trivia! Thursday is the night for all the fun + games with TP Trivia. The Auctioneer Bar will be serving up some tasty drinks\, along with some Fullsteam beer specials! Don’t miss out on an awesome dinner selection by all of our locally owned vendors as well.
URL:https://durhamfoodhall.com/event/trivia-night-with-tp-trivia-022725/
LOCATION:Durham Food Hall\, NC\, United States
CATEGORIES:Upcoming Events
END:VEVENT
BEGIN:VEVENT
DTSTART;TZID=America/New_York:20250220T190000
DTEND;TZID=America/New_York:20250220T210000
DTSTAMP:20260421T112351
CREATED:20250128T212447Z
LAST-MODIFIED:20250128T212447Z
UID:7109-1740078000-1740085200@durhamfoodhall.com
SUMMARY:Trivia Night with TP Trivia
DESCRIPTION:Join us for weekly Trivia! Thursday is the night for all the fun + games with TP Trivia. The Auctioneer Bar will be serving up some tasty drinks\, along with some Fullsteam beer specials! Don’t miss out on an awesome dinner selection by all of our locally owned vendors as well.
URL:https://durhamfoodhall.com/event/trivia-night-with-tp-trivia-022025/
LOCATION:Durham Food Hall\, NC\, United States
CATEGORIES:Upcoming Events
END:VEVENT
BEGIN:VEVENT
DTSTART;TZID=America/New_York:20250215T190000
DTEND;TZID=America/New_York:20250215T210000
DTSTAMP:20260421T112351
CREATED:20250128T232011Z
LAST-MODIFIED:20250128T232016Z
UID:7135-1739646000-1739653200@durhamfoodhall.com
SUMMARY:Little Barb's Bakery Cake Flight Night
DESCRIPTION:Think charcuterie board but for cakes!! You get to pick 4 cake flavors\, 4 fillings\, and 4 frostings. This two hour event will be held in the lounge upstairs at Durham Food Hall. Put on your pink and red & come enjoy a night of delicious cakes!  \n$72 per table (each table seats 2 people)\nIncludes 1 split bottle of bubbles per table!\n			\n				RESERVE YOUR SPOT!
URL:https://durhamfoodhall.com/event/little-barbs-bakery-cake-flight-night/
LOCATION:Durham Food Hall\, NC\, United States
CATEGORIES:Upcoming Events
END:VEVENT
BEGIN:VEVENT
DTSTART;TZID=America/New_York:20250213T190000
DTEND;TZID=America/New_York:20250213T210000
DTSTAMP:20260421T112351
CREATED:20250128T212153Z
LAST-MODIFIED:20250128T212153Z
UID:7107-1739473200-1739480400@durhamfoodhall.com
SUMMARY:Trivia Night with TP Trivia
DESCRIPTION:Join us for weekly Trivia! Thursday is the night for all the fun + games with TP Trivia. The Auctioneer Bar will be serving up some tasty drinks\, along with some Fullsteam beer specials! Don’t miss out on an awesome dinner selection by all of our locally owned vendors as well.
URL:https://durhamfoodhall.com/event/trivia-night-with-tp-trivia-021325/
LOCATION:Durham Food Hall\, NC\, United States
CATEGORIES:Upcoming Events
END:VEVENT
BEGIN:VEVENT
DTSTART;TZID=America/New_York:20250211T183000
DTEND;TZID=America/New_York:20250211T193000
DTSTAMP:20260421T112351
CREATED:20250128T230135Z
LAST-MODIFIED:20250128T230140Z
UID:7113-1739298600-1739302200@durhamfoodhall.com
SUMMARY:Valentine's Day Floral Arranging Class with Sweet Serendipity
DESCRIPTION:Be creative\, arrange something beautiful\, and make a mess. Don’t worry\, we’ll clean it up! \nGrab your sweetie and learn the basics of floral design with local NC blooms at Durham Food Hall! This class will have classic romantic flowers like roses and unique\, non-traditional flower options. Guided instruction will teach you all the tips and tricks you need to make a beautiful arrangement to bring home with you. \nThe ticket price includes containers\, a glass of bubbly from the Auctioneer Bar\, a sweet treat from Little Barb’s\, and all floral supplies. Design tools are provided.\n			\n				RESERVE YOUR SPOT
URL:https://durhamfoodhall.com/event/valentines-day-floral-arranging-class-with-sweet-serendipity/
LOCATION:Durham Food Hall\, NC\, United States
CATEGORIES:Upcoming Events
END:VEVENT
BEGIN:VEVENT
DTSTART;TZID=America/New_York:20250206T190000
DTEND;TZID=America/New_York:20250206T210000
DTSTAMP:20260421T112351
CREATED:20250128T211937Z
LAST-MODIFIED:20250206T161315Z
UID:7105-1738868400-1738875600@durhamfoodhall.com
SUMMARY:Trivia Night with TP Trivia - CANCELLED
DESCRIPTION:Trivia is cancelled on Feb 6th – see you next week!
URL:https://durhamfoodhall.com/event/trivia-night-with-tp-trivia-020625/
LOCATION:Durham Food Hall\, NC\, United States
CATEGORIES:Upcoming Events
END:VEVENT
BEGIN:VEVENT
DTSTART;TZID=America/New_York:20250130T190000
DTEND;TZID=America/New_York:20250130T210000
DTSTAMP:20260421T112351
CREATED:20250102T143615Z
LAST-MODIFIED:20250102T143615Z
UID:7079-1738263600-1738270800@durhamfoodhall.com
SUMMARY:Trivia Night with TP Trivia
DESCRIPTION:Join us for weekly Trivia! Thursday is the night for all the fun + games with TP Trivia. The Auctioneer Bar will be serving up some tasty drinks\, along with some Fullsteam beer specials! Don’t miss out on an awesome dinner selection by all of our locally owned vendors as well.
URL:https://durhamfoodhall.com/event/trivia-night-with-tp-trivia-0130/
LOCATION:Durham Food Hall\, NC\, United States
CATEGORIES:Upcoming Events
END:VEVENT
BEGIN:VEVENT
DTSTART;TZID=America/New_York:20250123T190000
DTEND;TZID=America/New_York:20250123T210000
DTSTAMP:20260421T112351
CREATED:20250102T143458Z
LAST-MODIFIED:20250102T143458Z
UID:7077-1737658800-1737666000@durhamfoodhall.com
SUMMARY:Trivia Night with TP Trivia
DESCRIPTION:Join us for weekly Trivia! Thursday is the night for all the fun + games with TP Trivia. The Auctioneer Bar will be serving up some tasty drinks\, along with some Fullsteam beer specials! Don’t miss out on an awesome dinner selection by all of our locally owned vendors as well.
URL:https://durhamfoodhall.com/event/trivia-night-with-tp-trivia-0123/
LOCATION:Durham Food Hall\, NC\, United States
CATEGORIES:Upcoming Events
END:VEVENT
BEGIN:VEVENT
DTSTART;TZID=America/New_York:20250116T190000
DTEND;TZID=America/New_York:20250116T210000
DTSTAMP:20260421T112351
CREATED:20250102T143407Z
LAST-MODIFIED:20250102T143407Z
UID:7075-1737054000-1737061200@durhamfoodhall.com
SUMMARY:Trivia Night with TP Trivia
DESCRIPTION:Join us for weekly Trivia! Thursday is the night for all the fun + games with TP Trivia. The Auctioneer Bar will be serving up some tasty drinks\, along with some Fullsteam beer specials! Don’t miss out on an awesome dinner selection by all of our locally owned vendors as well.
URL:https://durhamfoodhall.com/event/trivia-night-with-tp-trivia-0116/
LOCATION:Durham Food Hall\, NC\, United States
CATEGORIES:Upcoming Events
END:VEVENT
BEGIN:VEVENT
DTSTART;TZID=America/New_York:20250109T190000
DTEND;TZID=America/New_York:20250109T210000
DTSTAMP:20260421T112351
CREATED:20250102T143304Z
LAST-MODIFIED:20250102T143304Z
UID:7073-1736449200-1736456400@durhamfoodhall.com
SUMMARY:Trivia Night with TP Trivia
DESCRIPTION:Join us for weekly Trivia! Thursday is the night for all the fun + games with TP Trivia. The Auctioneer Bar will be serving up some tasty drinks\, along with some Fullsteam beer specials! Don’t miss out on an awesome dinner selection by all of our locally owned vendors as well.
URL:https://durhamfoodhall.com/event/trivia-night-with-tp-trivia-0109/
LOCATION:Durham Food Hall\, NC\, United States
CATEGORIES:Upcoming Events
END:VEVENT
BEGIN:VEVENT
DTSTART;TZID=America/New_York:20250102T190000
DTEND;TZID=America/New_York:20250102T210000
DTSTAMP:20260421T112351
CREATED:20250102T143015Z
LAST-MODIFIED:20250102T143015Z
UID:7071-1735844400-1735851600@durhamfoodhall.com
SUMMARY:Trivia Night with TP Trivia
DESCRIPTION:Join us for weekly Trivia! Thursday is the night for all the fun + games with TP Trivia. The Auctioneer Bar will be serving up some tasty drinks\, along with some Fullsteam beer specials! Don’t miss out on an awesome dinner selection by all of our locally owned vendors as well.
URL:https://durhamfoodhall.com/event/trivia-night-with-tp-trivia-010225/
LOCATION:Durham Food Hall\, NC\, United States
CATEGORIES:Upcoming Events
END:VEVENT
BEGIN:VEVENT
DTSTART;TZID=America/New_York:20241226T190000
DTEND;TZID=America/New_York:20241226T210000
DTSTAMP:20260421T112351
CREATED:20241120T020134Z
LAST-MODIFIED:20241210T200417Z
UID:7048-1735239600-1735246800@durhamfoodhall.com
SUMMARY:No Trivia on 12/26!
DESCRIPTION:Trivia at Durham Food Hall will be cancelled on 12/26! We will resume the following week on 1/02!
URL:https://durhamfoodhall.com/event/trivia-night-with-tp-trivia-122624/
LOCATION:Durham Food Hall\, NC\, United States
CATEGORIES:Upcoming Events
END:VEVENT
BEGIN:VEVENT
DTSTART;TZID=America/New_York:20241219T190000
DTEND;TZID=America/New_York:20241219T210000
DTSTAMP:20260421T112351
CREATED:20241120T020045Z
LAST-MODIFIED:20241120T020045Z
UID:7046-1734634800-1734642000@durhamfoodhall.com
SUMMARY:Trivia Night with TP Trivia
DESCRIPTION:Join us for weekly Trivia on a NEW NIGHT! Thursday is the night for all the fun + games with TP Trivia. The Auctioneer Bar will be serving up some tasty drinks\, along with some Fullsteam beer specials! Don’t miss out on an awesome dinner selection by all of our locally owned vendors as well.
URL:https://durhamfoodhall.com/event/trivia-night-with-tp-trivia-121924/
LOCATION:Durham Food Hall\, NC\, United States
CATEGORIES:Upcoming Events
END:VEVENT
BEGIN:VEVENT
DTSTART;TZID=America/New_York:20241212T190000
DTEND;TZID=America/New_York:20241212T210000
DTSTAMP:20260421T112351
CREATED:20241120T015953Z
LAST-MODIFIED:20241120T015953Z
UID:7044-1734030000-1734037200@durhamfoodhall.com
SUMMARY:Trivia Night with TP Trivia
DESCRIPTION:Join us for weekly Trivia on a NEW NIGHT! Thursday is the night for all the fun + games with TP Trivia. The Auctioneer Bar will be serving up some tasty drinks\, along with some Fullsteam beer specials! Don’t miss out on an awesome dinner selection by all of our locally owned vendors as well.
URL:https://durhamfoodhall.com/event/trivia-night-with-tp-trivia-121224/
LOCATION:Durham Food Hall\, NC\, United States
CATEGORIES:Upcoming Events
END:VEVENT
BEGIN:VEVENT
DTSTART;TZID=America/New_York:20241211T190000
DTEND;TZID=America/New_York:20241211T210000
DTSTAMP:20260421T112351
CREATED:20241126T032851Z
LAST-MODIFIED:20241126T032855Z
UID:7051-1733943600-1733950800@durhamfoodhall.com
SUMMARY:Holiday Movie Themed Trivia with TP Trivia
DESCRIPTION:Bring on the festive fun during Holiday Movie themed trivia! TP Trivia Masters will be here to start the party at 7pm\, hurry in to grab a spot!
URL:https://durhamfoodhall.com/event/holiday-movie-themed-trivia-with-tp-trivia/
LOCATION:Durham Food Hall\, NC\, United States
CATEGORIES:Upcoming Events
END:VEVENT
BEGIN:VEVENT
DTSTART;TZID=America/New_York:20241209T183000
DTEND;TZID=America/New_York:20241209T193000
DTSTAMP:20260421T112351
CREATED:20241113T162936Z
LAST-MODIFIED:20241203T165400Z
UID:6934-1733769000-1733772600@durhamfoodhall.com
SUMMARY:Jingle Blooms & Jolly Bites Floral Arranging Class
DESCRIPTION:Channel your inner florist and put together a beautiful bouquet! Lindsay from Sweet Serendipity will be here to walk you through a floral arranging class on December 9th. Tickets include all floral supplies\, a glass of rosé from the Auctioneer Bar and a sweet treat from Little Barb’s Bakery.\n			\n				BUY TICKETS NOW!
URL:https://durhamfoodhall.com/event/holiday-floral-arranging-class/
LOCATION:Durham Food Hall\, NC\, United States
CATEGORIES:Upcoming Events
END:VEVENT
BEGIN:VEVENT
DTSTART;TZID=America/New_York:20241208T110000
DTEND;TZID=America/New_York:20241208T130000
DTSTAMP:20260421T112351
CREATED:20241126T163100Z
LAST-MODIFIED:20241126T163100Z
UID:7062-1733655600-1733662800@durhamfoodhall.com
SUMMARY:Brunch with Santa
DESCRIPTION:SANTA is coming to town! Join us as the big man himself poses for photos at Durham Food Hall on December 8th! There will be face painting\, letters to Santa\, reindeer games\, and MORE! Come stop by & enjoy some brunch & drinks from our vendors as well!
URL:https://durhamfoodhall.com/event/brunch-with-santa/
LOCATION:Durham Food Hall\, NC\, United States
CATEGORIES:Upcoming Events
END:VEVENT
BEGIN:VEVENT
DTSTART;TZID=America/New_York:20241205T190000
DTEND;TZID=America/New_York:20241205T210000
DTSTAMP:20260421T112351
CREATED:20241120T015908Z
LAST-MODIFIED:20241120T015908Z
UID:7042-1733425200-1733432400@durhamfoodhall.com
SUMMARY:Trivia Night with TP Trivia
DESCRIPTION:Join us for weekly Trivia on a NEW NIGHT! Thursday is the night for all the fun + games with TP Trivia. The Auctioneer Bar will be serving up some tasty drinks\, along with some Fullsteam beer specials! Don’t miss out on an awesome dinner selection by all of our locally owned vendors as well.
URL:https://durhamfoodhall.com/event/trivia-night-with-tp-trivia-120524/
LOCATION:Durham Food Hall\, NC\, United States
CATEGORIES:Upcoming Events
END:VEVENT
BEGIN:VEVENT
DTSTART;VALUE=DATE:20241128
DTEND;VALUE=DATE:20241129
DTSTAMP:20260421T112351
CREATED:20241025T015946Z
LAST-MODIFIED:20241025T015946Z
UID:7010-1732752000-1732838399@durhamfoodhall.com
SUMMARY:Hall is Closed — Happy Thanksgiving!
DESCRIPTION:Happy Thanksgiving from Durham Food Hall!\nWe will return to regular hours on Friday\, November 29th.
URL:https://durhamfoodhall.com/event/hall-is-closed-happy-thanksgiving/
LOCATION:NC
CATEGORIES:Upcoming Events
END:VEVENT
BEGIN:VEVENT
DTSTART;TZID=America/New_York:20241121T190000
DTEND;TZID=America/New_York:20241121T210000
DTSTAMP:20260421T112351
CREATED:20241025T015819Z
LAST-MODIFIED:20241025T015819Z
UID:7008-1732215600-1732222800@durhamfoodhall.com
SUMMARY:Trivia Night with TP Trivia
DESCRIPTION:Join us for weekly Trivia on a NEW NIGHT! Thursday is the night for all the fun + games with TP Trivia. The Auctioneer Bar will be serving up some tasty drinks\, along with some Fullsteam beer specials! Don’t miss out on an awesome dinner selection by all of our locally owned vendors as well.
URL:https://durhamfoodhall.com/event/trivia-night-with-tp-trivia-112124/
LOCATION:Durham Food Hall\, NC\, United States
CATEGORIES:Upcoming Events
END:VEVENT
BEGIN:VEVENT
DTSTART;TZID=America/New_York:20241120T190000
DTEND;TZID=America/New_York:20241120T210000
DTSTAMP:20260421T112351
CREATED:20241105T191114Z
LAST-MODIFIED:20241105T191252Z
UID:7026-1732129200-1732136400@durhamfoodhall.com
SUMMARY:Friends Themed Trivia with TP Trivia
DESCRIPTION:Friends themed trivia… the one at Durham Food Hall! Join us for all the Friends fun with TP Trivia on November 20th!
URL:https://durhamfoodhall.com/event/friends-themed-trivia-with-tp-trivia/
LOCATION:Durham Food Hall\, NC\, United States
CATEGORIES:Upcoming Events
END:VEVENT
BEGIN:VEVENT
DTSTART;TZID=America/New_York:20241117T100000
DTEND;TZID=America/New_York:20241117T110000
DTSTAMP:20260421T112351
CREATED:20241025T015458Z
LAST-MODIFIED:20241025T015503Z
UID:6999-1731837600-1731841200@durhamfoodhall.com
SUMMARY:Sip & Sweat with Midtown Yoga
DESCRIPTION:Bring your mat and join us in our Loose Leaf Gallery upstairs for an all-levels MY flow experience. After class\, stay for a drink from the Auctioneer Bar. Class is FREE\, but space is limited. Reserve your spot before it’s full!\n			\n				Reserve your spot!
URL:https://durhamfoodhall.com/event/sip-sweat-with-midtown-yoga-111724/
LOCATION:Durham Food Hall\, NC\, United States
CATEGORIES:Upcoming Events
END:VEVENT
BEGIN:VEVENT
DTSTART;TZID=America/New_York:20241114T190000
DTEND;TZID=America/New_York:20241114T210000
DTSTAMP:20260421T112351
CREATED:20241025T015737Z
LAST-MODIFIED:20241025T015737Z
UID:7006-1731610800-1731618000@durhamfoodhall.com
SUMMARY:Trivia Night with TP Trivia
DESCRIPTION:Join us for weekly Trivia on a NEW NIGHT! Thursday is the night for all the fun + games with TP Trivia. The Auctioneer Bar will be serving up some tasty drinks\, along with some Fullsteam beer specials! Don’t miss out on an awesome dinner selection by all of our locally owned vendors as well.
URL:https://durhamfoodhall.com/event/trivia-night-with-tp-trivia-111424/
LOCATION:Durham Food Hall\, NC\, United States
CATEGORIES:Upcoming Events
END:VEVENT
BEGIN:VEVENT
DTSTART;TZID=America/New_York:20241111T183000
DTEND;TZID=America/New_York:20241111T193000
DTSTAMP:20260421T112351
CREATED:20241025T020524Z
LAST-MODIFIED:20241105T183003Z
UID:7014-1731349800-1731353400@durhamfoodhall.com
SUMMARY:Seasonal Stems Floral Arranging Class
DESCRIPTION:Seasonal Stems\, Sips & Sweets\nChannel your inner florist and put together a beautiful bouquet! Lindsay from Sweet Serendipity will be here to walk you through a floral arranging class. Tickets include all floral supplies\, a glass of rosé from the Auctioneer Bar and a sweet treat from Little Barb’s Bakery.\n			\n				Buy Tickets Now!
URL:https://durhamfoodhall.com/event/seasonal-stems-floral-arranging/
LOCATION:Durham Food Hall\, NC\, United States
CATEGORIES:Upcoming Events
END:VEVENT
BEGIN:VEVENT
DTSTART;TZID=America/New_York:20241107T190000
DTEND;TZID=America/New_York:20241107T210000
DTSTAMP:20260421T112352
CREATED:20241025T015647Z
LAST-MODIFIED:20241025T015647Z
UID:7004-1731006000-1731013200@durhamfoodhall.com
SUMMARY:Trivia Night with TP Trivia
DESCRIPTION:Join us for weekly Trivia on a NEW NIGHT! Thursday is the night for all the fun + games with TP Trivia. The Auctioneer Bar will be serving up some tasty drinks\, along with some Fullsteam beer specials! Don’t miss out on an awesome dinner selection by all of our locally owned vendors as well.
URL:https://durhamfoodhall.com/event/trivia-night-with-tp-trivia-110724/
LOCATION:Durham Food Hall\, NC\, United States
CATEGORIES:Upcoming Events
END:VEVENT
BEGIN:VEVENT
DTSTART;TZID=America/New_York:20241031T190000
DTEND;TZID=America/New_York:20241031T210000
DTSTAMP:20260421T112352
CREATED:20241025T020136Z
LAST-MODIFIED:20241025T020136Z
UID:7012-1730401200-1730408400@durhamfoodhall.com
SUMMARY:Trivia is Cancelled — Happy Halloween!
DESCRIPTION:There will not be any trivia on Halloween (Thursday\, October 31st). We will still be open regular hours and hope to serve you! Happy Halloween!
URL:https://durhamfoodhall.com/event/halloween-night/
LOCATION:Durham Food Hall\, NC\, United States
CATEGORIES:Upcoming Events
END:VEVENT
BEGIN:VEVENT
DTSTART;TZID=America/New_York:20241028T180000
DTEND;TZID=America/New_York:20241028T210000
DTSTAMP:20260421T112352
CREATED:20240828T140710Z
LAST-MODIFIED:20241007T151435Z
UID:6915-1730138400-1730149200@durhamfoodhall.com
SUMMARY:The Mad DJ Swap Meet & Greet
DESCRIPTION:The Mad DJ Swap Meet & Greet at the Durham Food Hall \nMeet & Greet \nMeet Em City Radio personalities and artists including Homegrown Hero\, DJ NABS\, Sir Baggumz\, and host\, J. Certified. This meet and greet is a perfect opportunity to connect with the music community across The Triangle\, share stories\, make new friends\, and enjoy great food and drinks.  Cheers! \nDJ Swap Meet\nLooking to sell\, buy\, trade\, or make a deal?  Visitors may find just what they are looking for at The Mad DJ Swap Meet.  Vendors are welcome to register to bring DJ equipment\, vinyl records\, CDs\, cassettes\, memorabilia\, collectibles and other items to make available for purchase or a bargain. \nLive DJ Sets\nEnjoy the music vibes and rock out to an incredible line-up of Durham DJ legends!  The soundtrack will be provided by our favorite DJs in The Bull City so come ready to watch some of the best hands in the business and bring your dancing shoes too.   \nNC Hip-Hop History Wall Signing\nThe NC Hip-Hop History organization will be documenting this event with a special wall signing for those attending.  In recognition of the pioneers\, contributors\, and supporters of the rap music movement in North Carolina\, we invite attendees to sign their names on the first wall of its kind.
URL:https://durhamfoodhall.com/event/the-mad-dj-swap-meet-greet/
LOCATION:Durham Food Hall\, NC\, United States
CATEGORIES:Upcoming Events
END:VEVENT
BEGIN:VEVENT
DTSTART;TZID=America/New_York:20241027T110000
DTEND;TZID=America/New_York:20241027T133000
DTSTAMP:20260421T112352
CREATED:20241001T153614Z
LAST-MODIFIED:20241007T151242Z
UID:6940-1730026800-1730035800@durhamfoodhall.com
SUMMARY:Witchy Thangs Drag Brunch
DESCRIPTION:Join us for Drag Brunch at Durham Food Hall! \nTickets are $35 and include a $10 gift certificate to use at any Food Hall vendor\, including the Auctioneer Bar.  \nHosted by:\nAmanda Playwith \nSpecial Guests:\nDana St. James\nMarsha Mellows\nBrenda the Drag Queen \nMusic by\nDJ Alan \nDoors open at 11am – Showtime is 12pm! \nHall and Vendors Open Normal Hours during Drag Brunch\n-Limited dine in seating available without a ticket\, but all vendors are open for take out! Show ends at 1:30pm when normal seating will resume.\n			\n				buy tickets here
URL:https://durhamfoodhall.com/event/witchy-thangs-drag-brunch/
LOCATION:Durham Food Hall\, NC\, United States
CATEGORIES:Upcoming Events
END:VEVENT
BEGIN:VEVENT
DTSTART;TZID=America/New_York:20241024T190000
DTEND;TZID=America/New_York:20241024T210000
DTSTAMP:20260421T112352
CREATED:20240926T212034Z
LAST-MODIFIED:20240926T212034Z
UID:6977-1729796400-1729803600@durhamfoodhall.com
SUMMARY:Trivia Night with TP Trivia
DESCRIPTION:Join us for weekly Trivia on a NEW NIGHT! Thursday is the night for all the fun + games with TP Trivia. The Auctioneer Bar will be serving up some tasty drinks\, along with some Fullsteam beer specials! Don’t miss out on an awesome dinner selection by all of our locally owned vendors as well.
URL:https://durhamfoodhall.com/event/trivia-night-with-tp-trivia-102424/
LOCATION:Durham Food Hall\, NC\, United States
CATEGORIES:Upcoming Events
END:VEVENT
BEGIN:VEVENT
DTSTART;TZID=America/New_York:20241023T190000
DTEND;TZID=America/New_York:20241023T210000
DTSTAMP:20260421T112352
CREATED:20240925T014000Z
LAST-MODIFIED:20241014T213439Z
UID:6932-1729710000-1729717200@durhamfoodhall.com
SUMMARY:Stranger Things Themed Trivia
DESCRIPTION:Join us for STRANGER THINGS TRIVIA on October 23rd! TP Trivia Masters will be here hosting all the fun & games\, while you can enjoy tasty drinks from the Auctioneer Bar + food from our vendors. See you there!
URL:https://durhamfoodhall.com/event/stranger-things-themed-trivia/
LOCATION:Durham Food Hall\, NC\, United States
CATEGORIES:Upcoming Events
END:VEVENT
END:VCALENDAR