BEGIN:VCALENDAR
VERSION:2.0
PRODID:-//Durham Food Hall - ECPv6.15.20//NONSGML v1.0//EN
CALSCALE:GREGORIAN
METHOD:PUBLISH
X-ORIGINAL-URL:https://durhamfoodhall.com
X-WR-CALDESC:Events for Durham Food Hall
REFRESH-INTERVAL;VALUE=DURATION:PT1H
X-Robots-Tag:noindex
X-PUBLISHED-TTL:PT1H
BEGIN:VTIMEZONE
TZID:America/New_York
BEGIN:DAYLIGHT
TZOFFSETFROM:-0500
TZOFFSETTO:-0400
TZNAME:EDT
DTSTART:20230312T070000
END:DAYLIGHT
BEGIN:STANDARD
TZOFFSETFROM:-0400
TZOFFSETTO:-0500
TZNAME:EST
DTSTART:20231105T060000
END:STANDARD
BEGIN:DAYLIGHT
TZOFFSETFROM:-0500
TZOFFSETTO:-0400
TZNAME:EDT
DTSTART:20240310T070000
END:DAYLIGHT
BEGIN:STANDARD
TZOFFSETFROM:-0400
TZOFFSETTO:-0500
TZNAME:EST
DTSTART:20241103T060000
END:STANDARD
BEGIN:DAYLIGHT
TZOFFSETFROM:-0500
TZOFFSETTO:-0400
TZNAME:EDT
DTSTART:20250309T070000
END:DAYLIGHT
BEGIN:STANDARD
TZOFFSETFROM:-0400
TZOFFSETTO:-0500
TZNAME:EST
DTSTART:20251102T060000
END:STANDARD
END:VTIMEZONE
BEGIN:VEVENT
DTSTART;TZID=America/New_York:20240214T110000
DTEND;TZID=America/New_York:20240214T200000
DTSTAMP:20260422T015517
CREATED:20240104T212150Z
LAST-MODIFIED:20240212T194107Z
UID:5469-1707908400-1707940800@durhamfoodhall.com
SUMMARY:Locals Seafood: $2 Oysters
DESCRIPTION:Enjoy $2 oysters from Durham Food Hall’s seafood specialists – Local’s Seafood! This is one shell of a deal – happening every Wednesday!
URL:https://durhamfoodhall.com/event/2-oysters-21424/
CATEGORIES:Daily Specials
END:VEVENT
BEGIN:VEVENT
DTSTART;TZID=America/New_York:20240214T110000
DTEND;TZID=America/New_York:20240214T200000
DTSTAMP:20260422T015517
CREATED:20240104T214103Z
LAST-MODIFIED:20240212T194118Z
UID:5505-1707908400-1707940800@durhamfoodhall.com
SUMMARY:Ex-Voto: Pork Belly Crunchwraps
DESCRIPTION:Try this special crunchwrap concoction featuring pork belly from Ex-Voto every Wednesday at Durham Food Hall!
URL:https://durhamfoodhall.com/event/pork-belly-crunchwraps-21424/
CATEGORIES:Daily Specials
END:VEVENT
BEGIN:VEVENT
DTSTART;TZID=America/New_York:20240214T110000
DTEND;TZID=America/New_York:20240214T210000
DTSTAMP:20260422T015517
CREATED:20240104T213239Z
LAST-MODIFIED:20240212T194148Z
UID:5487-1707908400-1707944400@durhamfoodhall.com
SUMMARY:Auctioneer Bar: $25 Bottles of Bubbly
DESCRIPTION:Wednesdays are for champagne at Durham Food Hall – enjoy $25 bottles of bubbly from the Auctioneer Bar!
URL:https://durhamfoodhall.com/event/25-bottles-of-bubbly-21424/
CATEGORIES:Daily Specials
END:VEVENT
BEGIN:VEVENT
DTSTART;TZID=America/New_York:20240214T183000
DTEND;TZID=America/New_York:20240214T193000
DTSTAMP:20260422T015517
CREATED:20240129T213539Z
LAST-MODIFIED:20240206T193655Z
UID:5684-1707935400-1707939000@durhamfoodhall.com
SUMMARY:Valentine's Day Floral Arranging Class
DESCRIPTION:Join us for a special Valentine’s Night! Grab your date\, your girlfriends or just yourself and create a floral masterpiece with Lindsay from Sweet Serendipity.Tickets include all floral supplies\, a glass of bubbly from the Auctioneer Bar and a sweet treat from Little Barb’s Bakery. \nBUY TICKETS HERE!
URL:https://durhamfoodhall.com/event/vdayfloralclass/
CATEGORIES:Upcoming Events
END:VEVENT
BEGIN:VEVENT
DTSTART;TZID=America/New_York:20240215T063000
DTEND;TZID=America/New_York:20240215T080000
DTSTAMP:20260422T015517
CREATED:20240212T183641Z
LAST-MODIFIED:20240212T183641Z
UID:5797-1707978600-1707984000@durhamfoodhall.com
SUMMARY:Everything Bagels & Liturgy Beverage: 10% off between 6:30-8am
DESCRIPTION:Enjoy the “Earliest Breakfast in Town” at Everything Bagels and Liturgy Beverage every weekday! Celebrate being an early riser with 10% off your order between 6:30am-8am.
URL:https://durhamfoodhall.com/event/everything-bagels-21524/
CATEGORIES:Daily Specials
END:VEVENT
BEGIN:VEVENT
DTSTART;TZID=America/New_York:20240215T110000
DTEND;TZID=America/New_York:20240215T200000
DTSTAMP:20260422T015517
CREATED:20240104T201526Z
LAST-MODIFIED:20240212T194225Z
UID:5370-1707994800-1708027200@durhamfoodhall.com
SUMMARY:Ex-Voto: Fried Shrimp Crunchwraps
DESCRIPTION:Try Ex-Voto’s fried shrimp crunchwrap every Thursday at Durham Food Hall!
URL:https://durhamfoodhall.com/event/fried-shrimp-crunchwraps-21524/
CATEGORIES:Daily Specials
END:VEVENT
BEGIN:VEVENT
DTSTART;TZID=America/New_York:20240215T110000
DTEND;TZID=America/New_York:20240215T210000
DTSTAMP:20260422T015517
CREATED:20240206T202137Z
LAST-MODIFIED:20240206T202137Z
UID:5784-1707994800-1708030800@durhamfoodhall.com
SUMMARY:Auctioneer Bar: Featured "No Mark Up" Spirit
DESCRIPTION:Enjoy a featured ‘No Mark Up’ spirit every Thursday at the Auctioneer Bar!
URL:https://durhamfoodhall.com/event/nomarkupspirit21524/
CATEGORIES:Daily Specials
END:VEVENT
BEGIN:VEVENT
DTSTART;TZID=America/New_York:20240216T063000
DTEND;TZID=America/New_York:20240216T080000
DTSTAMP:20260422T015517
CREATED:20240212T184856Z
LAST-MODIFIED:20240212T184856Z
UID:5801-1708065000-1708070400@durhamfoodhall.com
SUMMARY:Everything Bagels & Liturgy Beverage: 10% off between 6:30-8am
DESCRIPTION:Enjoy the “Earliest Breakfast in Town” at Everything Bagels and Liturgy Beverage every weekday! Celebrate being an early riser with 10% off your order between 6:30am-8am.
URL:https://durhamfoodhall.com/event/everything-bagels-21624/
CATEGORIES:Daily Specials
END:VEVENT
BEGIN:VEVENT
DTSTART;TZID=America/New_York:20240216T090000
DTEND;TZID=America/New_York:20240216T120000
DTSTAMP:20260422T015517
CREATED:20240115T171058Z
LAST-MODIFIED:20240115T171130Z
UID:5639-1708074000-1708084800@durhamfoodhall.com
SUMMARY:Homeschool Board Game Day
DESCRIPTION:Bring your own board or card games to play on the 1st & 3rd Fridays at Durham Food Hall! \nFriday special: Ex-Voto Carne Asada Crunchwraps
URL:https://durhamfoodhall.com/event/homeschool-board-game-day-21624/
CATEGORIES:Upcoming Events
END:VEVENT
BEGIN:VEVENT
DTSTART;TZID=America/New_York:20240216T110000
DTEND;TZID=America/New_York:20240216T200000
DTSTAMP:20260422T015517
CREATED:20240104T202544Z
LAST-MODIFIED:20240212T194241Z
UID:5389-1708081200-1708113600@durhamfoodhall.com
SUMMARY:Ex-Voto: Carne Asada Crunchwraps
DESCRIPTION:Kick off your weekend every Friday with a specialty carne asada crunchwrap from Ex-Voto in Durham Food Hall!
URL:https://durhamfoodhall.com/event/carne-asada-crunchwraps-21624/
CATEGORIES:Daily Specials
END:VEVENT
BEGIN:VEVENT
DTSTART;TZID=America/New_York:20240217T100000
DTEND;TZID=America/New_York:20240217T200000
DTSTAMP:20260422T015517
CREATED:20240104T210805Z
LAST-MODIFIED:20240212T194301Z
UID:5453-1708164000-1708200000@durhamfoodhall.com
SUMMARY:Ex-Voto: Breakfast Burritos
DESCRIPTION:You do not want to miss out on your chance for one of Ex-Voto’s massive breakfast burritos! These are available while supplies last every Saturday & Sunday – these go fast\, so hurry in to brunch at Durham Food Hall!
URL:https://durhamfoodhall.com/event/breakfast-burritos-21724/
CATEGORIES:Daily Specials
END:VEVENT
BEGIN:VEVENT
DTSTART;TZID=America/New_York:20240217T100000
DTEND;TZID=America/New_York:20240217T220000
DTSTAMP:20260422T015517
CREATED:20240104T204346Z
LAST-MODIFIED:20240212T194336Z
UID:5423-1708164000-1708207200@durhamfoodhall.com
SUMMARY:Auctioneer Bar: $9 House-made Bloody Marys
DESCRIPTION:Enjoy this tasty weekend treat from the Auctioneer Bar – $9 house-made bloody marys every Saturday\, created specially with Napoli’s tomato juice.
URL:https://durhamfoodhall.com/event/9-house-made-bloody-marys-21724/
CATEGORIES:Daily Specials
END:VEVENT
BEGIN:VEVENT
DTSTART;TZID=America/New_York:20240218T100000
DTEND;TZID=America/New_York:20240218T150000
DTSTAMP:20260422T015517
CREATED:20240104T205908Z
LAST-MODIFIED:20240212T194346Z
UID:5439-1708250400-1708268400@durhamfoodhall.com
SUMMARY:Ex-Voto: Breakfast Burritos
DESCRIPTION:You do not want to miss out on your chance for one of Ex-Voto’s massive breakfast burritos! These are available while supplies last every Saturday & Sunday – these go fast\, so hurry in to brunch at Durham Food Hall!
URL:https://durhamfoodhall.com/event/breakfast-burritos-21824/
CATEGORIES:Daily Specials
END:VEVENT
BEGIN:VEVENT
DTSTART;TZID=America/New_York:20240218T100000
DTEND;TZID=America/New_York:20240218T210000
DTSTAMP:20260422T015517
CREATED:20240104T203531Z
LAST-MODIFIED:20240212T194356Z
UID:5407-1708250400-1708290000@durhamfoodhall.com
SUMMARY:Auctioneer Bar: $20 'You Pick 4' Canned Beers
DESCRIPTION:Pick 4 local + craft beers for only $20 at the Auctioneer Bar every Sunday!
URL:https://durhamfoodhall.com/event/25-you-pick-4-canned-beers-21823/
CATEGORIES:Daily Specials
END:VEVENT
BEGIN:VEVENT
DTSTART;TZID=America/New_York:20240218T150000
DTEND;TZID=America/New_York:20240218T170000
DTSTAMP:20260422T015517
CREATED:20240103T151400Z
LAST-MODIFIED:20240103T151400Z
UID:5353-1708268400-1708275600@durhamfoodhall.com
SUMMARY:Little Barb's Bakery Cake Decorating Class
DESCRIPTION:Tickets for this 2 hour class gets you a 2 layer 6 inch vanilla cake! Learn how to decorate a cake from one of the best\, as Barb teaches you the ins and outs of her skills\, while creating some wonderful memories and at the end\, you get to take the cake home!
URL:https://durhamfoodhall.com/event/little-barbs-bakery-cake-decorating-class-21824/
CATEGORIES:Upcoming Events
END:VEVENT
BEGIN:VEVENT
DTSTART;VALUE=DATE:20240219
DTEND;VALUE=DATE:20240220
DTSTAMP:20260422T015517
CREATED:20240123T201119Z
LAST-MODIFIED:20240123T201119Z
UID:5663-1708300800-1708387199@durhamfoodhall.com
SUMMARY:Industry Night Specials
DESCRIPTION:Enjoy Industry Night Specials at Durham Food Hall:\nAuctioneer Bar – $10 boiler makers\nLittle Barb’s Bakery – BOGO 50% off pop tarts\nNapoli Pizzeria – $1 off meat & cheese boards after 5pm\nCornerYaki – Half off dashi fries with purchase of entrée after 5pm\nMango Indian Grill – 20% off finger foods with purchase from Auctioneer Bar
URL:https://durhamfoodhall.com/event/industry-night-specials-0219/
CATEGORIES:Daily Specials
END:VEVENT
BEGIN:VEVENT
DTSTART;TZID=America/New_York:20240219T063000
DTEND;TZID=America/New_York:20240219T080000
DTSTAMP:20260422T015517
CREATED:20240212T191449Z
LAST-MODIFIED:20240212T191449Z
UID:5803-1708324200-1708329600@durhamfoodhall.com
SUMMARY:Everything Bagels & Liturgy Beverage: 10% off between 6:30-8am
DESCRIPTION:Enjoy the “Earliest Breakfast in Town” at Everything Bagels and Liturgy Beverage every weekday! Celebrate being an early riser with 10% off your order between 6:30am-8am.
URL:https://durhamfoodhall.com/event/everything-bagels-21924/
CATEGORIES:Daily Specials
END:VEVENT
BEGIN:VEVENT
DTSTART;TZID=America/New_York:20240219T190000
DTEND;TZID=America/New_York:20240219T210000
DTSTAMP:20260422T015517
CREATED:20240115T174012Z
LAST-MODIFIED:20240215T142036Z
UID:5645-1708369200-1708376400@durhamfoodhall.com
SUMMARY:New Girl Trivia with TP Trivia
DESCRIPTION:Enjoy some New Girl themed trivia with our friends from TP Trivia! \nMonday Night Specials:\nAuctioneer Bar – Industry Night: $10 Boilermakers (Bull Durham Light and a shot)\nLittle Barb’s Bakery – buy 1 poptart\, get one half off\nNapoli – $1 off formaggi or meat boards after 5pm\nCornerYaki – Half priced dashi fries with purchase of entrée after 5pm\nMango Indian Grill – 20% off finger foods with proof of purchase from Auctioneer Bar
URL:https://durhamfoodhall.com/event/newgirltrivia/
CATEGORIES:Upcoming Events
END:VEVENT
BEGIN:VEVENT
DTSTART;TZID=America/New_York:20240220T063000
DTEND;TZID=America/New_York:20240220T080000
DTSTAMP:20260422T015517
CREATED:20240212T193107Z
LAST-MODIFIED:20240212T193107Z
UID:5805-1708410600-1708416000@durhamfoodhall.com
SUMMARY:Everything Bagels & Liturgy Beverage: 10% off between 6:30-8am
DESCRIPTION:Enjoy the “Earliest Breakfast in Town” at Everything Bagels and Liturgy Beverage every weekday! Celebrate being an early riser with 10% off your order between 6:30am-8am.
URL:https://durhamfoodhall.com/event/everything-bagels-22024/
CATEGORIES:Daily Specials
END:VEVENT
BEGIN:VEVENT
DTSTART;TZID=America/New_York:20240220T110000
DTEND;TZID=America/New_York:20240220T180000
DTSTAMP:20260422T015517
CREATED:20240108T213854Z
LAST-MODIFIED:20240212T194410Z
UID:5621-1708426800-1708452000@durhamfoodhall.com
SUMMARY:Milklab: Rotating Drink Specials
DESCRIPTION:Milklab has seasonal & rotating drink specials every Tuesday! Try them next time you’re at Durham Food Hall!
URL:https://durhamfoodhall.com/event/rotating-drink-specials-22024/
CATEGORIES:Daily Specials
END:VEVENT
BEGIN:VEVENT
DTSTART;TZID=America/New_York:20240220T110000
DTEND;TZID=America/New_York:20240220T210000
DTSTAMP:20260422T015517
CREATED:20240108T212357Z
LAST-MODIFIED:20240212T194441Z
UID:5597-1708426800-1708462800@durhamfoodhall.com
SUMMARY:Napoli Pizzeria: $22 for 2 - House Salad & Margherita Pizza Combo
DESCRIPTION:Get 2 house salads and 1 margherita pizza for only $22 every Tuesday at Napoli in Durham Food Hall! The perfect date night meal is waiting for you – don’t forget to pair it with the Auctioneer Bar’s $6 wine special.
URL:https://durhamfoodhall.com/event/22-for-2-house-salad-margherita-pizza-combo-22024/
CATEGORIES:Daily Specials
END:VEVENT
BEGIN:VEVENT
DTSTART;TZID=America/New_York:20240220T110000
DTEND;TZID=America/New_York:20240220T210000
DTSTAMP:20260422T015517
CREATED:20240108T213213Z
LAST-MODIFIED:20240212T194453Z
UID:5609-1708426800-1708462800@durhamfoodhall.com
SUMMARY:Auctioneer Bar: $5 Select Drafts
DESCRIPTION:Enjoy Tuesdays at the Auctioneer Bar with $5 select drafts. This pairs well with the other specials going on at the Hall + Trivia at 6:30pm!
URL:https://durhamfoodhall.com/event/5-select-drafts-6-italian-glasses-of-wine-22024/
CATEGORIES:Daily Specials
END:VEVENT
BEGIN:VEVENT
DTSTART;TZID=America/New_York:20240220T110000
DTEND;TZID=America/New_York:20240220T210000
DTSTAMP:20260422T015517
CREATED:20240123T203856Z
LAST-MODIFIED:20240212T194510Z
UID:5669-1708426800-1708462800@durhamfoodhall.com
SUMMARY:Mango Indian Grill: 20% off Finger Foods
DESCRIPTION:Enjoy 20% off Finger Foods at Mango Indian Grill every Monday & Tuesday. *Must show proof of purchase from Auctioneer Bar
URL:https://durhamfoodhall.com/event/20-off-finger-foods-022024/
CATEGORIES:Daily Specials
END:VEVENT
BEGIN:VEVENT
DTSTART;TZID=America/New_York:20240220T123000
DTEND;TZID=America/New_York:20240220T210000
DTSTAMP:20260422T015517
CREATED:20240105T213447Z
LAST-MODIFIED:20240212T194528Z
UID:5583-1708432200-1708462800@durhamfoodhall.com
SUMMARY:Little Barb's Bakery: BOGO 50% Off Poptarts
DESCRIPTION:Enjoy some tasty poptarts from Little Barb’s Bakery – buy one\, get one half off every Monday & Tuesday!
URL:https://durhamfoodhall.com/event/bogo-50-off-poptarts-22024/
CATEGORIES:Daily Specials
END:VEVENT
BEGIN:VEVENT
DTSTART;TZID=America/New_York:20240220T183000
DTEND;TZID=America/New_York:20240220T203000
DTSTAMP:20260422T015517
CREATED:20240130T164340Z
LAST-MODIFIED:20240130T164340Z
UID:5691-1708453800-1708461000@durhamfoodhall.com
SUMMARY:Trivia Night
DESCRIPTION:Join us every Tuesday at 6:30pm for Trivia at Durham Food Hall! \nTuesday Specials:\nAuctioneer Bar – $5 select drafts\nLittle Barb’s Bakery – Poptarts buy one\, get one half off\nNapoli – $22 for 2 side salads & one margherita pizza\nMilklab – rotating drink specials\nMango Indian Grill – 20% off finger foods with proof of purchase from the Auctioneer Bar
URL:https://durhamfoodhall.com/event/trivia-night-22024/
CATEGORIES:Upcoming Events
END:VEVENT
BEGIN:VEVENT
DTSTART;TZID=America/New_York:20240221T063000
DTEND;TZID=America/New_York:20240221T080000
DTSTAMP:20260422T015517
CREATED:20240212T193218Z
LAST-MODIFIED:20240212T193218Z
UID:5807-1708497000-1708502400@durhamfoodhall.com
SUMMARY:Everything Bagels & Liturgy Beverage: 10% off between 6:30-8am
DESCRIPTION:Enjoy the “Earliest Breakfast in Town” at Everything Bagels and Liturgy Beverage every weekday! Celebrate being an early riser with 10% off your order between 6:30am-8am.
URL:https://durhamfoodhall.com/event/everything-bagels-22124/
CATEGORIES:Daily Specials
END:VEVENT
BEGIN:VEVENT
DTSTART;TZID=America/New_York:20240221T110000
DTEND;TZID=America/New_York:20240221T200000
DTSTAMP:20260422T015517
CREATED:20240104T212230Z
LAST-MODIFIED:20240212T194613Z
UID:5471-1708513200-1708545600@durhamfoodhall.com
SUMMARY:Locals Seafood: $2 Oysters
DESCRIPTION:Enjoy $2 oysters from Durham Food Hall’s seafood specialists – Local’s Seafood! This is one shell of a deal – happening every Wednesday!
URL:https://durhamfoodhall.com/event/2-oysters-22124/
CATEGORIES:Daily Specials
END:VEVENT
BEGIN:VEVENT
DTSTART;TZID=America/New_York:20240221T110000
DTEND;TZID=America/New_York:20240221T200000
DTSTAMP:20260422T015517
CREATED:20240104T214159Z
LAST-MODIFIED:20240212T194628Z
UID:5507-1708513200-1708545600@durhamfoodhall.com
SUMMARY:Ex-Voto: Pork Belly Crunchwraps
DESCRIPTION:Try this special crunchwrap concoction featuring pork belly from Ex-Voto every Wednesday at Durham Food Hall!
URL:https://durhamfoodhall.com/event/pork-belly-crunchwraps-22124/
CATEGORIES:Daily Specials
END:VEVENT
BEGIN:VEVENT
DTSTART;TZID=America/New_York:20240221T110000
DTEND;TZID=America/New_York:20240221T210000
DTSTAMP:20260422T015517
CREATED:20240104T213320Z
LAST-MODIFIED:20240212T194640Z
UID:5489-1708513200-1708549200@durhamfoodhall.com
SUMMARY:Auctioneer Bar: $25 Bottles of Bubbly
DESCRIPTION:Wednesdays are for champagne at Durham Food Hall – enjoy $25 bottles of bubbly from the Auctioneer Bar!
URL:https://durhamfoodhall.com/event/25-bottles-of-bubbly-22124/
CATEGORIES:Daily Specials
END:VEVENT
BEGIN:VEVENT
DTSTART;TZID=America/New_York:20240222T063000
DTEND;TZID=America/New_York:20240222T080000
DTSTAMP:20260422T015517
CREATED:20240212T193305Z
LAST-MODIFIED:20240212T193305Z
UID:5809-1708583400-1708588800@durhamfoodhall.com
SUMMARY:Everything Bagels & Liturgy Beverage: 10% off between 6:30-8am
DESCRIPTION:Enjoy the “Earliest Breakfast in Town” at Everything Bagels and Liturgy Beverage every weekday! Celebrate being an early riser with 10% off your order between 6:30am-8am.
URL:https://durhamfoodhall.com/event/everything-bagels-22224/
CATEGORIES:Daily Specials
END:VEVENT
END:VCALENDAR