BEGIN:VCALENDAR
VERSION:2.0
PRODID:-//Durham Food Hall - ECPv6.15.20//NONSGML v1.0//EN
CALSCALE:GREGORIAN
METHOD:PUBLISH
X-ORIGINAL-URL:https://durhamfoodhall.com
X-WR-CALDESC:Events for Durham Food Hall
REFRESH-INTERVAL;VALUE=DURATION:PT1H
X-Robots-Tag:noindex
X-PUBLISHED-TTL:PT1H
BEGIN:VTIMEZONE
TZID:America/New_York
BEGIN:DAYLIGHT
TZOFFSETFROM:-0500
TZOFFSETTO:-0400
TZNAME:EDT
DTSTART:20230312T070000
END:DAYLIGHT
BEGIN:STANDARD
TZOFFSETFROM:-0400
TZOFFSETTO:-0500
TZNAME:EST
DTSTART:20231105T060000
END:STANDARD
BEGIN:DAYLIGHT
TZOFFSETFROM:-0500
TZOFFSETTO:-0400
TZNAME:EDT
DTSTART:20240310T070000
END:DAYLIGHT
BEGIN:STANDARD
TZOFFSETFROM:-0400
TZOFFSETTO:-0500
TZNAME:EST
DTSTART:20241103T060000
END:STANDARD
BEGIN:DAYLIGHT
TZOFFSETFROM:-0500
TZOFFSETTO:-0400
TZNAME:EDT
DTSTART:20250309T070000
END:DAYLIGHT
BEGIN:STANDARD
TZOFFSETFROM:-0400
TZOFFSETTO:-0500
TZNAME:EST
DTSTART:20251102T060000
END:STANDARD
END:VTIMEZONE
BEGIN:VEVENT
DTSTART;TZID=America/New_York:20240121T150000
DTEND;TZID=America/New_York:20240121T170000
DTSTAMP:20260421T184355
CREATED:20231219T213945Z
LAST-MODIFIED:20231219T213945Z
UID:5332-1705849200-1705856400@durhamfoodhall.com
SUMMARY:Little Barb's Bakery Cake Decorating Class
DESCRIPTION:Tickets for this 2 hour class gets you a 2 layer 6 inch vanilla cake! Learn how to decorate a cake from one of the best\, as Barb teaches you the ins and outs of her skills\, while creating some wonderful memories and at the end\, you get to take the cake home!
URL:https://durhamfoodhall.com/event/little-barbs-bakery-cake-decorating-class-012124/
CATEGORIES:Upcoming Events
END:VEVENT
BEGIN:VEVENT
DTSTART;TZID=America/New_York:20240122T123000
DTEND;TZID=America/New_York:20240122T210000
DTSTAMP:20260421T184355
CREATED:20240105T212834Z
LAST-MODIFIED:20240105T212834Z
UID:5567-1705926600-1705957200@durhamfoodhall.com
SUMMARY:BOGO 50% Off Poptarts
DESCRIPTION:Enjoy some tasty poptarts from Little Barb’s Bakery – buy one\, get one half off every Monday & Tuesday!
URL:https://durhamfoodhall.com/event/bogo-50-off-poptarts-12224/
CATEGORIES:Daily Specials
END:VEVENT
BEGIN:VEVENT
DTSTART;TZID=America/New_York:20240122T170000
DTEND;TZID=America/New_York:20240122T210000
DTSTAMP:20260421T184355
CREATED:20240105T171857Z
LAST-MODIFIED:20240105T213747Z
UID:5545-1705942800-1705957200@durhamfoodhall.com
SUMMARY:Industry Night Specials
DESCRIPTION:Enjoy Industry Night at Durham Food Hall!  \nMonday Night specials:\nAuctioneer Bar – $10 boiler makers\nNapoli Pizzeria – $1 off meat & cheese boards after 5pm\nCornerYaki – Half off dashi fries with purchase of entrée after 5pm
URL:https://durhamfoodhall.com/event/industry-night-10-boiler-makers-12224/
CATEGORIES:Daily Specials
END:VEVENT
BEGIN:VEVENT
DTSTART;TZID=America/New_York:20240123T110000
DTEND;TZID=America/New_York:20240123T180000
DTSTAMP:20260421T184355
CREATED:20240108T213504Z
LAST-MODIFIED:20240108T213504Z
UID:5613-1706007600-1706032800@durhamfoodhall.com
SUMMARY:Rotating Drink Specials
DESCRIPTION:Milklab has seasonal & rotating drink specials every Tuesday! Try them next time you’re at Durham Food Hall!
URL:https://durhamfoodhall.com/event/rotating-drink-specials-12324/
CATEGORIES:Daily Specials
END:VEVENT
BEGIN:VEVENT
DTSTART;TZID=America/New_York:20240123T110000
DTEND;TZID=America/New_York:20240123T210000
DTSTAMP:20260421T184355
CREATED:20240108T211253Z
LAST-MODIFIED:20240108T211253Z
UID:5589-1706007600-1706043600@durhamfoodhall.com
SUMMARY:$22 for 2 - House Salad & Margherita Pizza Combo
DESCRIPTION:Get 2 house salads and 1 margherita pizza for only $22 every Tuesday at Napoli in Durham Food Hall! The perfect date night meal is waiting for you – don’t forget to pair it with the Auctioneer Bar’s $6 wine special.
URL:https://durhamfoodhall.com/event/22-for-2-house-salad-margherita-pizza-combo-12324/
CATEGORIES:Daily Specials
END:VEVENT
BEGIN:VEVENT
DTSTART;TZID=America/New_York:20240123T110000
DTEND;TZID=America/New_York:20240123T210000
DTSTAMP:20260421T184355
CREATED:20240108T212649Z
LAST-MODIFIED:20240111T162704Z
UID:5601-1706007600-1706043600@durhamfoodhall.com
SUMMARY:$5 Select Drafts
DESCRIPTION:Enjoy Tuesdays at the Auctioneer Bar with $5 select drafts. This pairs well with the other specials going on at the Hall + Trivia at 6:30pm!
URL:https://durhamfoodhall.com/event/5-select-drafts-6-italian-glasses-of-wine-12324/
CATEGORIES:Daily Specials
END:VEVENT
BEGIN:VEVENT
DTSTART;TZID=America/New_York:20240123T123000
DTEND;TZID=America/New_York:20240123T210000
DTSTAMP:20260421T184355
CREATED:20240105T212908Z
LAST-MODIFIED:20240105T212908Z
UID:5569-1706013000-1706043600@durhamfoodhall.com
SUMMARY:BOGO 50% Off Poptarts
DESCRIPTION:Enjoy some tasty poptarts from Little Barb’s Bakery – buy one\, get one half off every Monday & Tuesday!
URL:https://durhamfoodhall.com/event/bogo-50-off-poptarts-12324/
CATEGORIES:Daily Specials
END:VEVENT
BEGIN:VEVENT
DTSTART;TZID=America/New_York:20240123T183000
DTEND;TZID=America/New_York:20240123T203000
DTSTAMP:20260421T184355
CREATED:20240102T164658Z
LAST-MODIFIED:20240102T164658Z
UID:5345-1706034600-1706041800@durhamfoodhall.com
SUMMARY:Trivia Night
DESCRIPTION:Join us every Tuesday at 6:30pm for Trivia at Durham Food Hall! \nTuesday Specials:\nAuctioneer Bar – $5 select drafts + $6 Italian glasses of wine\nLittle Barb’s Bakery – Poptarts buy one\, get one half off\nNapoli – $22 for 2 side salads & one margherita pizza\nMilklab – rotating drink specials
URL:https://durhamfoodhall.com/event/trivia-night-12323/
CATEGORIES:Upcoming Events
END:VEVENT
BEGIN:VEVENT
DTSTART;TZID=America/New_York:20240124T110000
DTEND;TZID=America/New_York:20240124T200000
DTSTAMP:20260421T184355
CREATED:20240104T211908Z
LAST-MODIFIED:20240104T211908Z
UID:5463-1706094000-1706126400@durhamfoodhall.com
SUMMARY:$2 Oysters
DESCRIPTION:Enjoy $2 oysters from Durham Food Hall’s seafood specialists – Local’s Seafood! This is one shell of a deal – happening every Wednesday!
URL:https://durhamfoodhall.com/event/2-oysters-12424/
CATEGORIES:Daily Specials
END:VEVENT
BEGIN:VEVENT
DTSTART;TZID=America/New_York:20240124T110000
DTEND;TZID=America/New_York:20240124T200000
DTSTAMP:20260421T184355
CREATED:20240104T213834Z
LAST-MODIFIED:20240104T213834Z
UID:5499-1706094000-1706126400@durhamfoodhall.com
SUMMARY:Pork Belly Crunchwraps
DESCRIPTION:Try this special crunchwrap concoction featuring pork belly from Ex-Voto every Wednesday at Durham Food Hall!
URL:https://durhamfoodhall.com/event/pork-belly-crunchwraps-12424/
CATEGORIES:Daily Specials
END:VEVENT
BEGIN:VEVENT
DTSTART;TZID=America/New_York:20240124T110000
DTEND;TZID=America/New_York:20240124T210000
DTSTAMP:20260421T184355
CREATED:20240104T213019Z
LAST-MODIFIED:20240104T213019Z
UID:5481-1706094000-1706130000@durhamfoodhall.com
SUMMARY:$25 Bottles of Bubbly
DESCRIPTION:Wednesdays are for champagne at Durham Food Hall – enjoy $25 bottles of bubbly from the Auctioneer Bar!
URL:https://durhamfoodhall.com/event/25-bottles-of-bubbly-12424/
CATEGORIES:Daily Specials
END:VEVENT
BEGIN:VEVENT
DTSTART;TZID=America/New_York:20240125T110000
DTEND;TZID=America/New_York:20240125T200000
DTSTAMP:20260421T184355
CREATED:20240104T200933Z
LAST-MODIFIED:20240104T200933Z
UID:5363-1706180400-1706212800@durhamfoodhall.com
SUMMARY:Fried Shrimp Crunchwraps
DESCRIPTION:Try Ex-Voto’s fried shrimp crunchwrap every Thursday at Durham Food Hall!
URL:https://durhamfoodhall.com/event/fried-shrimp-crunchwraps-12624/
CATEGORIES:Daily Specials
END:VEVENT
BEGIN:VEVENT
DTSTART;TZID=America/New_York:20240126T110000
DTEND;TZID=America/New_York:20240126T200000
DTSTAMP:20260421T184355
CREATED:20240104T202129Z
LAST-MODIFIED:20240104T202129Z
UID:5383-1706266800-1706299200@durhamfoodhall.com
SUMMARY:Carne Asada Crunchwraps
DESCRIPTION:Kick off your weekend every Friday with a specialty carne asada crunchwrap from Ex-Voto in Durham Food Hall!
URL:https://durhamfoodhall.com/event/carne-asada-crunchwraps-12624/
CATEGORIES:Daily Specials
END:VEVENT
BEGIN:VEVENT
DTSTART;TZID=America/New_York:20240127T100000
DTEND;TZID=America/New_York:20240127T200000
DTSTAMP:20260421T184355
CREATED:20240104T210531Z
LAST-MODIFIED:20240104T210531Z
UID:5447-1706349600-1706385600@durhamfoodhall.com
SUMMARY:Breakfast Burritos
DESCRIPTION:You do not want to miss out on your chance for one of Ex-Voto’s massive breakfast burritos! These are available while supplies last every Saturday & Sunday – these go fast\, so hurry in to brunch at Durham Food Hall!
URL:https://durhamfoodhall.com/event/breakfast-burritos-12724/
CATEGORIES:Daily Specials
END:VEVENT
BEGIN:VEVENT
DTSTART;TZID=America/New_York:20240127T100000
DTEND;TZID=America/New_York:20240127T220000
DTSTAMP:20260421T184355
CREATED:20240104T204115Z
LAST-MODIFIED:20240104T204115Z
UID:5417-1706349600-1706392800@durhamfoodhall.com
SUMMARY:$9 House-made Bloody Marys
DESCRIPTION:Enjoy this tasty weekend treat from the Auctioneer Bar – $9 house-made bloody marys every Saturday\, created specially with Napoli’s tomato juice.
URL:https://durhamfoodhall.com/event/9-house-made-bloody-marys-12724/
CATEGORIES:Daily Specials
END:VEVENT
BEGIN:VEVENT
DTSTART;TZID=America/New_York:20240128T100000
DTEND;TZID=America/New_York:20240128T150000
DTSTAMP:20260421T184355
CREATED:20240104T205512Z
LAST-MODIFIED:20240104T205512Z
UID:5433-1706436000-1706454000@durhamfoodhall.com
SUMMARY:Breakfast Burritos
DESCRIPTION:You do not want to miss out on your chance for one of Ex-Voto’s massive breakfast burritos! These are available while supplies last every Saturday & Sunday – these go fast\, so hurry in to brunch at Durham Food Hall!
URL:https://durhamfoodhall.com/event/breakfast-burritos-12824/
CATEGORIES:Daily Specials
END:VEVENT
BEGIN:VEVENT
DTSTART;TZID=America/New_York:20240128T100000
DTEND;TZID=America/New_York:20240128T210000
DTSTAMP:20260421T184355
CREATED:20240104T203211Z
LAST-MODIFIED:20240104T203211Z
UID:5399-1706436000-1706475600@durhamfoodhall.com
SUMMARY:$25 'You Pick 4' Canned Beers
DESCRIPTION:Pick 4 local + craft beers for only $25 at the Auctioneer Bar every Sunday!
URL:https://durhamfoodhall.com/event/25-you-pick-4-canned-beers-12824/
CATEGORIES:Daily Specials
END:VEVENT
BEGIN:VEVENT
DTSTART;VALUE=DATE:20240129
DTEND;VALUE=DATE:20240130
DTSTAMP:20260421T184355
CREATED:20240105T171944Z
LAST-MODIFIED:20240123T200434Z
UID:5547-1706486400-1706572799@durhamfoodhall.com
SUMMARY:Industry Night Specials
DESCRIPTION:Enjoy Industry Night Specials at Durham Food Hall:\nAuctioneer Bar – $10 boiler makers\nLittle Barb’s Bakery – BOGO 50% off pop tarts\nNapoli Pizzeria – $1 off meat & cheese boards after 5pm\nCornerYaki – Half off dashi fries with purchase of entrée after 5pm\nMango Indian Grill – 20% off finger foods with purchase from Auctioneer Bar
URL:https://durhamfoodhall.com/event/industry-night-10-boiler-makers-12924/
CATEGORIES:Daily Specials
END:VEVENT
BEGIN:VEVENT
DTSTART;TZID=America/New_York:20240130T110000
DTEND;TZID=America/New_York:20240130T180000
DTSTAMP:20260421T184355
CREATED:20240108T213559Z
LAST-MODIFIED:20240108T213559Z
UID:5615-1706612400-1706637600@durhamfoodhall.com
SUMMARY:Rotating Drink Specials
DESCRIPTION:Milklab has seasonal & rotating drink specials every Tuesday! Try them next time you’re at Durham Food Hall!
URL:https://durhamfoodhall.com/event/rotating-drink-specials-13024/
CATEGORIES:Daily Specials
END:VEVENT
BEGIN:VEVENT
DTSTART;TZID=America/New_York:20240130T110000
DTEND;TZID=America/New_York:20240130T210000
DTSTAMP:20260421T184355
CREATED:20240108T211336Z
LAST-MODIFIED:20240108T211336Z
UID:5591-1706612400-1706648400@durhamfoodhall.com
SUMMARY:$22 for 2 - House Salad & Margherita Pizza Combo
DESCRIPTION:Get 2 house salads and 1 margherita pizza for only $22 every Tuesday at Napoli in Durham Food Hall! The perfect date night meal is waiting for you – don’t forget to pair it with the Auctioneer Bar’s $6 wine special.
URL:https://durhamfoodhall.com/event/22-for-2-house-salad-margherita-pizza-combo-13024/
CATEGORIES:Daily Specials
END:VEVENT
BEGIN:VEVENT
DTSTART;TZID=America/New_York:20240130T110000
DTEND;TZID=America/New_York:20240130T210000
DTSTAMP:20260421T184355
CREATED:20240108T212746Z
LAST-MODIFIED:20240111T162722Z
UID:5603-1706612400-1706648400@durhamfoodhall.com
SUMMARY:$5 Select Drafts
DESCRIPTION:Enjoy Tuesdays at the Auctioneer Bar with $5 select drafts. This pairs well with the other specials going on at the Hall + Trivia at 6:30pm!
URL:https://durhamfoodhall.com/event/5-select-drafts-6-italian-glasses-of-wine-13024/
CATEGORIES:Daily Specials
END:VEVENT
BEGIN:VEVENT
DTSTART;TZID=America/New_York:20240130T123000
DTEND;TZID=America/New_York:20240130T210000
DTSTAMP:20260421T184355
CREATED:20240105T213036Z
LAST-MODIFIED:20240105T213036Z
UID:5573-1706617800-1706648400@durhamfoodhall.com
SUMMARY:BOGO 50% Off Poptarts
DESCRIPTION:Enjoy some tasty poptarts from Little Barb’s Bakery – buy one\, get one half off every Monday & Tuesday!
URL:https://durhamfoodhall.com/event/bogo-50-off-poptarts-13024/
CATEGORIES:Daily Specials
END:VEVENT
BEGIN:VEVENT
DTSTART;TZID=America/New_York:20240130T183000
DTEND;TZID=America/New_York:20240130T203000
DTSTAMP:20260421T184355
CREATED:20240102T164737Z
LAST-MODIFIED:20240102T164737Z
UID:5347-1706639400-1706646600@durhamfoodhall.com
SUMMARY:Trivia Night
DESCRIPTION:Join us every Tuesday at 6:30pm for Trivia at Durham Food Hall! \nTuesday Specials:\nAuctioneer Bar – $5 select drafts + $6 Italian glasses of wine\nLittle Barb’s Bakery – Poptarts buy one\, get one half off\nNapoli – $22 for 2 side salads & one margherita pizza\nMilklab – rotating drink specials
URL:https://durhamfoodhall.com/event/trivia-night-13023/
CATEGORIES:Upcoming Events
END:VEVENT
BEGIN:VEVENT
DTSTART;TZID=America/New_York:20240131T110000
DTEND;TZID=America/New_York:20240131T200000
DTSTAMP:20260421T184355
CREATED:20240104T212000Z
LAST-MODIFIED:20240104T212000Z
UID:5465-1706698800-1706731200@durhamfoodhall.com
SUMMARY:$2 Oysters
DESCRIPTION:Enjoy $2 oysters from Durham Food Hall’s seafood specialists – Local’s Seafood! This is one shell of a deal – happening every Wednesday!
URL:https://durhamfoodhall.com/event/2-oysters-13124/
CATEGORIES:Daily Specials
END:VEVENT
BEGIN:VEVENT
DTSTART;TZID=America/New_York:20240131T110000
DTEND;TZID=America/New_York:20240131T200000
DTSTAMP:20260421T184355
CREATED:20240104T213950Z
LAST-MODIFIED:20240104T213950Z
UID:5501-1706698800-1706731200@durhamfoodhall.com
SUMMARY:Pork Belly Crunchwraps
DESCRIPTION:Try this special crunchwrap concoction featuring pork belly from Ex-Voto every Wednesday at Durham Food Hall!
URL:https://durhamfoodhall.com/event/pork-belly-crunchwraps-13124/
CATEGORIES:Daily Specials
END:VEVENT
BEGIN:VEVENT
DTSTART;TZID=America/New_York:20240131T110000
DTEND;TZID=America/New_York:20240131T210000
DTSTAMP:20260421T184355
CREATED:20240104T213102Z
LAST-MODIFIED:20240104T213102Z
UID:5483-1706698800-1706734800@durhamfoodhall.com
SUMMARY:$25 Bottles of Bubbly
DESCRIPTION:Wednesdays are for champagne at Durham Food Hall – enjoy $25 bottles of bubbly from the Auctioneer Bar!
URL:https://durhamfoodhall.com/event/25-bottles-of-bubbly-13124/
CATEGORIES:Daily Specials
END:VEVENT
BEGIN:VEVENT
DTSTART;TZID=America/New_York:20240201T110000
DTEND;TZID=America/New_York:20240201T200000
DTSTAMP:20260421T184355
CREATED:20240104T201038Z
LAST-MODIFIED:20240104T201038Z
UID:5365-1706785200-1706817600@durhamfoodhall.com
SUMMARY:Fried Shrimp Crunchwraps
DESCRIPTION:Try Ex-Voto’s fried shrimp crunchwrap every Thursday at Durham Food Hall!
URL:https://durhamfoodhall.com/event/fried-shrimp-crunchwraps-20124/
CATEGORIES:Daily Specials
END:VEVENT
BEGIN:VEVENT
DTSTART;TZID=America/New_York:20240202T090000
DTEND;TZID=America/New_York:20240202T120000
DTSTAMP:20260421T184355
CREATED:20240115T170958Z
LAST-MODIFIED:20240115T171253Z
UID:5637-1706864400-1706875200@durhamfoodhall.com
SUMMARY:Homeschool Board Game Day
DESCRIPTION:Bring your own board or card games to play on the 1st & 3rd Fridays at Durham Food Hall! \nFriday special: Ex-Voto Carne Asada Crunchwraps
URL:https://durhamfoodhall.com/event/homeschool-board-game-day-20224/
CATEGORIES:Upcoming Events
END:VEVENT
BEGIN:VEVENT
DTSTART;TZID=America/New_York:20240202T110000
DTEND;TZID=America/New_York:20240202T200000
DTSTAMP:20260421T184355
CREATED:20240104T202218Z
LAST-MODIFIED:20240104T202218Z
UID:5385-1706871600-1706904000@durhamfoodhall.com
SUMMARY:Carne Asada Crunchwraps
DESCRIPTION:Kick off your weekend every Friday with a specialty carne asada crunchwrap from Ex-Voto in Durham Food Hall!
URL:https://durhamfoodhall.com/event/carne-asada-crunchwraps-20224/
CATEGORIES:Daily Specials
END:VEVENT
BEGIN:VEVENT
DTSTART;TZID=America/New_York:20240203T100000
DTEND;TZID=America/New_York:20240203T200000
DTSTAMP:20260421T184355
CREATED:20240104T210636Z
LAST-MODIFIED:20240104T210636Z
UID:5449-1706954400-1706990400@durhamfoodhall.com
SUMMARY:Breakfast Burritos
DESCRIPTION:You do not want to miss out on your chance for one of Ex-Voto’s massive breakfast burritos! These are available while supplies last every Saturday & Sunday – these go fast\, so hurry in to brunch at Durham Food Hall!
URL:https://durhamfoodhall.com/event/breakfast-burritos-20324/
CATEGORIES:Daily Specials
END:VEVENT
END:VCALENDAR