BEGIN:VCALENDAR
VERSION:2.0
PRODID:-//Durham Food Hall - ECPv6.15.20//NONSGML v1.0//EN
CALSCALE:GREGORIAN
METHOD:PUBLISH
X-ORIGINAL-URL:https://durhamfoodhall.com
X-WR-CALDESC:Events for Durham Food Hall
REFRESH-INTERVAL;VALUE=DURATION:PT1H
X-Robots-Tag:noindex
X-PUBLISHED-TTL:PT1H
BEGIN:VTIMEZONE
TZID:America/New_York
BEGIN:DAYLIGHT
TZOFFSETFROM:-0500
TZOFFSETTO:-0400
TZNAME:EDT
DTSTART:20220313T070000
END:DAYLIGHT
BEGIN:STANDARD
TZOFFSETFROM:-0400
TZOFFSETTO:-0500
TZNAME:EST
DTSTART:20221106T060000
END:STANDARD
BEGIN:DAYLIGHT
TZOFFSETFROM:-0500
TZOFFSETTO:-0400
TZNAME:EDT
DTSTART:20230312T070000
END:DAYLIGHT
BEGIN:STANDARD
TZOFFSETFROM:-0400
TZOFFSETTO:-0500
TZNAME:EST
DTSTART:20231105T060000
END:STANDARD
BEGIN:DAYLIGHT
TZOFFSETFROM:-0500
TZOFFSETTO:-0400
TZNAME:EDT
DTSTART:20240310T070000
END:DAYLIGHT
BEGIN:STANDARD
TZOFFSETFROM:-0400
TZOFFSETTO:-0500
TZNAME:EST
DTSTART:20241103T060000
END:STANDARD
END:VTIMEZONE
BEGIN:VEVENT
DTSTART;TZID=America/New_York:20231210T160000
DTEND;TZID=America/New_York:20231210T180000
DTSTAMP:20260421T193415
CREATED:20231115T151016Z
LAST-MODIFIED:20231115T151157Z
UID:5174-1702224000-1702231200@durhamfoodhall.com
SUMMARY:Holiday Painting Class with Wine & Design
DESCRIPTION:Paint a holiday masterpiece at Durham Food Hall with our friends from Wine & Design! Tickets are limited\, so hurry and grab yours before they’re gone! \nBUY TICKETS HERE!
URL:https://durhamfoodhall.com/event/holiday-painting-class-with-wine-design/
CATEGORIES:Upcoming Events
END:VEVENT
BEGIN:VEVENT
DTSTART;TZID=America/New_York:20231211T110000
DTEND;TZID=America/New_York:20231211T210000
DTSTAMP:20260421T193415
CREATED:20231120T155929Z
LAST-MODIFIED:20231120T155929Z
UID:5205-1702292400-1702328400@durhamfoodhall.com
SUMMARY:Industry Night: $10 Boiler Makers
DESCRIPTION:Enjoy Industry Night at Durham Food Hall! Get $10 Boiler Makers—a Bull Durham Light and LIT shot.
URL:https://durhamfoodhall.com/event/industry-night-10-boiler-makers-121123/
CATEGORIES:Daily Specials
END:VEVENT
BEGIN:VEVENT
DTSTART;TZID=America/New_York:20231211T123000
DTEND;TZID=America/New_York:20231211T210000
DTSTAMP:20260421T193415
CREATED:20231120T155419Z
LAST-MODIFIED:20231120T155419Z
UID:5199-1702297800-1702328400@durhamfoodhall.com
SUMMARY:BOGO 50% Off Poptarts
DESCRIPTION:Enjoy some tasty poptarts from Little Barb’s Bakery – buy one\, get one half off every Monday & Tuesday!
URL:https://durhamfoodhall.com/event/bogo-50-off-poptarts-121123/
CATEGORIES:Daily Specials
END:VEVENT
BEGIN:VEVENT
DTSTART;TZID=America/New_York:20231211T170000
DTEND;TZID=America/New_York:20231211T210000
DTSTAMP:20260421T193415
CREATED:20231120T154425Z
LAST-MODIFIED:20231120T154425Z
UID:5187-1702314000-1702328400@durhamfoodhall.com
SUMMARY:$1 off Formaggi & Meat Boards
DESCRIPTION:Mondays are industry night at Durham Food Hall! Enjoy $1 off formaggi and meat boards at Napoli Pizzeria & Gelateria after 5pm.
URL:https://durhamfoodhall.com/event/1-off-formaggi-meat-boards-121123/
CATEGORIES:Daily Specials
END:VEVENT
BEGIN:VEVENT
DTSTART;TZID=America/New_York:20231211T170000
DTEND;TZID=America/New_York:20231211T210000
DTSTAMP:20260421T193415
CREATED:20231120T155027Z
LAST-MODIFIED:20231120T155124Z
UID:5193-1702314000-1702328400@durhamfoodhall.com
SUMMARY:Half Off Dashi Fries with Purchase of Entrée
DESCRIPTION:Mondays are Industry Night at Durham Food Hall! Enjoy half priced dashi fries at Corner Yaki after 5pm on Mondays with purchase of an entrée!
URL:https://durhamfoodhall.com/event/half-off-dashi-fries-with-purchase-of-entree-121123/
CATEGORIES:Daily Specials
END:VEVENT
BEGIN:VEVENT
DTSTART;TZID=America/New_York:20231212T110000
DTEND;TZID=America/New_York:20231212T180000
DTSTAMP:20260421T193415
CREATED:20231120T162820Z
LAST-MODIFIED:20231120T162820Z
UID:5227-1702378800-1702404000@durhamfoodhall.com
SUMMARY:Rotating Drink Specials
DESCRIPTION:Milklab has seasonal & rotating drink specials every Tuesday! Try them next time you’re at Durham Food Hall!
URL:https://durhamfoodhall.com/event/rotating-drink-specials-121223/
CATEGORIES:Daily Specials
END:VEVENT
BEGIN:VEVENT
DTSTART;TZID=America/New_York:20231212T110000
DTEND;TZID=America/New_York:20231212T210000
DTSTAMP:20260421T193415
CREATED:20231120T160331Z
LAST-MODIFIED:20231120T160331Z
UID:5211-1702378800-1702414800@durhamfoodhall.com
SUMMARY:$5 Select Drafts & $6 Italian Glasses of Wine
DESCRIPTION:Enjoy Tuesdays at the Auctioneer Bar with $5 select drafts and $6 Italian glasses of wine. These pair well with the other specials going on at the Hall + Trivia with David at 7pm!
URL:https://durhamfoodhall.com/event/5-select-drafts-6-italian-glasses-of-wine-121223/
CATEGORIES:Daily Specials
END:VEVENT
BEGIN:VEVENT
DTSTART;TZID=America/New_York:20231212T110000
DTEND;TZID=America/New_York:20231212T210000
DTSTAMP:20260421T193415
CREATED:20231120T162449Z
LAST-MODIFIED:20231120T162449Z
UID:5219-1702378800-1702414800@durhamfoodhall.com
SUMMARY:$22 for 2 - House Salad & Margherita Pizza Combo
DESCRIPTION:Get 2 house salads and 1 margherita pizza for only $22 every Tuesday at Napoli in Durham Food Hall! The perfect date night meal is waiting for you – don’t forget to pair it with the Auctioneer Bar’s $6 wine special.
URL:https://durhamfoodhall.com/event/22-for-2-house-salad-margherita-pizza-combo-121223/
CATEGORIES:Daily Specials
END:VEVENT
BEGIN:VEVENT
DTSTART;TZID=America/New_York:20231212T123000
DTEND;TZID=America/New_York:20231212T210000
DTSTAMP:20260421T193415
CREATED:20231120T171210Z
LAST-MODIFIED:20231120T171210Z
UID:5261-1702384200-1702414800@durhamfoodhall.com
SUMMARY:BOGO 50% Off Poptarts
DESCRIPTION:Enjoy some tasty poptarts from Little Barb’s Bakery – buy one\, get one half off every Monday & Tuesday!
URL:https://durhamfoodhall.com/event/bogo-50-off-poptarts-121223/
CATEGORIES:Daily Specials
END:VEVENT
BEGIN:VEVENT
DTSTART;TZID=America/New_York:20231213T110000
DTEND;TZID=America/New_York:20231213T200000
DTSTAMP:20260421T193415
CREATED:20231120T164907Z
LAST-MODIFIED:20231120T164907Z
UID:5235-1702465200-1702497600@durhamfoodhall.com
SUMMARY:$2 Oysters
DESCRIPTION:Enjoy $2 oysters from Durham Food Hall’s seafood specialists – Local’s Seafood! This is one shell of a deal – happening every Wednesday!
URL:https://durhamfoodhall.com/event/2-oysters-121323/
CATEGORIES:Daily Specials
END:VEVENT
BEGIN:VEVENT
DTSTART;TZID=America/New_York:20231213T110000
DTEND;TZID=America/New_York:20231213T200000
DTSTAMP:20260421T193415
CREATED:20231120T165737Z
LAST-MODIFIED:20231120T165737Z
UID:5243-1702465200-1702497600@durhamfoodhall.com
SUMMARY:Pork Belly Crunchwraps
DESCRIPTION:Try this special crunchwrap concoction featuring pork belly from Ex-Voto every Wednesday at Durham Food Hall!
URL:https://durhamfoodhall.com/event/pork-belly-crunchwraps-121323/
CATEGORIES:Daily Specials
END:VEVENT
BEGIN:VEVENT
DTSTART;TZID=America/New_York:20231213T110000
DTEND;TZID=America/New_York:20231213T210000
DTSTAMP:20260421T193415
CREATED:20231120T170121Z
LAST-MODIFIED:20231120T170121Z
UID:5251-1702465200-1702501200@durhamfoodhall.com
SUMMARY:$25 Bottles of Bubbly
DESCRIPTION:Wednesdays are for champagne at Durham Food Hall – enjoy $25 bottles of bubbly from the Auctioneer Bar!
URL:https://durhamfoodhall.com/event/25-bottles-of-bubbly-121323/
CATEGORIES:Daily Specials
END:VEVENT
BEGIN:VEVENT
DTSTART;TZID=America/New_York:20231214T110000
DTEND;TZID=America/New_York:20231214T200000
DTSTAMP:20260421T193415
CREATED:20231120T171954Z
LAST-MODIFIED:20231120T171954Z
UID:5279-1702551600-1702584000@durhamfoodhall.com
SUMMARY:Fried Shrimp Crunchwraps
DESCRIPTION:Try Ex-Voto’s fried shrimp crunchwrap every Thursday at Durham Food Hall!
URL:https://durhamfoodhall.com/event/fried-shrimp-crunchwraps-121423/
CATEGORIES:Daily Specials
END:VEVENT
BEGIN:VEVENT
DTSTART;TZID=America/New_York:20231215T110000
DTEND;TZID=America/New_York:20231215T200000
DTSTAMP:20260421T193415
CREATED:20231120T171644Z
LAST-MODIFIED:20231120T171644Z
UID:5271-1702638000-1702670400@durhamfoodhall.com
SUMMARY:Carne Asada Crunchwraps
DESCRIPTION:Kick off your weekend every Friday with a specialty carne asada crunchwrap from Ex-Voto in Durham Food Hall!
URL:https://durhamfoodhall.com/event/carne-asada-crunchwraps-121523/
CATEGORIES:Daily Specials
END:VEVENT
BEGIN:VEVENT
DTSTART;TZID=America/New_York:20231216T100000
DTEND;TZID=America/New_York:20231216T200000
DTSTAMP:20260421T193415
CREATED:20231120T181550Z
LAST-MODIFIED:20231120T181550Z
UID:5319-1702720800-1702756800@durhamfoodhall.com
SUMMARY:Breakfast Burritos
DESCRIPTION:You do not want to miss out on your chance for one of Ex-Voto’s massive breakfast burritos! These are available while supplies last every Saturday & Sunday – these go fast\, so hurry in to brunch at Durham Food Hall!
URL:https://durhamfoodhall.com/event/breakfast-burritos-121623/
CATEGORIES:Daily Specials
END:VEVENT
BEGIN:VEVENT
DTSTART;TZID=America/New_York:20231216T100000
DTEND;TZID=America/New_York:20231216T220000
DTSTAMP:20260421T193415
CREATED:20231120T180813Z
LAST-MODIFIED:20231120T180813Z
UID:5309-1702720800-1702764000@durhamfoodhall.com
SUMMARY:$9 House-made Bloody Marys
DESCRIPTION:Enjoy this tasty weekend treat from the Auctioneer Bar – $9 house-made bloody marys every Saturday\, created specially with Napoli’s tomato juice.
URL:https://durhamfoodhall.com/event/9-house-made-bloody-marys-121623/
CATEGORIES:Daily Specials
END:VEVENT
BEGIN:VEVENT
DTSTART;TZID=America/New_York:20231216T180000
DTEND;TZID=America/New_York:20231216T210000
DTSTAMP:20260421T193415
CREATED:20231115T174142Z
LAST-MODIFIED:20231115T174142Z
UID:5181-1702749600-1702760400@durhamfoodhall.com
SUMMARY:Live Music with Relay Relay
DESCRIPTION:Join us for some live tunes on December 16th! Relay Relay will be here to spread some holiday cheer. Come see them & enjoy a bite from our talented vendors + a drink from the Auctioneer Bar!
URL:https://durhamfoodhall.com/event/live-music-with-relay-relay/
CATEGORIES:Upcoming Events
END:VEVENT
BEGIN:VEVENT
DTSTART;TZID=America/New_York:20231217T100000
DTEND;TZID=America/New_York:20231217T150000
DTSTAMP:20260421T193415
CREATED:20231120T180025Z
LAST-MODIFIED:20231120T180025Z
UID:5299-1702807200-1702825200@durhamfoodhall.com
SUMMARY:Breakfast Burritos
DESCRIPTION:You do not want to miss out on your chance for one of Ex-Voto’s massive breakfast burritos! These are available while supplies last every Saturday & Sunday – these go fast\, so hurry in to brunch at Durham Food Hall!
URL:https://durhamfoodhall.com/event/breakfast-burritos-121723/
CATEGORIES:Daily Specials
END:VEVENT
BEGIN:VEVENT
DTSTART;TZID=America/New_York:20231217T100000
DTEND;TZID=America/New_York:20231217T210000
DTSTAMP:20260421T193415
CREATED:20231120T175030Z
LAST-MODIFIED:20231120T175030Z
UID:5289-1702807200-1702846800@durhamfoodhall.com
SUMMARY:$25 'You Pick 4' Canned Beers
DESCRIPTION:Pick 4 local + craft beers for only $25 at the Auctioneer Bar every Sunday!
URL:https://durhamfoodhall.com/event/25-you-pick-4-canned-beers-duplicate-1/
CATEGORIES:Daily Specials
END:VEVENT
BEGIN:VEVENT
DTSTART;TZID=America/New_York:20231217T150000
DTEND;TZID=America/New_York:20231217T170000
DTSTAMP:20260421T193415
CREATED:20231115T184819Z
LAST-MODIFIED:20231115T184819Z
UID:5183-1702825200-1702832400@durhamfoodhall.com
SUMMARY:Little Barb's Bakery Cake Decorating Class
DESCRIPTION:Tickets for this 2 hour class gets you a 2 layer 6 inch vanilla cake! Learn how to decorate a cake from one of the best\, as Barb teaches you the ins and outs of her skills\, while creating some wonderful memories and at the end\, you get to take the cake home!
URL:https://durhamfoodhall.com/event/little-barbs-bakery-cake-decorating-class-121723/
CATEGORIES:Upcoming Events
END:VEVENT
BEGIN:VEVENT
DTSTART;TZID=America/New_York:20231218T110000
DTEND;TZID=America/New_York:20231218T210000
DTSTAMP:20260421T193415
CREATED:20231120T160021Z
LAST-MODIFIED:20231120T160021Z
UID:5207-1702897200-1702933200@durhamfoodhall.com
SUMMARY:Industry Night: $10 Boiler Makers
DESCRIPTION:Enjoy Industry Night at Durham Food Hall! Get $10 Boiler Makers—a Bull Durham Light and LIT shot.
URL:https://durhamfoodhall.com/event/industry-night-10-boiler-makers-121823/
CATEGORIES:Daily Specials
END:VEVENT
BEGIN:VEVENT
DTSTART;TZID=America/New_York:20231218T123000
DTEND;TZID=America/New_York:20231218T210000
DTSTAMP:20260421T193415
CREATED:20231120T155515Z
LAST-MODIFIED:20231120T155515Z
UID:5201-1702902600-1702933200@durhamfoodhall.com
SUMMARY:BOGO 50% Off Poptarts
DESCRIPTION:Enjoy some tasty poptarts from Little Barb’s Bakery – buy one\, get one half off every Monday & Tuesday!
URL:https://durhamfoodhall.com/event/bogo-50-off-poptarts-121823/
CATEGORIES:Daily Specials
END:VEVENT
BEGIN:VEVENT
DTSTART;TZID=America/New_York:20231218T170000
DTEND;TZID=America/New_York:20231218T210000
DTSTAMP:20260421T193415
CREATED:20231120T154517Z
LAST-MODIFIED:20231120T154517Z
UID:5189-1702918800-1702933200@durhamfoodhall.com
SUMMARY:$1 off Formaggi & Meat Boards
DESCRIPTION:Mondays are industry night at Durham Food Hall! Enjoy $1 off formaggi and meat boards at Napoli Pizzeria & Gelateria after 5pm.
URL:https://durhamfoodhall.com/event/1-off-formaggi-meat-boards-121823/
CATEGORIES:Daily Specials
END:VEVENT
BEGIN:VEVENT
DTSTART;TZID=America/New_York:20231218T170000
DTEND;TZID=America/New_York:20231218T210000
DTSTAMP:20260421T193415
CREATED:20231120T155217Z
LAST-MODIFIED:20231120T155217Z
UID:5195-1702918800-1702933200@durhamfoodhall.com
SUMMARY:Half Off Dashi Fries with Purchase of Entrée
DESCRIPTION:Mondays are Industry Night at Durham Food Hall! Enjoy half priced dashi fries at Corner Yaki after 5pm on Mondays with purchase of an entrée!
URL:https://durhamfoodhall.com/event/half-off-dashi-fries-with-purchase-of-entree-121823/
CATEGORIES:Daily Specials
END:VEVENT
BEGIN:VEVENT
DTSTART;TZID=America/New_York:20231218T190000
DTEND;TZID=America/New_York:20231218T210000
DTSTAMP:20260421T193415
CREATED:20231025T154011Z
LAST-MODIFIED:20231107T151205Z
UID:4938-1702926000-1702933200@durhamfoodhall.com
SUMMARY:Holiday Movie Trivia with TP Trivia
DESCRIPTION:Enjoy some holiday movie trivia with our friends from TP Trivia! \nMonday Night Specials:\nAuctioneer Bar – Industry Night: $10 Boilermakers (Bull Durham Light and LIT shot)\nLittle Barb’s Bakery – buy 1 poptart\, get one half off
URL:https://durhamfoodhall.com/event/holiday-movie-trivia-with-tp-trivia/
CATEGORIES:Upcoming Events
END:VEVENT
BEGIN:VEVENT
DTSTART;TZID=America/New_York:20231219T110000
DTEND;TZID=America/New_York:20231219T180000
DTSTAMP:20260421T193415
CREATED:20231120T162858Z
LAST-MODIFIED:20231120T162858Z
UID:5229-1702983600-1703008800@durhamfoodhall.com
SUMMARY:Rotating Drink Specials
DESCRIPTION:Milklab has seasonal & rotating drink specials every Tuesday! Try them next time you’re at Durham Food Hall!
URL:https://durhamfoodhall.com/event/rotating-drink-specials-121923/
CATEGORIES:Daily Specials
END:VEVENT
BEGIN:VEVENT
DTSTART;TZID=America/New_York:20231219T110000
DTEND;TZID=America/New_York:20231219T210000
DTSTAMP:20260421T193415
CREATED:20231120T160541Z
LAST-MODIFIED:20231120T160541Z
UID:5213-1702983600-1703019600@durhamfoodhall.com
SUMMARY:$5 Select Drafts & $6 Italian Glasses of Wine
DESCRIPTION:Enjoy Tuesdays at the Auctioneer Bar with $5 select drafts and $6 Italian glasses of wine. These pair well with the other specials going on at the Hall + Trivia with David at 7pm!
URL:https://durhamfoodhall.com/event/5-select-drafts-6-italian-glasses-of-wine-121923/
CATEGORIES:Daily Specials
END:VEVENT
BEGIN:VEVENT
DTSTART;TZID=America/New_York:20231219T110000
DTEND;TZID=America/New_York:20231219T210000
DTSTAMP:20260421T193415
CREATED:20231120T162534Z
LAST-MODIFIED:20231120T162534Z
UID:5221-1702983600-1703019600@durhamfoodhall.com
SUMMARY:$22 for 2 - House Salad & Margherita Pizza Combo
DESCRIPTION:Get 2 house salads and 1 margherita pizza for only $22 every Tuesday at Napoli in Durham Food Hall! The perfect date night meal is waiting for you – don’t forget to pair it with the Auctioneer Bar’s $6 wine special.
URL:https://durhamfoodhall.com/event/22-for-2-house-salad-margherita-pizza-combo-121923/
CATEGORIES:Daily Specials
END:VEVENT
BEGIN:VEVENT
DTSTART;TZID=America/New_York:20231219T123000
DTEND;TZID=America/New_York:20231219T210000
DTSTAMP:20260421T193415
CREATED:20231120T171258Z
LAST-MODIFIED:20231120T171258Z
UID:5263-1702989000-1703019600@durhamfoodhall.com
SUMMARY:BOGO 50% Off Poptarts
DESCRIPTION:Enjoy some tasty poptarts from Little Barb’s Bakery – buy one\, get one half off every Monday & Tuesday!
URL:https://durhamfoodhall.com/event/bogo-50-off-poptarts-121923/
CATEGORIES:Daily Specials
END:VEVENT
BEGIN:VEVENT
DTSTART;TZID=America/New_York:20231220T110000
DTEND;TZID=America/New_York:20231220T200000
DTSTAMP:20260421T193415
CREATED:20231120T165322Z
LAST-MODIFIED:20231120T165322Z
UID:5237-1703070000-1703102400@durhamfoodhall.com
SUMMARY:$2 Oysters
DESCRIPTION:Enjoy $2 oysters from Durham Food Hall’s seafood specialists – Local’s Seafood! This is one shell of a deal – happening every Wednesday!
URL:https://durhamfoodhall.com/event/2-oysters-122023/
CATEGORIES:Daily Specials
END:VEVENT
END:VCALENDAR