BEGIN:VCALENDAR
VERSION:2.0
PRODID:-//Durham Food Hall - ECPv6.15.20//NONSGML v1.0//EN
CALSCALE:GREGORIAN
METHOD:PUBLISH
X-WR-CALNAME:Durham Food Hall
X-ORIGINAL-URL:https://durhamfoodhall.com
X-WR-CALDESC:Events for Durham Food Hall
REFRESH-INTERVAL;VALUE=DURATION:PT1H
X-Robots-Tag:noindex
X-PUBLISHED-TTL:PT1H
BEGIN:VTIMEZONE
TZID:America/New_York
BEGIN:DAYLIGHT
TZOFFSETFROM:-0500
TZOFFSETTO:-0400
TZNAME:EDT
DTSTART:20240310T070000
END:DAYLIGHT
BEGIN:STANDARD
TZOFFSETFROM:-0400
TZOFFSETTO:-0500
TZNAME:EST
DTSTART:20241103T060000
END:STANDARD
BEGIN:DAYLIGHT
TZOFFSETFROM:-0500
TZOFFSETTO:-0400
TZNAME:EDT
DTSTART:20250309T070000
END:DAYLIGHT
BEGIN:STANDARD
TZOFFSETFROM:-0400
TZOFFSETTO:-0500
TZNAME:EST
DTSTART:20251102T060000
END:STANDARD
BEGIN:DAYLIGHT
TZOFFSETFROM:-0500
TZOFFSETTO:-0400
TZNAME:EDT
DTSTART:20260308T070000
END:DAYLIGHT
BEGIN:STANDARD
TZOFFSETFROM:-0400
TZOFFSETTO:-0500
TZNAME:EST
DTSTART:20261101T060000
END:STANDARD
BEGIN:DAYLIGHT
TZOFFSETFROM:-0500
TZOFFSETTO:-0400
TZNAME:EDT
DTSTART:20270314T070000
END:DAYLIGHT
BEGIN:STANDARD
TZOFFSETFROM:-0400
TZOFFSETTO:-0500
TZNAME:EST
DTSTART:20271107T060000
END:STANDARD
END:VTIMEZONE
BEGIN:VEVENT
DTSTART;TZID=America/New_York:20250703T190000
DTEND;TZID=America/New_York:20250703T210000
DTSTAMP:20260421T063531
CREATED:20250627T121314Z
LAST-MODIFIED:20250627T121314Z
UID:7271-1751569200-1751576400@durhamfoodhall.com
SUMMARY:Trivia Night with TP Trivia
DESCRIPTION:Join us for weekly Trivia! Thursday is the night for all the fun + games with TP Trivia. The Auctioneer Bar will be serving up some tasty drinks\, along with some Fullsteam beer specials! Don’t miss out on an awesome dinner selection by all of our locally owned vendors as well.
URL:https://durhamfoodhall.com/event/trivia-night-with-tp-trivia-070325/
LOCATION:Durham Food Hall\, NC\, United States
CATEGORIES:Upcoming Events
END:VEVENT
BEGIN:VEVENT
DTSTART;TZID=America/New_York:20250710T190000
DTEND;TZID=America/New_York:20250710T210000
DTSTAMP:20260421T063531
CREATED:20250627T121724Z
LAST-MODIFIED:20250627T121724Z
UID:7273-1752174000-1752181200@durhamfoodhall.com
SUMMARY:Trivia Night with TP Trivia
DESCRIPTION:Join us for weekly Trivia! Thursday is the night for all the fun + games with TP Trivia. The Auctioneer Bar will be serving up some tasty drinks\, along with some Fullsteam beer specials! Don’t miss out on an awesome dinner selection by all of our locally owned vendors as well.
URL:https://durhamfoodhall.com/event/trivia-night-with-tp-trivia-071025/
LOCATION:Durham Food Hall\, NC\, United States
CATEGORIES:Upcoming Events
END:VEVENT
BEGIN:VEVENT
DTSTART;TZID=America/New_York:20250717T190000
DTEND;TZID=America/New_York:20250717T210000
DTSTAMP:20260421T063531
CREATED:20250627T121912Z
LAST-MODIFIED:20250627T121912Z
UID:7275-1752778800-1752786000@durhamfoodhall.com
SUMMARY:Trivia Night with TP Trivia
DESCRIPTION:Join us for weekly Trivia! Thursday is the night for all the fun + games with TP Trivia. The Auctioneer Bar will be serving up some tasty drinks\, along with some Fullsteam beer specials! Don’t miss out on an awesome dinner selection by all of our locally owned vendors as well.
URL:https://durhamfoodhall.com/event/trivia-night-with-tp-trivia-071725/
LOCATION:Durham Food Hall\, NC\, United States
CATEGORIES:Upcoming Events
END:VEVENT
BEGIN:VEVENT
DTSTART;TZID=America/New_York:20250724T190000
DTEND;TZID=America/New_York:20250724T210000
DTSTAMP:20260421T063531
CREATED:20250627T122017Z
LAST-MODIFIED:20250627T122017Z
UID:7277-1753383600-1753390800@durhamfoodhall.com
SUMMARY:Trivia Night with TP Trivia
DESCRIPTION:Join us for weekly Trivia! Thursday is the night for all the fun + games with TP Trivia. The Auctioneer Bar will be serving up some tasty drinks\, along with some Fullsteam beer specials! Don’t miss out on an awesome dinner selection by all of our locally owned vendors as well.
URL:https://durhamfoodhall.com/event/trivia-night-with-tp-trivia-072425/
LOCATION:Durham Food Hall\, NC\, United States
CATEGORIES:Upcoming Events
END:VEVENT
BEGIN:VEVENT
DTSTART;TZID=America/New_York:20250731T190000
DTEND;TZID=America/New_York:20250731T210000
DTSTAMP:20260421T063531
CREATED:20250627T122128Z
LAST-MODIFIED:20250627T122128Z
UID:7279-1753988400-1753995600@durhamfoodhall.com
SUMMARY:Trivia Night with TP Trivia
DESCRIPTION:Join us for weekly Trivia! Thursday is the night for all the fun + games with TP Trivia. The Auctioneer Bar will be serving up some tasty drinks\, along with some Fullsteam beer specials! Don’t miss out on an awesome dinner selection by all of our locally owned vendors as well.
URL:https://durhamfoodhall.com/event/trivia-night-with-tp-trivia-073125/
LOCATION:Durham Food Hall\, NC\, United States
CATEGORIES:Upcoming Events
END:VEVENT
BEGIN:VEVENT
DTSTART;TZID=America/New_York:20250802T100000
DTEND;TZID=America/New_York:20250802T130000
DTSTAMP:20260421T063531
CREATED:20250801T154729Z
LAST-MODIFIED:20250801T154729Z
UID:7294-1754128800-1754139600@durhamfoodhall.com
SUMMARY:Coffee & a Case Study
DESCRIPTION:Enjoy specialty coffee while dissecting a real estate case study of a property with over 100% projected returns\, while enjoying specialty coffee. Network with industry professionals and gain valuable insights into high-performing investment opportunities! \nRSVP here.
URL:https://durhamfoodhall.com/event/coffee-a-case-study/
LOCATION:Durham Food Hall\, NC\, United States
CATEGORIES:Upcoming Events
END:VEVENT
BEGIN:VEVENT
DTSTART;TZID=America/New_York:20250807T190000
DTEND;TZID=America/New_York:20250807T210000
DTSTAMP:20260421T063531
CREATED:20250730T175555Z
LAST-MODIFIED:20250730T175555Z
UID:7284-1754593200-1754600400@durhamfoodhall.com
SUMMARY:Trivia Night with TP Trivia
DESCRIPTION:Join us for weekly Trivia! Thursday is the night for all the fun + games with TP Trivia. The Auctioneer Bar will be serving up some tasty drinks\, along with some Fullsteam beer specials! Don’t miss out on an awesome dinner selection by all of our locally owned vendors as well.
URL:https://durhamfoodhall.com/event/trivia-night-with-tp-trivia-080725/
LOCATION:Durham Food Hall\, NC\, United States
CATEGORIES:Upcoming Events
END:VEVENT
BEGIN:VEVENT
DTSTART;TZID=America/New_York:20250810T160000
DTEND;TZID=America/New_York:20250810T180000
DTSTAMP:20260421T063531
CREATED:20250801T155009Z
LAST-MODIFIED:20250801T155009Z
UID:7296-1754841600-1754848800@durhamfoodhall.com
SUMMARY:Comedy Showcase w/ Miz Chitchat
DESCRIPTION:Join us every second Sunday of the month for a showcase of 4-5 comedians both local and national.  \nBuy Tickets Here.
URL:https://durhamfoodhall.com/event/comedy-showcase-w-miz-chitchat/
LOCATION:Durham Food Hall\, NC\, United States
CATEGORIES:Upcoming Events
END:VEVENT
BEGIN:VEVENT
DTSTART;TZID=America/New_York:20250814T190000
DTEND;TZID=America/New_York:20250814T210000
DTSTAMP:20260421T063531
CREATED:20250730T175716Z
LAST-MODIFIED:20250730T175716Z
UID:7286-1755198000-1755205200@durhamfoodhall.com
SUMMARY:Trivia Night with TP Trivia
DESCRIPTION:Join us for weekly Trivia! Thursday is the night for all the fun + games with TP Trivia. The Auctioneer Bar will be serving up some tasty drinks\, along with some Fullsteam beer specials! Don’t miss out on an awesome dinner selection by all of our locally owned vendors as well.
URL:https://durhamfoodhall.com/event/trivia-night-with-tp-trivia-081425/
LOCATION:Durham Food Hall\, NC\, United States
CATEGORIES:Upcoming Events
END:VEVENT
BEGIN:VEVENT
DTSTART;TZID=America/New_York:20250815T180000
DTEND;TZID=America/New_York:20250815T210000
DTSTAMP:20260421T063531
CREATED:20250801T155325Z
LAST-MODIFIED:20250801T155325Z
UID:7298-1755280800-1755291600@durhamfoodhall.com
SUMMARY:Third Friday
DESCRIPTION:Join us for another Durham Third Friday in the Loose Leaf Gallery! \nThis is presented by Words That Work™ in Partnership with The Scrap Exchange and is open to the public! \nThis month is featuring:\nWild Things & Found Things\nArtists: Jason C. Hill\, Noah Leesnitzer and Lynnette Paris Johnson \nMeet the artists\, enjoy live music\, and a PWYC Artmaking Workshop\, along with food & drinks from Durham Food Hall vendors! \nLearn More.
URL:https://durhamfoodhall.com/event/third-friday/
LOCATION:Durham Food Hall\, NC\, United States
CATEGORIES:Upcoming Events
END:VEVENT
BEGIN:VEVENT
DTSTART;TZID=America/New_York:20250819T180000
DTEND;TZID=America/New_York:20250819T210000
DTSTAMP:20260421T063531
CREATED:20250801T155749Z
LAST-MODIFIED:20250801T155749Z
UID:7302-1755626400-1755637200@durhamfoodhall.com
SUMMARY:Raleigh-Durham A11y: The Accessibility Meetup
DESCRIPTION:Join a group for software developers\, designers\, and others interested in creating and maintaining accessible (a11y) digital and physical spaces and communication tools to gather together and discuss all things #a11y. \nTopics include\, but not limited to\, designing and building accessible user interfaces\, assistive technologies\, WCAG\, the European Accessibility Act (EAA)\, Section 508\, visible and hidden disabilities\, accommodations… \nLearn more here.
URL:https://durhamfoodhall.com/event/raleigh-durham-a11y-the-accessibility-meetup/
LOCATION:Durham Food Hall\, NC\, United States
CATEGORIES:Upcoming Events
END:VEVENT
BEGIN:VEVENT
DTSTART;TZID=America/New_York:20250819T183000
DTEND;TZID=America/New_York:20250819T210000
DTSTAMP:20260421T063531
CREATED:20250801T155533Z
LAST-MODIFIED:20250801T155533Z
UID:7300-1755628200-1755637200@durhamfoodhall.com
SUMMARY:Mahjong Night
DESCRIPTION:Join us for a cozy evening of mahjong\, drinks\, and community at Durham Food Hall! \nWhether you’re building confidence or ready to play independently\, we’ve got a seat for you: \nBeginners Lesson – $45\nPerfect for anyone and everyone interested in mahjong! No experience necessary. \nOpen Play – $15\nFor experienced players who feel comfortable jumping right in and playing on their own. \nSeats are secured upon payment. \nCome early and enjoy dinner at one of the food hall’s many vendors! \nSign up now!
URL:https://durhamfoodhall.com/event/mahjong-night/
LOCATION:Durham Food Hall\, NC\, United States
CATEGORIES:Upcoming Events
END:VEVENT
BEGIN:VEVENT
DTSTART;TZID=America/New_York:20250821T190000
DTEND;TZID=America/New_York:20250821T210000
DTSTAMP:20260421T063531
CREATED:20250730T175819Z
LAST-MODIFIED:20250730T175819Z
UID:7288-1755802800-1755810000@durhamfoodhall.com
SUMMARY:Trivia Night with TP Trivia
DESCRIPTION:Join us for weekly Trivia! Thursday is the night for all the fun + games with TP Trivia. The Auctioneer Bar will be serving up some tasty drinks\, along with some Fullsteam beer specials! Don’t miss out on an awesome dinner selection by all of our locally owned vendors as well.
URL:https://durhamfoodhall.com/event/trivia-night-with-tp-trivia-082125/
LOCATION:Durham Food Hall\, NC\, United States
CATEGORIES:Upcoming Events
END:VEVENT
BEGIN:VEVENT
DTSTART;TZID=America/New_York:20250828T190000
DTEND;TZID=America/New_York:20250828T210000
DTSTAMP:20260421T063531
CREATED:20250730T175911Z
LAST-MODIFIED:20250730T175911Z
UID:7290-1756407600-1756414800@durhamfoodhall.com
SUMMARY:Trivia Night with TP Trivia
DESCRIPTION:Join us for weekly Trivia! Thursday is the night for all the fun + games with TP Trivia. The Auctioneer Bar will be serving up some tasty drinks\, along with some Fullsteam beer specials! Don’t miss out on an awesome dinner selection by all of our locally owned vendors as well.
URL:https://durhamfoodhall.com/event/trivia-night-with-tp-trivia-082825/
LOCATION:Durham Food Hall\, NC\, United States
CATEGORIES:Upcoming Events
END:VEVENT
BEGIN:VEVENT
DTSTART;TZID=America/New_York:20250904T190000
DTEND;TZID=America/New_York:20250904T210000
DTSTAMP:20260421T063531
CREATED:20250730T175434Z
LAST-MODIFIED:20250730T175948Z
UID:7282-1757012400-1757019600@durhamfoodhall.com
SUMMARY:Trivia Night with TP Trivia
DESCRIPTION:Join us for weekly Trivia! Thursday is the night for all the fun + games with TP Trivia. The Auctioneer Bar will be serving up some tasty drinks\, along with some Fullsteam beer specials! Don’t miss out on an awesome dinner selection by all of our locally owned vendors as well.
URL:https://durhamfoodhall.com/event/trivia-night-with-tp-trivia-090425/
LOCATION:Durham Food Hall\, NC\, United States
CATEGORIES:Upcoming Events
END:VEVENT
BEGIN:VEVENT
DTSTART;TZID=America/New_York:20250906T100000
DTEND;TZID=America/New_York:20250906T130000
DTSTAMP:20260421T063531
CREATED:20250821T150503Z
LAST-MODIFIED:20250821T150503Z
UID:7315-1757152800-1757163600@durhamfoodhall.com
SUMMARY:Coffee & a Case Study
DESCRIPTION:Enjoy specialty coffee while dissecting a real estate case study of a property with over 100% projected returns\, while enjoying specialty coffee. Network with industry professionals and gain valuable insights into high-performing investment opportunities! \nRSVP here.
URL:https://durhamfoodhall.com/event/coffee-a-case-study-sept/
LOCATION:Durham Food Hall\, NC\, United States
CATEGORIES:Upcoming Events
END:VEVENT
BEGIN:VEVENT
DTSTART;TZID=America/New_York:20250911T190000
DTEND;TZID=America/New_York:20250911T210000
DTSTAMP:20260421T063531
CREATED:20250821T145815Z
LAST-MODIFIED:20250821T145815Z
UID:7305-1757617200-1757624400@durhamfoodhall.com
SUMMARY:Trivia Night with TP Trivia
DESCRIPTION:Join us for weekly Trivia! Thursday is the night for all the fun + games with TP Trivia. The Auctioneer Bar will be serving up some tasty drinks\, along with some Fullsteam beer specials! Don’t miss out on an awesome dinner selection by all of our locally owned vendors as well.
URL:https://durhamfoodhall.com/event/trivia-night-with-tp-trivia-91125/
LOCATION:Durham Food Hall\, NC\, United States
CATEGORIES:Upcoming Events
END:VEVENT
BEGIN:VEVENT
DTSTART;TZID=America/New_York:20250916T180000
DTEND;TZID=America/New_York:20250916T210000
DTSTAMP:20260421T063531
CREATED:20250821T150359Z
LAST-MODIFIED:20250821T150359Z
UID:7313-1758045600-1758056400@durhamfoodhall.com
SUMMARY:Raleigh-Durham A11y: The Accessibility Meetup
DESCRIPTION:Join a group for software developers\, designers\, and others interested in creating and maintaining accessible (a11y) digital and physical spaces and communication tools to gather together and discuss all things #a11y. \nTopics include\, but not limited to\, designing and building accessible user interfaces\, assistive technologies\, WCAG\, the European Accessibility Act (EAA)\, Section 508\, visible and hidden disabilities\, accommodations… \nLearn more here.
URL:https://durhamfoodhall.com/event/raleigh-durham-a11y-the-accessibility-meetup-sept/
LOCATION:Durham Food Hall\, NC\, United States
CATEGORIES:Upcoming Events
END:VEVENT
BEGIN:VEVENT
DTSTART;TZID=America/New_York:20250918T190000
DTEND;TZID=America/New_York:20250918T210000
DTSTAMP:20260421T063531
CREATED:20250821T145937Z
LAST-MODIFIED:20250821T145937Z
UID:7307-1758222000-1758229200@durhamfoodhall.com
SUMMARY:Trivia Night with TP Trivia
DESCRIPTION:Join us for weekly Trivia! Thursday is the night for all the fun + games with TP Trivia. The Auctioneer Bar will be serving up some tasty drinks\, along with some Fullsteam beer specials! Don’t miss out on an awesome dinner selection by all of our locally owned vendors as well.
URL:https://durhamfoodhall.com/event/trivia-night-with-tp-trivia-91825/
LOCATION:Durham Food Hall\, NC\, United States
CATEGORIES:Upcoming Events
END:VEVENT
BEGIN:VEVENT
DTSTART;TZID=America/New_York:20250925T190000
DTEND;TZID=America/New_York:20250925T210000
DTSTAMP:20260421T063531
CREATED:20250821T150117Z
LAST-MODIFIED:20250821T150117Z
UID:7309-1758826800-1758834000@durhamfoodhall.com
SUMMARY:Trivia Night with TP Trivia
DESCRIPTION:Join us for weekly Trivia! Thursday is the night for all the fun + games with TP Trivia. The Auctioneer Bar will be serving up some tasty drinks\, along with some Fullsteam beer specials! Don’t miss out on an awesome dinner selection by all of our locally owned vendors as well.
URL:https://durhamfoodhall.com/event/trivia-night-with-tp-trivia-92525/
LOCATION:Durham Food Hall\, NC\, United States
CATEGORIES:Upcoming Events
END:VEVENT
BEGIN:VEVENT
DTSTART;TZID=America/New_York:20251002T190000
DTEND;TZID=America/New_York:20251002T210000
DTSTAMP:20260421T063531
CREATED:20251002T142653Z
LAST-MODIFIED:20251002T142653Z
UID:7319-1759431600-1759438800@durhamfoodhall.com
SUMMARY:Trivia Night with TP Trivia
DESCRIPTION:Join us for weekly Trivia! Thursday is the night for all the fun + games with TP Trivia. The Auctioneer Bar will be serving up some tasty drinks\, along with some Fullsteam beer specials! Don’t miss out on an awesome dinner selection by all of our locally owned vendors as well.
URL:https://durhamfoodhall.com/event/trivia-night-with-tp-trivia-100225/
LOCATION:Durham Food Hall\, NC\, United States
CATEGORIES:Upcoming Events
END:VEVENT
BEGIN:VEVENT
DTSTART;TZID=America/New_York:20251004T100000
DTEND;TZID=America/New_York:20251004T130000
DTSTAMP:20260421T063531
CREATED:20251002T144311Z
LAST-MODIFIED:20251002T144311Z
UID:7329-1759572000-1759582800@durhamfoodhall.com
SUMMARY:Coffee & a Case Study
DESCRIPTION:Enjoy specialty coffee while dissecting a real estate case study of a property with over 100% projected returns\, while enjoying specialty coffee. Network with industry professionals and gain valuable insights into high-performing investment opportunities! \nRSVP here.
URL:https://durhamfoodhall.com/event/coffee-a-case-study-100425/
LOCATION:Durham Food Hall\, NC\, United States
CATEGORIES:Upcoming Events
END:VEVENT
BEGIN:VEVENT
DTSTART;TZID=America/New_York:20251009T190000
DTEND;TZID=America/New_York:20251009T210000
DTSTAMP:20260421T063531
CREATED:20251002T142758Z
LAST-MODIFIED:20251002T142758Z
UID:7321-1760036400-1760043600@durhamfoodhall.com
SUMMARY:Trivia Night with TP Trivia
DESCRIPTION:Join us for weekly Trivia! Thursday is the night for all the fun + games with TP Trivia. The Auctioneer Bar will be serving up some tasty drinks\, along with some Fullsteam beer specials! Don’t miss out on an awesome dinner selection by all of our locally owned vendors as well.
URL:https://durhamfoodhall.com/event/trivia-night-with-tp-trivia-100925/
LOCATION:Durham Food Hall\, NC\, United States
CATEGORIES:Upcoming Events
END:VEVENT
BEGIN:VEVENT
DTSTART;TZID=America/New_York:20251016T190000
DTEND;TZID=America/New_York:20251016T210000
DTSTAMP:20260421T063531
CREATED:20251002T142836Z
LAST-MODIFIED:20251002T142836Z
UID:7323-1760641200-1760648400@durhamfoodhall.com
SUMMARY:Trivia Night with TP Trivia
DESCRIPTION:Join us for weekly Trivia! Thursday is the night for all the fun + games with TP Trivia. The Auctioneer Bar will be serving up some tasty drinks\, along with some Fullsteam beer specials! Don’t miss out on an awesome dinner selection by all of our locally owned vendors as well.
URL:https://durhamfoodhall.com/event/trivia-night-with-tp-trivia-101625/
LOCATION:Durham Food Hall\, NC\, United States
CATEGORIES:Upcoming Events
END:VEVENT
BEGIN:VEVENT
DTSTART;TZID=America/New_York:20251021T180000
DTEND;TZID=America/New_York:20251021T210000
DTSTAMP:20260421T063531
CREATED:20251002T144441Z
LAST-MODIFIED:20251002T144441Z
UID:7331-1761069600-1761080400@durhamfoodhall.com
SUMMARY:Raleigh-Durham A11y: The Accessibility Meetup
DESCRIPTION:Join a group for software developers\, designers\, and others interested in creating and maintaining accessible (a11y) digital and physical spaces and communication tools to gather together and discuss all things #a11y. \nTopics include\, but not limited to\, designing and building accessible user interfaces\, assistive technologies\, WCAG\, the European Accessibility Act (EAA)\, Section 508\, visible and hidden disabilities\, accommodations… \nLearn more here.
URL:https://durhamfoodhall.com/event/raleigh-durham-a11y-the-accessibility-meetup-102125/
LOCATION:Durham Food Hall\, NC\, United States
CATEGORIES:Upcoming Events
END:VEVENT
BEGIN:VEVENT
DTSTART;TZID=America/New_York:20251023T190000
DTEND;TZID=America/New_York:20251023T210000
DTSTAMP:20260421T063531
CREATED:20251002T142946Z
LAST-MODIFIED:20251002T142946Z
UID:7325-1761246000-1761253200@durhamfoodhall.com
SUMMARY:Trivia Night with TP Trivia
DESCRIPTION:Join us for weekly Trivia! Thursday is the night for all the fun + games with TP Trivia. The Auctioneer Bar will be serving up some tasty drinks\, along with some Fullsteam beer specials! Don’t miss out on an awesome dinner selection by all of our locally owned vendors as well.
URL:https://durhamfoodhall.com/event/trivia-night-with-tp-trivia-102325/
LOCATION:Durham Food Hall\, NC\, United States
CATEGORIES:Upcoming Events
END:VEVENT
BEGIN:VEVENT
DTSTART;TZID=America/New_York:20251026T100000
DTEND;TZID=America/New_York:20251026T110000
DTSTAMP:20260421T063531
CREATED:20250306T021037Z
LAST-MODIFIED:20251002T144815Z
UID:7172-1761472800-1761476400@durhamfoodhall.com
SUMMARY:Sip & Sweat with Midtown Yoga
DESCRIPTION:Bring your mat and join us in our Loose Leaf Gallery upstairs for an all-levels MY flow experience. After class\, stay for a drink from the Auctioneer Bar. Class is FREE\, but space is limited. Reserve your spot before it’s full!\n			\n				Reserve your spot!
URL:https://durhamfoodhall.com/event/sip-sweat-with-midtown-yoga-oct/
LOCATION:Durham Food Hall\, NC\, United States
CATEGORIES:Upcoming Events
END:VEVENT
BEGIN:VEVENT
DTSTART;TZID=America/New_York:20251030T190000
DTEND;TZID=America/New_York:20251030T210000
DTSTAMP:20260421T063531
CREATED:20251002T143104Z
LAST-MODIFIED:20251002T143104Z
UID:7327-1761850800-1761858000@durhamfoodhall.com
SUMMARY:Trivia Night with TP Trivia
DESCRIPTION:Join us for weekly Trivia! Thursday is the night for all the fun + games with TP Trivia. The Auctioneer Bar will be serving up some tasty drinks\, along with some Fullsteam beer specials! Don’t miss out on an awesome dinner selection by all of our locally owned vendors as well.
URL:https://durhamfoodhall.com/event/trivia-night-with-tp-trivia-103025/
LOCATION:Durham Food Hall\, NC\, United States
CATEGORIES:Upcoming Events
END:VEVENT
BEGIN:VEVENT
DTSTART;TZID=America/New_York:20251213T110000
DTEND;TZID=America/New_York:20251213T130000
DTSTAMP:20260421T063531
CREATED:20251201T173350Z
LAST-MODIFIED:20251211T141157Z
UID:7348-1765623600-1765630800@durhamfoodhall.com
SUMMARY:Brunch with Santa
DESCRIPTION:SANTA is coming to town! Join us as the big man himself poses for photos at Durham Food Hall on December 13th! There will be face painting\, letters to Santa\, reindeer games\, and MORE! Come stop by & enjoy some brunch & drinks from our vendors as well!
URL:https://durhamfoodhall.com/event/brunch-with-santa-121325/
LOCATION:Durham Food Hall\, NC\, United States
CATEGORIES:Upcoming Events
END:VEVENT
BEGIN:VEVENT
DTSTART;TZID=America/New_York:20260111T130000
DTEND;TZID=America/New_York:20260111T160000
DTSTAMP:20260421T063531
CREATED:20251230T202540Z
LAST-MODIFIED:20251230T202540Z
UID:7356-1768136400-1768147200@durhamfoodhall.com
SUMMARY:Iron Heroes: An Exhibition of Work by the 2025 Cohort
DESCRIPTION:Join us for this free event in our Looseleaf Gallery upstairs at Durham Food Hall. Light bites & beverages will be available for purchase at the Riggs lounge bar.
URL:https://durhamfoodhall.com/event/iron-heroes-an-exhibition-of-work-by-the-2025-cohort/
LOCATION:Durham Food Hall\, NC\, United States
CATEGORIES:Upcoming Events
END:VEVENT
END:VCALENDAR