BEGIN:VCALENDAR
VERSION:2.0
PRODID:-//Durham Food Hall - ECPv6.15.20//NONSGML v1.0//EN
CALSCALE:GREGORIAN
METHOD:PUBLISH
X-WR-CALNAME:Durham Food Hall
X-ORIGINAL-URL:https://durhamfoodhall.com
X-WR-CALDESC:Events for Durham Food Hall
REFRESH-INTERVAL;VALUE=DURATION:PT1H
X-Robots-Tag:noindex
X-PUBLISHED-TTL:PT1H
BEGIN:VTIMEZONE
TZID:America/New_York
BEGIN:DAYLIGHT
TZOFFSETFROM:-0500
TZOFFSETTO:-0400
TZNAME:EDT
DTSTART:20210314T070000
END:DAYLIGHT
BEGIN:STANDARD
TZOFFSETFROM:-0400
TZOFFSETTO:-0500
TZNAME:EST
DTSTART:20211107T060000
END:STANDARD
BEGIN:DAYLIGHT
TZOFFSETFROM:-0500
TZOFFSETTO:-0400
TZNAME:EDT
DTSTART:20220313T070000
END:DAYLIGHT
BEGIN:STANDARD
TZOFFSETFROM:-0400
TZOFFSETTO:-0500
TZNAME:EST
DTSTART:20221106T060000
END:STANDARD
BEGIN:DAYLIGHT
TZOFFSETFROM:-0500
TZOFFSETTO:-0400
TZNAME:EDT
DTSTART:20230312T070000
END:DAYLIGHT
BEGIN:STANDARD
TZOFFSETFROM:-0400
TZOFFSETTO:-0500
TZNAME:EST
DTSTART:20231105T060000
END:STANDARD
END:VTIMEZONE
BEGIN:VEVENT
DTSTART;TZID=America/New_York:20221103T110000
DTEND;TZID=America/New_York:20221103T210000
DTSTAMP:20260421T125709
CREATED:20221027T170704Z
LAST-MODIFIED:20221027T171241Z
UID:3178-1667473200-1667509200@durhamfoodhall.com
SUMMARY:Auctioneer Bar: $5 NC Drafts
DESCRIPTION:Enjoy some delicious & local craft brews on tap for only $5 every Thursday at the Auctioneer Bar!
URL:https://durhamfoodhall.com/event/auctioneer-bar-nc-brewery-night/
LOCATION:NC
END:VEVENT
BEGIN:VEVENT
DTSTART;TZID=America/New_York:20221103T110000
DTEND;TZID=America/New_York:20221103T200000
DTSTAMP:20260421T125709
CREATED:20221027T171214Z
LAST-MODIFIED:20221027T171326Z
UID:3182-1667473200-1667505600@durhamfoodhall.com
SUMMARY:Old North Meats: $5 Smash Burgers
DESCRIPTION:Enjoy $5 smash burgers from Old North Meats every Thursday!
URL:https://durhamfoodhall.com/event/old-north-meats-5-smash-burgers/
LOCATION:NC
END:VEVENT
BEGIN:VEVENT
DTSTART;TZID=America/New_York:20221102T190000
DTEND;TZID=America/New_York:20221102T210000
DTSTAMP:20260421T125709
CREATED:20221027T145727Z
LAST-MODIFIED:20221101T180237Z
UID:3168-1667415600-1667422800@durhamfoodhall.com
SUMMARY:Movie Night - Wild Wild West
DESCRIPTION:
URL:https://durhamfoodhall.com/event/movie-night/
LOCATION:NC
END:VEVENT
BEGIN:VEVENT
DTSTART;TZID=America/New_York:20221102T110000
DTEND;TZID=America/New_York:20221102T200000
DTSTAMP:20260421T125709
CREATED:20221027T145624Z
LAST-MODIFIED:20221028T172538Z
UID:3166-1667386800-1667419200@durhamfoodhall.com
SUMMARY:Locals Seafood: $2 Raw Oysters
DESCRIPTION:
URL:https://durhamfoodhall.com/event/locals-seafood-2-raw-oysters/
LOCATION:NC
ATTACH;FMTTYPE=image/jpeg:https://durhamfoodhall.com/wp-content/uploads/2019/08/Raw-NC-oysters-on-the-half-shell-at-Locals-Oyster-Bar.jpg
END:VEVENT
BEGIN:VEVENT
DTSTART;TZID=America/New_York:20221030T110000
DTEND;TZID=America/New_York:20221030T210000
DTSTAMP:20260421T125709
CREATED:20221027T145329Z
LAST-MODIFIED:20221027T171544Z
UID:3164-1667127600-1667163600@durhamfoodhall.com
SUMMARY:Auctioneer Bar: $6 Mimosas & $4 Tall Boy Cans
DESCRIPTION:$6 Mimosas & $4 tall boys at the Auctioneer Bar!
URL:https://durhamfoodhall.com/event/auctioneer-bar-6-mimosas-4-tall-boy-cans/
LOCATION:NC
END:VEVENT
BEGIN:VEVENT
DTSTART;TZID=America/New_York:20221027T180000
DTEND;TZID=America/New_York:20221027T200000
DTSTAMP:20260421T125709
CREATED:20221007T213734Z
LAST-MODIFIED:20221011T225215Z
UID:3001-1666893600-1666900800@durhamfoodhall.com
SUMMARY:Spooky Vinyl Night
DESCRIPTION:Kick off Halloween weekend and celebrate all things vinyl with us! We’re hosting some of our favorite vendors\, so get ready for some spooky fun:\n\nVinyl record painting class with Aminah from AceHenna. ($25 tickets are required to participate)\nPop up record shop hosted by Thirsty Pigeon Records\nLive tunes supplied by DJ Rhymic from Oak City Soul\nBeer samples from Steel String Brewery\nFall cocktail features from the Auctioneer Bar\nTasty eats from all of our food hall vendors\n\n 
URL:https://durhamfoodhall.com/event/spooky-vinyl-night/
LOCATION:Durham Food Hall\, NC\, United States
END:VEVENT
END:VCALENDAR