BEGIN:VCALENDAR
VERSION:2.0
PRODID:-//Durham Food Hall - ECPv6.15.20//NONSGML v1.0//EN
CALSCALE:GREGORIAN
METHOD:PUBLISH
X-ORIGINAL-URL:https://durhamfoodhall.com
X-WR-CALDESC:Events for Durham Food Hall
REFRESH-INTERVAL;VALUE=DURATION:PT1H
X-Robots-Tag:noindex
X-PUBLISHED-TTL:PT1H
BEGIN:VTIMEZONE
TZID:America/New_York
BEGIN:DAYLIGHT
TZOFFSETFROM:-0500
TZOFFSETTO:-0400
TZNAME:EDT
DTSTART:20220313T070000
END:DAYLIGHT
BEGIN:STANDARD
TZOFFSETFROM:-0400
TZOFFSETTO:-0500
TZNAME:EST
DTSTART:20221106T060000
END:STANDARD
BEGIN:DAYLIGHT
TZOFFSETFROM:-0500
TZOFFSETTO:-0400
TZNAME:EDT
DTSTART:20230312T070000
END:DAYLIGHT
BEGIN:STANDARD
TZOFFSETFROM:-0400
TZOFFSETTO:-0500
TZNAME:EST
DTSTART:20231105T060000
END:STANDARD
BEGIN:DAYLIGHT
TZOFFSETFROM:-0500
TZOFFSETTO:-0400
TZNAME:EDT
DTSTART:20240310T070000
END:DAYLIGHT
BEGIN:STANDARD
TZOFFSETFROM:-0400
TZOFFSETTO:-0500
TZNAME:EST
DTSTART:20241103T060000
END:STANDARD
BEGIN:DAYLIGHT
TZOFFSETFROM:-0500
TZOFFSETTO:-0400
TZNAME:EDT
DTSTART:20250309T070000
END:DAYLIGHT
BEGIN:STANDARD
TZOFFSETFROM:-0400
TZOFFSETTO:-0500
TZNAME:EST
DTSTART:20251102T060000
END:STANDARD
END:VTIMEZONE
BEGIN:VEVENT
DTSTART;TZID=America/New_York:20231226T110000
DTEND;TZID=America/New_York:20231226T210000
DTSTAMP:20260419T171852
CREATED:20231120T160750Z
LAST-MODIFIED:20231120T160750Z
UID:5215-1703588400-1703624400@durhamfoodhall.com
SUMMARY:$5 Select Drafts & $6 Italian Glasses of Wine
DESCRIPTION:Enjoy Tuesdays at the Auctioneer Bar with $5 select drafts and $6 Italian glasses of wine. These pair well with the other specials going on at the Hall + Trivia with David at 7pm!
URL:https://durhamfoodhall.com/event/5-select-drafts-6-italian-glasses-of-wine-122623/
CATEGORIES:Daily Specials
END:VEVENT
BEGIN:VEVENT
DTSTART;TZID=America/New_York:20231226T110000
DTEND;TZID=America/New_York:20231226T210000
DTSTAMP:20260419T171852
CREATED:20231120T162623Z
LAST-MODIFIED:20231120T162623Z
UID:5223-1703588400-1703624400@durhamfoodhall.com
SUMMARY:$22 for 2 - House Salad & Margherita Pizza Combo
DESCRIPTION:Get 2 house salads and 1 margherita pizza for only $22 every Tuesday at Napoli in Durham Food Hall! The perfect date night meal is waiting for you – don’t forget to pair it with the Auctioneer Bar’s $6 wine special.
URL:https://durhamfoodhall.com/event/22-for-2-house-salad-margherita-pizza-combo-122623/
CATEGORIES:Daily Specials
END:VEVENT
BEGIN:VEVENT
DTSTART;TZID=America/New_York:20231226T123000
DTEND;TZID=America/New_York:20231226T210000
DTSTAMP:20260419T171852
CREATED:20231120T171348Z
LAST-MODIFIED:20231120T171348Z
UID:5265-1703593800-1703624400@durhamfoodhall.com
SUMMARY:BOGO 50% Off Poptarts
DESCRIPTION:Enjoy some tasty poptarts from Little Barb’s Bakery – buy one\, get one half off every Monday & Tuesday!
URL:https://durhamfoodhall.com/event/bogo-50-off-poptarts-122623/
CATEGORIES:Daily Specials
END:VEVENT
BEGIN:VEVENT
DTSTART;TZID=America/New_York:20231227T110000
DTEND;TZID=America/New_York:20231227T200000
DTSTAMP:20260419T171852
CREATED:20231120T165413Z
LAST-MODIFIED:20231120T165413Z
UID:5239-1703674800-1703707200@durhamfoodhall.com
SUMMARY:$2 Oysters
DESCRIPTION:Enjoy $2 oysters from Durham Food Hall’s seafood specialists – Local’s Seafood! This is one shell of a deal – happening every Wednesday!
URL:https://durhamfoodhall.com/event/2-oysters-122723/
CATEGORIES:Daily Specials
END:VEVENT
BEGIN:VEVENT
DTSTART;TZID=America/New_York:20231227T110000
DTEND;TZID=America/New_York:20231227T200000
DTSTAMP:20260419T171852
CREATED:20231120T165910Z
LAST-MODIFIED:20231120T165910Z
UID:5247-1703674800-1703707200@durhamfoodhall.com
SUMMARY:Pork Belly Crunchwraps
DESCRIPTION:Try this special crunchwrap concoction featuring pork belly from Ex-Voto every Wednesday at Durham Food Hall!
URL:https://durhamfoodhall.com/event/pork-belly-crunchwraps-122723/
CATEGORIES:Daily Specials
END:VEVENT
BEGIN:VEVENT
DTSTART;TZID=America/New_York:20231227T110000
DTEND;TZID=America/New_York:20231227T210000
DTSTAMP:20260419T171852
CREATED:20231120T170639Z
LAST-MODIFIED:20231120T170639Z
UID:5255-1703674800-1703710800@durhamfoodhall.com
SUMMARY:$25 Bottles of Bubbly
DESCRIPTION:Wednesdays are for champagne at Durham Food Hall – enjoy $25 bottles of bubbly from the Auctioneer Bar!
URL:https://durhamfoodhall.com/event/25-bottles-of-bubbly-122723/
CATEGORIES:Daily Specials
END:VEVENT
BEGIN:VEVENT
DTSTART;TZID=America/New_York:20231228T110000
DTEND;TZID=America/New_York:20231228T200000
DTSTAMP:20260419T171852
CREATED:20231120T172253Z
LAST-MODIFIED:20231120T172253Z
UID:5283-1703761200-1703793600@durhamfoodhall.com
SUMMARY:Fried Shrimp Crunchwraps
DESCRIPTION:Try Ex-Voto’s fried shrimp crunchwrap every Thursday at Durham Food Hall!
URL:https://durhamfoodhall.com/event/fried-shrimp-crunchwraps-122823/
CATEGORIES:Daily Specials
END:VEVENT
BEGIN:VEVENT
DTSTART;TZID=America/New_York:20231229T110000
DTEND;TZID=America/New_York:20231229T200000
DTSTAMP:20260419T171852
CREATED:20231120T171811Z
LAST-MODIFIED:20231120T171811Z
UID:5275-1703847600-1703880000@durhamfoodhall.com
SUMMARY:Carne Asada Crunchwraps
DESCRIPTION:Kick off your weekend every Friday with a specialty carne asada crunchwrap from Ex-Voto in Durham Food Hall!
URL:https://durhamfoodhall.com/event/carne-asada-crunchwraps-122923/
CATEGORIES:Daily Specials
END:VEVENT
BEGIN:VEVENT
DTSTART;TZID=America/New_York:20231230T100000
DTEND;TZID=America/New_York:20231230T200000
DTSTAMP:20260419T171852
CREATED:20231120T181853Z
LAST-MODIFIED:20231120T181853Z
UID:5323-1703930400-1703966400@durhamfoodhall.com
SUMMARY:Breakfast Burritos
DESCRIPTION:You do not want to miss out on your chance for one of Ex-Voto’s massive breakfast burritos! These are available while supplies last every Saturday & Sunday – these go fast\, so hurry in to brunch at Durham Food Hall!
URL:https://durhamfoodhall.com/event/breakfast-burritos-123023/
CATEGORIES:Daily Specials
END:VEVENT
BEGIN:VEVENT
DTSTART;TZID=America/New_York:20231230T100000
DTEND;TZID=America/New_York:20231230T220000
DTSTAMP:20260419T171852
CREATED:20231120T180958Z
LAST-MODIFIED:20231120T180958Z
UID:5313-1703930400-1703973600@durhamfoodhall.com
SUMMARY:$9 House-made Bloody Marys
DESCRIPTION:Enjoy this tasty weekend treat from the Auctioneer Bar – $9 house-made bloody marys every Saturday\, created specially with Napoli’s tomato juice.
URL:https://durhamfoodhall.com/event/9-house-made-bloody-marys-123023/
CATEGORIES:Daily Specials
END:VEVENT
BEGIN:VEVENT
DTSTART;TZID=America/New_York:20231231T100000
DTEND;TZID=America/New_York:20231231T150000
DTSTAMP:20260419T171852
CREATED:20231120T180220Z
LAST-MODIFIED:20231120T180220Z
UID:5303-1704016800-1704034800@durhamfoodhall.com
SUMMARY:Breakfast Burritos
DESCRIPTION:You do not want to miss out on your chance for one of Ex-Voto’s massive breakfast burritos! These are available while supplies last every Saturday & Sunday – these go fast\, so hurry in to brunch at Durham Food Hall!
URL:https://durhamfoodhall.com/event/breakfast-burritos-123123/
CATEGORIES:Daily Specials
END:VEVENT
BEGIN:VEVENT
DTSTART;TZID=America/New_York:20231231T100000
DTEND;TZID=America/New_York:20231231T160000
DTSTAMP:20260419T171852
CREATED:20231120T175459Z
LAST-MODIFIED:20231120T175517Z
UID:5293-1704016800-1704038400@durhamfoodhall.com
SUMMARY:$25 'You Pick 4' Canned Beers
DESCRIPTION:Pick 4 local + craft beers for only $25 at the Auctioneer Bar every Sunday! We will be closing at 4pm on New Year’s Eve.
URL:https://durhamfoodhall.com/event/25-you-pick-4-canned-beers-duplicate-123123/
CATEGORIES:Daily Specials
END:VEVENT
BEGIN:VEVENT
DTSTART;TZID=America/New_York:20240101T063000
DTEND;TZID=America/New_York:20240101T210000
DTSTAMP:20260419T171852
CREATED:20231219T214330Z
LAST-MODIFIED:20231219T214330Z
UID:5336-1704090600-1704142800@durhamfoodhall.com
SUMMARY:Closed - Happy New Year!
DESCRIPTION:We will be closed on New Year’s Day. We will resume regular hours on Tuesday\, January 2nd.
URL:https://durhamfoodhall.com/event/closed-happy-new-year/
CATEGORIES:Daily Specials,Upcoming Events
END:VEVENT
BEGIN:VEVENT
DTSTART;TZID=America/New_York:20240104T110000
DTEND;TZID=America/New_York:20240104T200000
DTSTAMP:20260419T171852
CREATED:20240104T200511Z
LAST-MODIFIED:20240104T200511Z
UID:5357-1704366000-1704398400@durhamfoodhall.com
SUMMARY:Fried Shrimp Crunchwraps
DESCRIPTION:Try Ex-Voto’s fried shrimp crunchwrap every Thursday at Durham Food Hall!
URL:https://durhamfoodhall.com/event/fried-shrimp-crunchwraps-010424/
CATEGORIES:Daily Specials
END:VEVENT
BEGIN:VEVENT
DTSTART;TZID=America/New_York:20240105T110000
DTEND;TZID=America/New_York:20240105T200000
DTSTAMP:20260419T171852
CREATED:20240104T201903Z
LAST-MODIFIED:20240104T201903Z
UID:5377-1704452400-1704484800@durhamfoodhall.com
SUMMARY:Carne Asada Crunchwraps
DESCRIPTION:Kick off your weekend every Friday with a specialty carne asada crunchwrap from Ex-Voto in Durham Food Hall!
URL:https://durhamfoodhall.com/event/carne-asada-crunchwraps-10524/
CATEGORIES:Daily Specials
END:VEVENT
BEGIN:VEVENT
DTSTART;TZID=America/New_York:20240106T100000
DTEND;TZID=America/New_York:20240106T200000
DTSTAMP:20260419T171852
CREATED:20240104T210109Z
LAST-MODIFIED:20240104T210109Z
UID:5441-1704535200-1704571200@durhamfoodhall.com
SUMMARY:Breakfast Burritos
DESCRIPTION:You do not want to miss out on your chance for one of Ex-Voto’s massive breakfast burritos! These are available while supplies last every Saturday & Sunday – these go fast\, so hurry in to brunch at Durham Food Hall!
URL:https://durhamfoodhall.com/event/breakfast-burritos-10624/
CATEGORIES:Daily Specials
END:VEVENT
BEGIN:VEVENT
DTSTART;TZID=America/New_York:20240106T100000
DTEND;TZID=America/New_York:20240106T220000
DTSTAMP:20260419T171852
CREATED:20240104T203827Z
LAST-MODIFIED:20240104T203827Z
UID:5411-1704535200-1704578400@durhamfoodhall.com
SUMMARY:$9 House-made Bloody Marys
DESCRIPTION:Enjoy this tasty weekend treat from the Auctioneer Bar – $9 house-made bloody marys every Saturday\, created specially with Napoli’s tomato juice.
URL:https://durhamfoodhall.com/event/9-house-made-bloody-marys-10624/
CATEGORIES:Daily Specials
END:VEVENT
BEGIN:VEVENT
DTSTART;TZID=America/New_York:20240107T100000
DTEND;TZID=America/New_York:20240107T150000
DTSTAMP:20260419T171852
CREATED:20240104T204959Z
LAST-MODIFIED:20240104T204959Z
UID:5427-1704621600-1704639600@durhamfoodhall.com
SUMMARY:Breakfast Burritos
DESCRIPTION:You do not want to miss out on your chance for one of Ex-Voto’s massive breakfast burritos! These are available while supplies last every Saturday & Sunday – these go fast\, so hurry in to brunch at Durham Food Hall!
URL:https://durhamfoodhall.com/event/breakfast-burritos-10724/
CATEGORIES:Daily Specials
END:VEVENT
BEGIN:VEVENT
DTSTART;TZID=America/New_York:20240107T100000
DTEND;TZID=America/New_York:20240107T210000
DTSTAMP:20260419T171852
CREATED:20240104T202911Z
LAST-MODIFIED:20240104T202911Z
UID:5393-1704621600-1704661200@durhamfoodhall.com
SUMMARY:$25 'You Pick 4' Canned Beers
DESCRIPTION:Pick 4 local + craft beers for only $25 at the Auctioneer Bar every Sunday!
URL:https://durhamfoodhall.com/event/25-you-pick-4-canned-beers-10724/
CATEGORIES:Daily Specials
END:VEVENT
BEGIN:VEVENT
DTSTART;TZID=America/New_York:20240108T110000
DTEND;TZID=America/New_York:20240108T210000
DTSTAMP:20260419T171852
CREATED:20240104T220352Z
LAST-MODIFIED:20240104T220352Z
UID:5538-1704711600-1704747600@durhamfoodhall.com
SUMMARY:Industry Night: $10 Boiler Makers
DESCRIPTION:Enjoy Industry Night at Durham Food Hall! Get $10 Boiler Makers—a Bull Durham Light and a shot.
URL:https://durhamfoodhall.com/event/industry-night-10-boiler-makers-10824/
CATEGORIES:Daily Specials
END:VEVENT
BEGIN:VEVENT
DTSTART;TZID=America/New_York:20240108T123000
DTEND;TZID=America/New_York:20240108T210000
DTSTAMP:20260419T171852
CREATED:20240104T220602Z
LAST-MODIFIED:20240104T220602Z
UID:5540-1704717000-1704747600@durhamfoodhall.com
SUMMARY:BOGO 50% Off Poptarts
DESCRIPTION:Enjoy some tasty poptarts from Little Barb’s Bakery – buy one\, get one half off every Monday & Tuesday!
URL:https://durhamfoodhall.com/event/bogo-50-off-poptarts-10824/
CATEGORIES:Daily Specials
END:VEVENT
BEGIN:VEVENT
DTSTART;TZID=America/New_York:20240108T170000
DTEND;TZID=America/New_York:20240108T210000
DTSTAMP:20260419T171852
CREATED:20240104T215801Z
LAST-MODIFIED:20240104T215801Z
UID:5529-1704733200-1704747600@durhamfoodhall.com
SUMMARY:Half Off Dashi Fries with Purchase of Entrée
DESCRIPTION:Mondays are Industry Night at Durham Food Hall! Enjoy half priced dashi fries at Corner Yaki after 5pm on Mondays with purchase of an entrée!
URL:https://durhamfoodhall.com/event/half-off-dashi-fries-10824/
CATEGORIES:Daily Specials
END:VEVENT
BEGIN:VEVENT
DTSTART;TZID=America/New_York:20240108T170000
DTEND;TZID=America/New_York:20240108T210000
DTSTAMP:20260419T171852
CREATED:20240104T220020Z
LAST-MODIFIED:20240104T220020Z
UID:5533-1704733200-1704747600@durhamfoodhall.com
SUMMARY:$1 off Formaggi & Meat Boards
DESCRIPTION:Mondays are industry night at Durham Food Hall! Enjoy $1 off formaggi and meat boards at Napoli Pizzeria & Gelateria after 5pm.
URL:https://durhamfoodhall.com/event/1-off-formaggi-meat-boards-10824/
CATEGORIES:Daily Specials
END:VEVENT
BEGIN:VEVENT
DTSTART;TZID=America/New_York:20240109T110000
DTEND;TZID=America/New_York:20240109T180000
DTSTAMP:20260419T171852
CREATED:20240104T214605Z
LAST-MODIFIED:20240104T214605Z
UID:5511-1704798000-1704823200@durhamfoodhall.com
SUMMARY:Rotating Drink Specials
DESCRIPTION:Milklab has seasonal & rotating drink specials every Tuesday! Try them next time you’re at Durham Food Hall!
URL:https://durhamfoodhall.com/event/rotating-drink-specials-10624/
CATEGORIES:Daily Specials
END:VEVENT
BEGIN:VEVENT
DTSTART;TZID=America/New_York:20240109T110000
DTEND;TZID=America/New_York:20240109T210000
DTSTAMP:20260419T171852
CREATED:20240104T214829Z
LAST-MODIFIED:20240104T214829Z
UID:5517-1704798000-1704834000@durhamfoodhall.com
SUMMARY:$5 Select Drafts & $6 Italian Glasses of Wine
DESCRIPTION:Enjoy Tuesdays at the Auctioneer Bar with $5 select drafts and $6 Italian glasses of wine. These pair well with the other specials going on at the Hall + Trivia at 6:30pm!
URL:https://durhamfoodhall.com/event/5-select-drafts-6-italian-glasses-of-wine-20924/
CATEGORIES:Daily Specials
END:VEVENT
BEGIN:VEVENT
DTSTART;TZID=America/New_York:20240109T110000
DTEND;TZID=America/New_York:20240109T210000
DTSTAMP:20260419T171852
CREATED:20240104T215129Z
LAST-MODIFIED:20240104T215129Z
UID:5521-1704798000-1704834000@durhamfoodhall.com
SUMMARY:$22 for 2 - House Salad & Margherita Pizza Combo
DESCRIPTION:Get 2 house salads and 1 margherita pizza for only $22 every Tuesday at Napoli in Durham Food Hall! The perfect date night meal is waiting for you – don’t forget to pair it with the Auctioneer Bar’s $6 wine special.
URL:https://durhamfoodhall.com/event/22-for-2-house-salad-margherita-pizza-combo-10924/
CATEGORIES:Daily Specials
END:VEVENT
BEGIN:VEVENT
DTSTART;TZID=America/New_York:20240109T123000
DTEND;TZID=America/New_York:20240109T210000
DTSTAMP:20260419T171852
CREATED:20240104T215434Z
LAST-MODIFIED:20240104T215434Z
UID:5525-1704803400-1704834000@durhamfoodhall.com
SUMMARY:BOGO 50% Off Poptarts
DESCRIPTION:Enjoy some tasty poptarts from Little Barb’s Bakery – buy one\, get one half off every Monday & Tuesday!
URL:https://durhamfoodhall.com/event/bogo-50-off-poptarts-10924/
CATEGORIES:Daily Specials
END:VEVENT
BEGIN:VEVENT
DTSTART;TZID=America/New_York:20240110T110000
DTEND;TZID=America/New_York:20240110T200000
DTSTAMP:20260419T171852
CREATED:20240104T211541Z
LAST-MODIFIED:20240104T211541Z
UID:5459-1704884400-1704916800@durhamfoodhall.com
SUMMARY:$2 Oysters
DESCRIPTION:Enjoy $2 oysters from Durham Food Hall’s seafood specialists – Local’s Seafood! This is one shell of a deal – happening every Wednesday!
URL:https://durhamfoodhall.com/event/2-oysters-11024/
CATEGORIES:Daily Specials
END:VEVENT
BEGIN:VEVENT
DTSTART;TZID=America/New_York:20240110T110000
DTEND;TZID=America/New_York:20240110T200000
DTSTAMP:20260419T171852
CREATED:20240104T213712Z
LAST-MODIFIED:20240104T213712Z
UID:5495-1704884400-1704916800@durhamfoodhall.com
SUMMARY:Pork Belly Crunchwraps
DESCRIPTION:Try this special crunchwrap concoction featuring pork belly from Ex-Voto every Wednesday at Durham Food Hall!
URL:https://durhamfoodhall.com/event/pork-belly-crunchwraps-11024/
CATEGORIES:Daily Specials
END:VEVENT
BEGIN:VEVENT
DTSTART;TZID=America/New_York:20240110T110000
DTEND;TZID=America/New_York:20240110T210000
DTSTAMP:20260419T171852
CREATED:20240104T212725Z
LAST-MODIFIED:20240104T212725Z
UID:5477-1704884400-1704920400@durhamfoodhall.com
SUMMARY:$25 Bottles of Bubbly
DESCRIPTION:Wednesdays are for champagne at Durham Food Hall – enjoy $25 bottles of bubbly from the Auctioneer Bar!
URL:https://durhamfoodhall.com/event/25-bottles-of-bubbly-11024/
CATEGORIES:Daily Specials
END:VEVENT
END:VCALENDAR