BEGIN:VCALENDAR
VERSION:2.0
PRODID:-//Durham Food Hall - ECPv6.15.20//NONSGML v1.0//EN
CALSCALE:GREGORIAN
METHOD:PUBLISH
X-ORIGINAL-URL:https://durhamfoodhall.com
X-WR-CALDESC:Events for Durham Food Hall
REFRESH-INTERVAL;VALUE=DURATION:PT1H
X-Robots-Tag:noindex
X-PUBLISHED-TTL:PT1H
BEGIN:VTIMEZONE
TZID:America/New_York
BEGIN:DAYLIGHT
TZOFFSETFROM:-0500
TZOFFSETTO:-0400
TZNAME:EDT
DTSTART:20230312T070000
END:DAYLIGHT
BEGIN:STANDARD
TZOFFSETFROM:-0400
TZOFFSETTO:-0500
TZNAME:EST
DTSTART:20231105T060000
END:STANDARD
BEGIN:DAYLIGHT
TZOFFSETFROM:-0500
TZOFFSETTO:-0400
TZNAME:EDT
DTSTART:20240310T070000
END:DAYLIGHT
BEGIN:STANDARD
TZOFFSETFROM:-0400
TZOFFSETTO:-0500
TZNAME:EST
DTSTART:20241103T060000
END:STANDARD
BEGIN:DAYLIGHT
TZOFFSETFROM:-0500
TZOFFSETTO:-0400
TZNAME:EDT
DTSTART:20250309T070000
END:DAYLIGHT
BEGIN:STANDARD
TZOFFSETFROM:-0400
TZOFFSETTO:-0500
TZNAME:EST
DTSTART:20251102T060000
END:STANDARD
END:VTIMEZONE
BEGIN:VEVENT
DTSTART;TZID=America/New_York:20240322T110000
DTEND;TZID=America/New_York:20240322T200000
DTSTAMP:20260420T222016
CREATED:20240227T171016Z
LAST-MODIFIED:20240227T171016Z
UID:6034-1711105200-1711137600@durhamfoodhall.com
SUMMARY:Ex-Voto: Carne Asada Crunchwraps
DESCRIPTION:Kick off your weekend every Friday with a specialty carne asada crunchwrap from Ex-Voto in Durham Food Hall!
URL:https://durhamfoodhall.com/event/ex-voto-carne-asada-crunchwraps-032224/
CATEGORIES:Daily Specials
END:VEVENT
BEGIN:VEVENT
DTSTART;TZID=America/New_York:20240323T100000
DTEND;TZID=America/New_York:20240323T200000
DTSTAMP:20260420T222016
CREATED:20240227T230329Z
LAST-MODIFIED:20240227T230329Z
UID:6052-1711188000-1711224000@durhamfoodhall.com
SUMMARY:Ex-Voto: Breakfast Burritos
DESCRIPTION:You do not want to miss out on your chance for one of Ex-Voto’s massive breakfast burritos! These are available while supplies last every Saturday & Sunday – these go fast\, so hurry in to brunch at Durham Food Hall!
URL:https://durhamfoodhall.com/event/ex-voto-breakfast-burritos-032324/
CATEGORIES:Daily Specials
END:VEVENT
BEGIN:VEVENT
DTSTART;TZID=America/New_York:20240323T100000
DTEND;TZID=America/New_York:20240323T220000
DTSTAMP:20260420T222016
CREATED:20240227T231123Z
LAST-MODIFIED:20240227T231123Z
UID:6068-1711188000-1711231200@durhamfoodhall.com
SUMMARY:Auctioneer Bar: $9 House-made Bloody Marys
DESCRIPTION:Enjoy this tasty weekend treat from the Auctioneer Bar – $9 house-made bloody marys every Saturday\, created specially with Napoli’s tomato juice.
URL:https://durhamfoodhall.com/event/auctioneer-bar-9-house-made-bloody-marys-032324/
CATEGORIES:Daily Specials
END:VEVENT
BEGIN:VEVENT
DTSTART;TZID=America/New_York:20240324T100000
DTEND;TZID=America/New_York:20240324T150000
DTSTAMP:20260420T222016
CREATED:20240227T230645Z
LAST-MODIFIED:20240227T230645Z
UID:6060-1711274400-1711292400@durhamfoodhall.com
SUMMARY:Ex-Voto: Breakfast Burritos
DESCRIPTION:You do not want to miss out on your chance for one of Ex-Voto’s massive breakfast burritos! These are available while supplies last every Saturday & Sunday – these go fast\, so hurry in to brunch at Durham Food Hall!
URL:https://durhamfoodhall.com/event/ex-voto-breakfast-burritos-032424/
CATEGORIES:Daily Specials
END:VEVENT
BEGIN:VEVENT
DTSTART;TZID=America/New_York:20240324T100000
DTEND;TZID=America/New_York:20240324T210000
DTSTAMP:20260420T222016
CREATED:20240227T171416Z
LAST-MODIFIED:20240227T171416Z
UID:6040-1711274400-1711314000@durhamfoodhall.com
SUMMARY:Auctioneer Bar: $20 'You Pick 4' Canned Beers
DESCRIPTION:Pick 4 local + craft beers for only $20 at the Auctioneer Bar every Sunday!
URL:https://durhamfoodhall.com/event/auctioneer-bar-20-you-pick-4-canned-beers-032424/
CATEGORIES:Daily Specials
END:VEVENT
BEGIN:VEVENT
DTSTART;VALUE=DATE:20240325
DTEND;VALUE=DATE:20240326
DTSTAMP:20260420T222016
CREATED:20240227T165929Z
LAST-MODIFIED:20240227T170001Z
UID:6020-1711324800-1711411199@durhamfoodhall.com
SUMMARY:Industry Night Specials
DESCRIPTION:Enjoy Industry Night Specials at Durham Food Hall:\nAuctioneer Bar – $10 boiler makers\nLittle Barb’s Bakery – BOGO 50% off pop tarts\nNapoli Pizzeria – $1 off meat & cheese boards after 5pm\nCornerYaki – Half off dashi fries with purchase of entrée after 5pm\nMango Indian Grill – 20% off finger foods with purchase from Auctioneer Bar
URL:https://durhamfoodhall.com/event/industry-night-specials-032524/
CATEGORIES:Daily Specials
END:VEVENT
BEGIN:VEVENT
DTSTART;TZID=America/New_York:20240325T063000
DTEND;TZID=America/New_York:20240325T080000
DTSTAMP:20260420T222016
CREATED:20240304T005118Z
LAST-MODIFIED:20240304T005118Z
UID:6165-1711348200-1711353600@durhamfoodhall.com
SUMMARY:Everything Bagels & Liturgy Beverage: 10% off between 6:30-8am
DESCRIPTION:Enjoy the “Earliest Breakfast in Town” at Everything Bagels and Liturgy Beverage every weekday! Celebrate being an early riser with 10% off your order between 6:30am-8am.
URL:https://durhamfoodhall.com/event/everything-bagels-liturgy-beverage-10-off-between-630-8am-032524/
CATEGORIES:Daily Specials
END:VEVENT
BEGIN:VEVENT
DTSTART;TZID=America/New_York:20240326T063000
DTEND;TZID=America/New_York:20240326T080000
DTSTAMP:20260420T222016
CREATED:20240304T005152Z
LAST-MODIFIED:20240304T005152Z
UID:6167-1711434600-1711440000@durhamfoodhall.com
SUMMARY:Everything Bagels & Liturgy Beverage: 10% off between 6:30-8am
DESCRIPTION:Enjoy the “Earliest Breakfast in Town” at Everything Bagels and Liturgy Beverage every weekday! Celebrate being an early riser with 10% off your order between 6:30am-8am.
URL:https://durhamfoodhall.com/event/everything-bagels-liturgy-beverage-10-off-between-630-8am-032624/
CATEGORIES:Daily Specials
END:VEVENT
BEGIN:VEVENT
DTSTART;TZID=America/New_York:20240326T110000
DTEND;TZID=America/New_York:20240326T180000
DTSTAMP:20260420T222016
CREATED:20240304T013134Z
LAST-MODIFIED:20240304T013134Z
UID:6199-1711450800-1711476000@durhamfoodhall.com
SUMMARY:Milklab: Rotating Drink Specials
DESCRIPTION:Milklab has seasonal & rotating drink specials every Tuesday! Try them next time you’re at Durham Food Hall!
URL:https://durhamfoodhall.com/event/milklab-rotating-drink-specials-032624/
CATEGORIES:Daily Specials
END:VEVENT
BEGIN:VEVENT
DTSTART;TZID=America/New_York:20240326T110000
DTEND;TZID=America/New_York:20240326T210000
DTSTAMP:20260420T222016
CREATED:20240304T005827Z
LAST-MODIFIED:20240304T005827Z
UID:6181-1711450800-1711486800@durhamfoodhall.com
SUMMARY:Auctioneer Bar: $5 Select Drafts
DESCRIPTION:Enjoy Tuesdays at the Auctioneer Bar with $5 select drafts. This pairs well with the other specials going on at the Hall + Trivia at 6:30pm!
URL:https://durhamfoodhall.com/event/auctioneer-bar-5-select-drafts-032624/
CATEGORIES:Daily Specials
END:VEVENT
BEGIN:VEVENT
DTSTART;TZID=America/New_York:20240326T110000
DTEND;TZID=America/New_York:20240326T210000
DTSTAMP:20260420T222016
CREATED:20240304T012802Z
LAST-MODIFIED:20240304T012802Z
UID:6189-1711450800-1711486800@durhamfoodhall.com
SUMMARY:Napoli Pizzeria: $22 for 2 - House Salad & Margherita Pizza Combo
DESCRIPTION:Get 2 house salads and 1 margherita pizza for only $22 every Tuesday at Napoli in Durham Food Hall! The perfect date night meal is waiting for you – don’t forget to pair it with the Auctioneer Bar’s $6 wine special.
URL:https://durhamfoodhall.com/event/napoli-pizzeria-22-for-2-house-salad-margherita-pizza-combo-032624/
CATEGORIES:Daily Specials
END:VEVENT
BEGIN:VEVENT
DTSTART;TZID=America/New_York:20240326T110000
DTEND;TZID=America/New_York:20240326T210000
DTSTAMP:20260420T222016
CREATED:20240304T013621Z
LAST-MODIFIED:20240304T013621Z
UID:6207-1711450800-1711486800@durhamfoodhall.com
SUMMARY:Mango Indian Grill: 20% off Finger Foods
DESCRIPTION:Enjoy 20% off Finger Foods at Mango Indian Grill every Monday & Tuesday. *Must show proof of purchase from Auctioneer Bar
URL:https://durhamfoodhall.com/event/mango-indian-grill-20-off-finger-foods-032624/
CATEGORIES:Daily Specials
END:VEVENT
BEGIN:VEVENT
DTSTART;TZID=America/New_York:20240326T123000
DTEND;TZID=America/New_York:20240326T210000
DTSTAMP:20260420T222016
CREATED:20240304T014015Z
LAST-MODIFIED:20240304T014015Z
UID:6215-1711456200-1711486800@durhamfoodhall.com
SUMMARY:Little Barb's Bakery: BOGO 50% Off Poptarts
DESCRIPTION:Enjoy some tasty poptarts from Little Barb’s Bakery – buy one\, get one half off every Monday & Tuesday!
URL:https://durhamfoodhall.com/event/little-barbs-bakery-bogo-50-off-poptarts-032624/
CATEGORIES:Daily Specials
END:VEVENT
BEGIN:VEVENT
DTSTART;TZID=America/New_York:20240327T063000
DTEND;TZID=America/New_York:20240327T080000
DTSTAMP:20260420T222016
CREATED:20240304T005224Z
LAST-MODIFIED:20240304T005224Z
UID:6169-1711521000-1711526400@durhamfoodhall.com
SUMMARY:Everything Bagels & Liturgy Beverage: 10% off between 6:30-8am
DESCRIPTION:Enjoy the “Earliest Breakfast in Town” at Everything Bagels and Liturgy Beverage every weekday! Celebrate being an early riser with 10% off your order between 6:30am-8am.
URL:https://durhamfoodhall.com/event/everything-bagels-liturgy-beverage-10-off-between-630-8am-032724/
CATEGORIES:Daily Specials
END:VEVENT
BEGIN:VEVENT
DTSTART;TZID=America/New_York:20240327T110000
DTEND;TZID=America/New_York:20240327T200000
DTSTAMP:20260420T222016
CREATED:20240228T010024Z
LAST-MODIFIED:20240228T010024Z
UID:6096-1711537200-1711569600@durhamfoodhall.com
SUMMARY:Locals Seafood: $2 Oysters
DESCRIPTION:Enjoy $2 oysters from Durham Food Hall’s seafood specialists – Local’s Seafood! This is one shell of a deal – happening every Wednesday!
URL:https://durhamfoodhall.com/event/locals-seafood-2-oysters-032724/
CATEGORIES:Daily Specials
END:VEVENT
BEGIN:VEVENT
DTSTART;TZID=America/New_York:20240327T110000
DTEND;TZID=America/New_York:20240327T200000
DTSTAMP:20260420T222016
CREATED:20240304T005429Z
LAST-MODIFIED:20240304T005429Z
UID:6173-1711537200-1711569600@durhamfoodhall.com
SUMMARY:Ex-Voto: Pork Belly Crunchwraps
DESCRIPTION:Try this special crunchwrap concoction featuring pork belly from Ex-Voto every Wednesday at Durham Food Hall!
URL:https://durhamfoodhall.com/event/ex-voto-pork-belly-crunchwraps-032724/
CATEGORIES:Daily Specials
END:VEVENT
BEGIN:VEVENT
DTSTART;TZID=America/New_York:20240327T110000
DTEND;TZID=America/New_York:20240327T210000
DTSTAMP:20260420T222016
CREATED:20240228T005240Z
LAST-MODIFIED:20240228T005240Z
UID:6088-1711537200-1711573200@durhamfoodhall.com
SUMMARY:Auctioneer Bar: $25 Bottles of Bubbly
DESCRIPTION:Wednesdays are for champagne at Durham Food Hall – enjoy $25 bottles of bubbly from the Auctioneer Bar!
URL:https://durhamfoodhall.com/event/auctioneer-bar-25-bottles-of-bubbly-032724/
CATEGORIES:Daily Specials
END:VEVENT
BEGIN:VEVENT
DTSTART;TZID=America/New_York:20240328T063000
DTEND;TZID=America/New_York:20240328T080000
DTSTAMP:20260420T222016
CREATED:20240304T005259Z
LAST-MODIFIED:20240304T005259Z
UID:6171-1711607400-1711612800@durhamfoodhall.com
SUMMARY:Everything Bagels & Liturgy Beverage: 10% off between 6:30-8am
DESCRIPTION:Enjoy the “Earliest Breakfast in Town” at Everything Bagels and Liturgy Beverage every weekday! Celebrate being an early riser with 10% off your order between 6:30am-8am.
URL:https://durhamfoodhall.com/event/everything-bagels-liturgy-beverage-10-off-between-630-8am-032824/
CATEGORIES:Daily Specials
END:VEVENT
BEGIN:VEVENT
DTSTART;TZID=America/New_York:20240328T110000
DTEND;TZID=America/New_York:20240328T200000
DTSTAMP:20260420T222016
CREATED:20240228T004710Z
LAST-MODIFIED:20240228T004710Z
UID:6080-1711623600-1711656000@durhamfoodhall.com
SUMMARY:Ex-Voto: Fried Shrimp Crunchwraps
DESCRIPTION:Try Ex-Voto’s fried shrimp crunchwrap every Thursday at Durham Food Hall!
URL:https://durhamfoodhall.com/event/ex-voto-fried-shrimp-crunchwraps-032824/
CATEGORIES:Daily Specials
END:VEVENT
BEGIN:VEVENT
DTSTART;TZID=America/New_York:20240328T110000
DTEND;TZID=America/New_York:20240328T210000
DTSTAMP:20260420T222016
CREATED:20240227T231430Z
LAST-MODIFIED:20240227T231534Z
UID:6070-1711623600-1711659600@durhamfoodhall.com
SUMMARY:Auctioneer Bar: Featured "Break Even" Bottle
DESCRIPTION:Enjoy a featured ‘Break Even’ bottle every Thursday at the Auctioneer Bar! This means you’ll get to drink one of our spirits at a heavily discounted price. *While supplies last
URL:https://durhamfoodhall.com/event/breakevenbottle/
CATEGORIES:Daily Specials
END:VEVENT
BEGIN:VEVENT
DTSTART;TZID=America/New_York:20240329T063000
DTEND;TZID=America/New_York:20240329T080000
DTSTAMP:20260420T222016
CREATED:20240304T003523Z
LAST-MODIFIED:20240304T003523Z
UID:6133-1711693800-1711699200@durhamfoodhall.com
SUMMARY:Everything Bagels & Liturgy Beverage: 10% off between 6:30-8am
DESCRIPTION:Enjoy the “Earliest Breakfast in Town” at Everything Bagels and Liturgy Beverage every weekday! Celebrate being an early riser with 10% off your order between 6:30am-8am.
URL:https://durhamfoodhall.com/event/everything-bagels-liturgy-beverage-10-off-between-630-8am-032924/
CATEGORIES:Daily Specials
END:VEVENT
BEGIN:VEVENT
DTSTART;TZID=America/New_York:20240329T110000
DTEND;TZID=America/New_York:20240329T200000
DTSTAMP:20260420T222016
CREATED:20240227T170743Z
LAST-MODIFIED:20240227T170743Z
UID:6028-1711710000-1711742400@durhamfoodhall.com
SUMMARY:Ex-Voto: Carne Asada Crunchwraps
DESCRIPTION:Kick off your weekend every Friday with a specialty carne asada crunchwrap from Ex-Voto in Durham Food Hall!
URL:https://durhamfoodhall.com/event/ex-voto-carne-asada-crunchwraps-032924/
CATEGORIES:Daily Specials
END:VEVENT
BEGIN:VEVENT
DTSTART;TZID=America/New_York:20240330T100000
DTEND;TZID=America/New_York:20240330T200000
DTSTAMP:20260420T222016
CREATED:20240227T230004Z
LAST-MODIFIED:20240227T230004Z
UID:6046-1711792800-1711828800@durhamfoodhall.com
SUMMARY:Ex-Voto: Breakfast Burritos
DESCRIPTION:You do not want to miss out on your chance for one of Ex-Voto’s massive breakfast burritos! These are available while supplies last every Saturday & Sunday – these go fast\, so hurry in to brunch at Durham Food Hall!
URL:https://durhamfoodhall.com/event/ex-voto-breakfast-burritos-033024/
CATEGORIES:Daily Specials
END:VEVENT
BEGIN:VEVENT
DTSTART;TZID=America/New_York:20240330T100000
DTEND;TZID=America/New_York:20240330T220000
DTSTAMP:20260420T222016
CREATED:20240227T230801Z
LAST-MODIFIED:20240227T230801Z
UID:6062-1711792800-1711836000@durhamfoodhall.com
SUMMARY:Auctioneer Bar: $9 House-made Bloody Marys
DESCRIPTION:Enjoy this tasty weekend treat from the Auctioneer Bar – $9 house-made bloody marys every Saturday\, created specially with Napoli’s tomato juice.
URL:https://durhamfoodhall.com/event/auctioneer-bar-9-house-made-bloody-marys-033024/
CATEGORIES:Daily Specials
END:VEVENT
BEGIN:VEVENT
DTSTART;TZID=America/New_York:20240331T100000
DTEND;TZID=America/New_York:20240331T150000
DTSTAMP:20260420T222016
CREATED:20240227T230431Z
LAST-MODIFIED:20240227T230431Z
UID:6054-1711879200-1711897200@durhamfoodhall.com
SUMMARY:Ex-Voto: Breakfast Burritos
DESCRIPTION:You do not want to miss out on your chance for one of Ex-Voto’s massive breakfast burritos! These are available while supplies last every Saturday & Sunday – these go fast\, so hurry in to brunch at Durham Food Hall!
URL:https://durhamfoodhall.com/event/ex-voto-breakfast-burritos-033124/
CATEGORIES:Daily Specials
END:VEVENT
BEGIN:VEVENT
DTSTART;TZID=America/New_York:20240331T100000
DTEND;TZID=America/New_York:20240331T210000
DTSTAMP:20260420T222016
CREATED:20240227T171229Z
LAST-MODIFIED:20240227T171229Z
UID:6036-1711879200-1711918800@durhamfoodhall.com
SUMMARY:Auctioneer Bar: $20 'You Pick 4' Canned Beers
DESCRIPTION:Pick 4 local + craft beers for only $20 at the Auctioneer Bar every Sunday!
URL:https://durhamfoodhall.com/event/auctioneer-bar-20-you-pick-4-canned-beers-033124/
CATEGORIES:Daily Specials
END:VEVENT
BEGIN:VEVENT
DTSTART;VALUE=DATE:20240401
DTEND;VALUE=DATE:20240402
DTSTAMP:20260420T222016
CREATED:20240325T170230Z
LAST-MODIFIED:20240325T170230Z
UID:6271-1711929600-1712015999@durhamfoodhall.com
SUMMARY:Industry Night Specials
DESCRIPTION:Enjoy Industry Night Specials at Durham Food Hall:\nAuctioneer Bar – $10 boiler makers\nLittle Barb’s Bakery – BOGO 50% off pop tarts\nNapoli Pizzeria – $1 off meat & cheese boards after 5pm\nCornerYaki – Half off dashi fries with purchase of entrée after 5pm\nMango Indian Grill – 20% off finger foods with purchase from Auctioneer Bar
URL:https://durhamfoodhall.com/event/industry-night-specials-040124/
CATEGORIES:Daily Specials
END:VEVENT
BEGIN:VEVENT
DTSTART;TZID=America/New_York:20240402T110000
DTEND;TZID=America/New_York:20240402T180000
DTSTAMP:20260420T222016
CREATED:20240325T170805Z
LAST-MODIFIED:20240325T170805Z
UID:6282-1712055600-1712080800@durhamfoodhall.com
SUMMARY:Milklab: Rotating Drink Specials
DESCRIPTION:Milklab has seasonal & rotating drink specials every Tuesday! Try them next time you’re at Durham Food Hall!
URL:https://durhamfoodhall.com/event/milklab-rotating-drink-specials-040224/
CATEGORIES:Daily Specials
END:VEVENT
BEGIN:VEVENT
DTSTART;TZID=America/New_York:20240402T110000
DTEND;TZID=America/New_York:20240402T210000
DTSTAMP:20260420T222016
CREATED:20240325T170353Z
LAST-MODIFIED:20240325T170353Z
UID:6273-1712055600-1712091600@durhamfoodhall.com
SUMMARY:Auctioneer Bar: $5 Select Drafts
DESCRIPTION:Enjoy Tuesdays at the Auctioneer Bar with $5 select drafts. This pairs well with the other specials going on at the Hall + Trivia at 6:30pm!
URL:https://durhamfoodhall.com/event/auctioneer-bar-5-select-drafts-040224/
CATEGORIES:Daily Specials
END:VEVENT
BEGIN:VEVENT
DTSTART;TZID=America/New_York:20240402T110000
DTEND;TZID=America/New_York:20240402T210000
DTSTAMP:20260420T222016
CREATED:20240325T170445Z
LAST-MODIFIED:20240325T170445Z
UID:6275-1712055600-1712091600@durhamfoodhall.com
SUMMARY:Napoli Pizzeria: $22 for 2 - House Salad & Margherita Pizza Combo
DESCRIPTION:Get 2 house salads and 1 margherita pizza for only $22 every Tuesday at Napoli in Durham Food Hall! The perfect date night meal is waiting for you – don’t forget to pair it with the Auctioneer Bar’s $6 wine special.
URL:https://durhamfoodhall.com/event/napoli-pizzeria-22-for-2-house-salad-margherita-pizza-combo-040224/
CATEGORIES:Daily Specials
END:VEVENT
END:VCALENDAR