BEGIN:VCALENDAR
VERSION:2.0
PRODID:-//Durham Food Hall - ECPv6.15.20//NONSGML v1.0//EN
CALSCALE:GREGORIAN
METHOD:PUBLISH
X-WR-CALNAME:Durham Food Hall
X-ORIGINAL-URL:https://durhamfoodhall.com
X-WR-CALDESC:Events for Durham Food Hall
REFRESH-INTERVAL;VALUE=DURATION:PT1H
X-Robots-Tag:noindex
X-PUBLISHED-TTL:PT1H
BEGIN:VTIMEZONE
TZID:America/New_York
BEGIN:DAYLIGHT
TZOFFSETFROM:-0500
TZOFFSETTO:-0400
TZNAME:EDT
DTSTART:20230312T070000
END:DAYLIGHT
BEGIN:STANDARD
TZOFFSETFROM:-0400
TZOFFSETTO:-0500
TZNAME:EST
DTSTART:20231105T060000
END:STANDARD
BEGIN:DAYLIGHT
TZOFFSETFROM:-0500
TZOFFSETTO:-0400
TZNAME:EDT
DTSTART:20240310T070000
END:DAYLIGHT
BEGIN:STANDARD
TZOFFSETFROM:-0400
TZOFFSETTO:-0500
TZNAME:EST
DTSTART:20241103T060000
END:STANDARD
BEGIN:DAYLIGHT
TZOFFSETFROM:-0500
TZOFFSETTO:-0400
TZNAME:EDT
DTSTART:20250309T070000
END:DAYLIGHT
BEGIN:STANDARD
TZOFFSETFROM:-0400
TZOFFSETTO:-0500
TZNAME:EST
DTSTART:20251102T060000
END:STANDARD
END:VTIMEZONE
BEGIN:VEVENT
DTSTART;VALUE=DATE:20240617
DTEND;VALUE=DATE:20240618
DTSTAMP:20260421T223236
CREATED:20240529T195010Z
LAST-MODIFIED:20240529T195010Z
UID:6672-1718582400-1718668799@durhamfoodhall.com
SUMMARY:Industry Night Specials
DESCRIPTION:Enjoy Industry Night Specials at Durham Food Hall:\nAuctioneer Bar – $10 boiler makers\nLittle Barb’s Bakery – BOGO 50% off pop tarts\nNapoli Pizzeria – $1 off meat & cheese boards after 5pm\nCornerYaki – Half off dashi fries with purchase of entrée after 5pm\nMango Indian Grill – 20% off finger foods with purchase from Auctioneer Bar
URL:https://durhamfoodhall.com/event/industry-night-specials-061724/
CATEGORIES:Daily Specials
END:VEVENT
BEGIN:VEVENT
DTSTART;TZID=America/New_York:20240618T110000
DTEND;TZID=America/New_York:20240618T210000
DTSTAMP:20260421T223236
CREATED:20240529T203816Z
LAST-MODIFIED:20240529T203816Z
UID:6732-1718708400-1718744400@durhamfoodhall.com
SUMMARY:Auctioneer Bar: $5 Select Drafts & $26 Select Wine Bottles
DESCRIPTION:Enjoy Tuesdays at the Auctioneer Bar with $5 select drafts & $26 select wine bottles. This pairs well with the other specials going on at the Hall + Trivia at 6:30pm!
URL:https://durhamfoodhall.com/event/auctioneer-bar-5-select-drafts-26-select-wine-bottles-061824/
CATEGORIES:Daily Specials
END:VEVENT
BEGIN:VEVENT
DTSTART;TZID=America/New_York:20240618T110000
DTEND;TZID=America/New_York:20240618T210000
DTSTAMP:20260421T223236
CREATED:20240529T204337Z
LAST-MODIFIED:20240529T204337Z
UID:6740-1718708400-1718744400@durhamfoodhall.com
SUMMARY:Napoli Pizzeria: $22 for 2 - House Salad & Margherita Pizza Combo
DESCRIPTION:Get 2 house salads and 1 margherita pizza for only $22 every Tuesday at Napoli in Durham Food Hall! The perfect date night meal is waiting for you – don’t forget to pair it with the Auctioneer Bar’s $6 wine special.
URL:https://durhamfoodhall.com/event/napoli-pizzeria-22-for-2-house-salad-margherita-pizza-combo-061824/
CATEGORIES:Daily Specials
END:VEVENT
BEGIN:VEVENT
DTSTART;TZID=America/New_York:20240618T110000
DTEND;TZID=America/New_York:20240618T210000
DTSTAMP:20260421T223236
CREATED:20240529T205747Z
LAST-MODIFIED:20240529T205747Z
UID:6758-1718708400-1718744400@durhamfoodhall.com
SUMMARY:Mango Indian Grill: 20% off Finger Foods
DESCRIPTION:Enjoy 20% off Finger Foods at Mango Indian Grill every Monday & Tuesday when you order something from the Auctioneer Bar. *Must show proof of purchase from Auctioneer Bar
URL:https://durhamfoodhall.com/event/mango-indian-grill-20-off-finger-foods-061824/
CATEGORIES:Daily Specials
END:VEVENT
BEGIN:VEVENT
DTSTART;TZID=America/New_York:20240618T123000
DTEND;TZID=America/New_York:20240618T210000
DTSTAMP:20260421T223236
CREATED:20240529T205050Z
LAST-MODIFIED:20240529T205050Z
UID:6750-1718713800-1718744400@durhamfoodhall.com
SUMMARY:Little Barb's Bakery: BOGO 50% Off Poptarts
DESCRIPTION:Enjoy some tasty poptarts from Little Barb’s Bakery – buy one\, get one half off every Monday & Tuesday!
URL:https://durhamfoodhall.com/event/little-barbs-bakery-bogo-50-off-poptarts-061824/
CATEGORIES:Daily Specials
END:VEVENT
BEGIN:VEVENT
DTSTART;TZID=America/New_York:20240619T110000
DTEND;TZID=America/New_York:20240619T200000
DTSTAMP:20260421T223236
CREATED:20240529T202654Z
LAST-MODIFIED:20240529T202654Z
UID:6716-1718794800-1718827200@durhamfoodhall.com
SUMMARY:Ex-Voto: Pork Belly Crunchwraps
DESCRIPTION:Try this special crunchwrap concoction featuring pork belly from Ex-Voto every Wednesday at Durham Food Hall!
URL:https://durhamfoodhall.com/event/ex-voto-pork-belly-crunchwraps-061924/
CATEGORIES:Daily Specials
END:VEVENT
BEGIN:VEVENT
DTSTART;TZID=America/New_York:20240619T110000
DTEND;TZID=America/New_York:20240619T200000
DTSTAMP:20260421T223236
CREATED:20240529T203241Z
LAST-MODIFIED:20240529T203241Z
UID:6724-1718794800-1718827200@durhamfoodhall.com
SUMMARY:Locals Seafood: $2 Oysters
DESCRIPTION:Enjoy $2 oysters from Durham Food Hall’s seafood specialists – Local’s Seafood! This is one shell of a deal – happening every Wednesday!
URL:https://durhamfoodhall.com/event/locals-seafood-2-oysters-061924/
CATEGORIES:Daily Specials
END:VEVENT
BEGIN:VEVENT
DTSTART;TZID=America/New_York:20240619T110000
DTEND;TZID=America/New_York:20240619T210000
DTSTAMP:20260421T223236
CREATED:20240529T202010Z
LAST-MODIFIED:20240529T202010Z
UID:6708-1718794800-1718830800@durhamfoodhall.com
SUMMARY:Auctioneer Bar: $25 Bottles of Bubbly
DESCRIPTION:Wednesdays are for champagne at Durham Food Hall – enjoy $25 bottles of bubbly from the Auctioneer Bar!
URL:https://durhamfoodhall.com/event/auctioneer-bar-25-bottles-of-bubbly-061924/
CATEGORIES:Daily Specials
END:VEVENT
BEGIN:VEVENT
DTSTART;TZID=America/New_York:20240620T110000
DTEND;TZID=America/New_York:20240620T200000
DTSTAMP:20260421T223236
CREATED:20240529T201515Z
LAST-MODIFIED:20240529T201515Z
UID:6700-1718881200-1718913600@durhamfoodhall.com
SUMMARY:Ex-Voto: Fried Shrimp Crunchwraps
DESCRIPTION:Try Ex-Voto’s fried shrimp crunchwrap every Thursday at Durham Food Hall!
URL:https://durhamfoodhall.com/event/ex-voto-fried-shrimp-crunchwraps-062024/
CATEGORIES:Daily Specials
END:VEVENT
BEGIN:VEVENT
DTSTART;TZID=America/New_York:20240620T110000
DTEND;TZID=America/New_York:20240620T210000
DTSTAMP:20260421T223236
CREATED:20240529T201003Z
LAST-MODIFIED:20240529T201003Z
UID:6692-1718881200-1718917200@durhamfoodhall.com
SUMMARY:Auctioneer Bar: Featured "Break Even" Bottle
DESCRIPTION:Enjoy a featured ‘Break Even’ bottle every Thursday at the Auctioneer Bar! This means you’ll get to drink one of our spirits at a heavily discounted price. *While supplies last
URL:https://durhamfoodhall.com/event/auctioneer-bar-featured-break-even-bottle-062024/
CATEGORIES:Daily Specials
END:VEVENT
BEGIN:VEVENT
DTSTART;TZID=America/New_York:20240621T110000
DTEND;TZID=America/New_York:20240621T200000
DTSTAMP:20260421T223236
CREATED:20240529T200103Z
LAST-MODIFIED:20240529T200103Z
UID:6684-1718967600-1719000000@durhamfoodhall.com
SUMMARY:Ex-Voto: Carne Asada Crunchwraps
DESCRIPTION:Kick off your weekend every Friday with a specialty carne asada crunchwrap from Ex-Voto in Durham Food Hall!
URL:https://durhamfoodhall.com/event/ex-voto-carne-asada-crunchwraps-062124/
CATEGORIES:Daily Specials
END:VEVENT
BEGIN:VEVENT
DTSTART;TZID=America/New_York:20240622T100000
DTEND;TZID=America/New_York:20240622T200000
DTSTAMP:20260421T223236
CREATED:20240529T194711Z
LAST-MODIFIED:20240529T194711Z
UID:6667-1719050400-1719086400@durhamfoodhall.com
SUMMARY:Ex-Voto: Breakfast Burritos
DESCRIPTION:You do not want to miss out on your chance for one of Ex-Voto’s massive breakfast burritos! These are available while supplies last every Saturday & Sunday – these go fast\, so hurry in to brunch at Durham Food Hall!
URL:https://durhamfoodhall.com/event/ex-voto-breakfast-burritos-062224/
CATEGORIES:Daily Specials
END:VEVENT
BEGIN:VEVENT
DTSTART;TZID=America/New_York:20240622T100000
DTEND;TZID=America/New_York:20240622T220000
DTSTAMP:20260421T223236
CREATED:20240529T192939Z
LAST-MODIFIED:20240529T192939Z
UID:6645-1719050400-1719093600@durhamfoodhall.com
SUMMARY:Auctioneer Bar: $9 House-made Bloody Marys
DESCRIPTION:Enjoy this tasty weekend treat from the Auctioneer Bar – $9 house-made bloody marys every Saturday\, created specially with Napoli’s tomato juice.
URL:https://durhamfoodhall.com/event/auctioneer-bar-9-house-made-bloody-marys-062224/
CATEGORIES:Daily Specials
END:VEVENT
BEGIN:VEVENT
DTSTART;TZID=America/New_York:20240623T100000
DTEND;TZID=America/New_York:20240623T150000
DTSTAMP:20260421T223236
CREATED:20240529T194013Z
LAST-MODIFIED:20240529T194013Z
UID:6657-1719136800-1719154800@durhamfoodhall.com
SUMMARY:Ex-Voto: Breakfast Burritos
DESCRIPTION:You do not want to miss out on your chance for one of Ex-Voto’s massive breakfast burritos! These are available while supplies last every Saturday & Sunday – these go fast\, so hurry in to brunch at Durham Food Hall!
URL:https://durhamfoodhall.com/event/ex-voto-breakfast-burritos-062324/
CATEGORIES:Daily Specials
END:VEVENT
BEGIN:VEVENT
DTSTART;TZID=America/New_York:20240623T100000
DTEND;TZID=America/New_York:20240623T210000
DTSTAMP:20260421T223236
CREATED:20240529T192148Z
LAST-MODIFIED:20240529T192148Z
UID:6635-1719136800-1719176400@durhamfoodhall.com
SUMMARY:Auctioneer Bar: $20 'You Pick 4' Canned Beers
DESCRIPTION:Pick 4 local + craft beers for only $20 at the Auctioneer Bar every Sunday!
URL:https://durhamfoodhall.com/event/auctioneer-bar-20-you-pick-4-canned-beers-062324/
CATEGORIES:Daily Specials
END:VEVENT
BEGIN:VEVENT
DTSTART;VALUE=DATE:20240624
DTEND;VALUE=DATE:20240625
DTSTAMP:20260421T223236
CREATED:20240529T194851Z
LAST-MODIFIED:20240529T194903Z
UID:6669-1719187200-1719273599@durhamfoodhall.com
SUMMARY:Industry Night Specials
DESCRIPTION:Enjoy Industry Night Specials at Durham Food Hall:\nAuctioneer Bar – $10 boiler makers\nLittle Barb’s Bakery – BOGO 50% off pop tarts\nNapoli Pizzeria – $1 off meat & cheese boards after 5pm\nCornerYaki – Half off dashi fries with purchase of entrée after 5pm\nMango Indian Grill – 20% off finger foods with purchase from Auctioneer Bar
URL:https://durhamfoodhall.com/event/industry-night-special-062424/
CATEGORIES:Daily Specials
END:VEVENT
BEGIN:VEVENT
DTSTART;TZID=America/New_York:20240625T110000
DTEND;TZID=America/New_York:20240625T210000
DTSTAMP:20260421T223236
CREATED:20240529T203453Z
LAST-MODIFIED:20240529T203453Z
UID:6726-1719313200-1719349200@durhamfoodhall.com
SUMMARY:Auctioneer Bar: $5 Select Drafts & $26 Select Wine Bottles
DESCRIPTION:Enjoy Tuesdays at the Auctioneer Bar with $5 select drafts & $26 select wine bottles. This pairs well with the other specials going on at the Hall + Trivia at 6:30pm!
URL:https://durhamfoodhall.com/event/auctioneer-bar-5-select-drafts-26-select-wine-bottles-062524/
CATEGORIES:Daily Specials
END:VEVENT
BEGIN:VEVENT
DTSTART;TZID=America/New_York:20240625T110000
DTEND;TZID=America/New_York:20240625T210000
DTSTAMP:20260421T223236
CREATED:20240529T204038Z
LAST-MODIFIED:20240529T204038Z
UID:6734-1719313200-1719349200@durhamfoodhall.com
SUMMARY:Napoli Pizzeria: $22 for 2 - House Salad & Margherita Pizza Combo
DESCRIPTION:Get 2 house salads and 1 margherita pizza for only $22 every Tuesday at Napoli in Durham Food Hall! The perfect date night meal is waiting for you – don’t forget to pair it with the Auctioneer Bar’s $6 wine special.
URL:https://durhamfoodhall.com/event/napoli-pizzeria-22-for-2-house-salad-margherita-pizza-combo-062524/
CATEGORIES:Daily Specials
END:VEVENT
BEGIN:VEVENT
DTSTART;TZID=America/New_York:20240625T110000
DTEND;TZID=America/New_York:20240625T210000
DTSTAMP:20260421T223236
CREATED:20240529T205347Z
LAST-MODIFIED:20240529T205347Z
UID:6752-1719313200-1719349200@durhamfoodhall.com
SUMMARY:Mango Indian Grill: 20% off Finger Foods
DESCRIPTION:Enjoy 20% off Finger Foods at Mango Indian Grill every Monday & Tuesday when you order something from the Auctioneer Bar. *Must show proof of purchase from Auctioneer Bar
URL:https://durhamfoodhall.com/event/mango-indian-grill-20-off-finger-foods-062524/
CATEGORIES:Daily Specials
END:VEVENT
BEGIN:VEVENT
DTSTART;TZID=America/New_York:20240625T123000
DTEND;TZID=America/New_York:20240625T210000
DTSTAMP:20260421T223236
CREATED:20240529T204804Z
LAST-MODIFIED:20240529T204804Z
UID:6744-1719318600-1719349200@durhamfoodhall.com
SUMMARY:Little Barb's Bakery: BOGO 50% Off Poptarts
DESCRIPTION:Enjoy some tasty poptarts from Little Barb’s Bakery – buy one\, get one half off every Monday & Tuesday!
URL:https://durhamfoodhall.com/event/little-barbs-bakery-bogo-50-off-poptarts-062524/
CATEGORIES:Daily Specials
END:VEVENT
BEGIN:VEVENT
DTSTART;TZID=America/New_York:20240626T110000
DTEND;TZID=America/New_York:20240626T200000
DTSTAMP:20260421T223236
CREATED:20240529T202302Z
LAST-MODIFIED:20240529T202302Z
UID:6710-1719399600-1719432000@durhamfoodhall.com
SUMMARY:Ex-Voto: Pork Belly Crunchwraps
DESCRIPTION:Try this special crunchwrap concoction featuring pork belly from Ex-Voto every Wednesday at Durham Food Hall!
URL:https://durhamfoodhall.com/event/ex-voto-pork-belly-crunchwraps-062624/
CATEGORIES:Daily Specials
END:VEVENT
BEGIN:VEVENT
DTSTART;TZID=America/New_York:20240626T110000
DTEND;TZID=America/New_York:20240626T200000
DTSTAMP:20260421T223236
CREATED:20240529T202937Z
LAST-MODIFIED:20240529T202937Z
UID:6718-1719399600-1719432000@durhamfoodhall.com
SUMMARY:Locals Seafood: $2 Oysters
DESCRIPTION:Enjoy $2 oysters from Durham Food Hall’s seafood specialists – Local’s Seafood! This is one shell of a deal – happening every Wednesday!
URL:https://durhamfoodhall.com/event/locals-seafood-2-oysters-062624/
CATEGORIES:Daily Specials
END:VEVENT
BEGIN:VEVENT
DTSTART;TZID=America/New_York:20240626T110000
DTEND;TZID=America/New_York:20240626T210000
DTSTAMP:20260421T223236
CREATED:20240529T201658Z
LAST-MODIFIED:20240529T201658Z
UID:6702-1719399600-1719435600@durhamfoodhall.com
SUMMARY:Auctioneer Bar: $25 Bottles of Bubbly
DESCRIPTION:Wednesdays are for champagne at Durham Food Hall – enjoy $25 bottles of bubbly from the Auctioneer Bar!
URL:https://durhamfoodhall.com/event/auctioneer-bar-25-bottles-of-bubbly-062624/
CATEGORIES:Daily Specials
END:VEVENT
BEGIN:VEVENT
DTSTART;TZID=America/New_York:20240627T110000
DTEND;TZID=America/New_York:20240627T200000
DTSTAMP:20260421T223236
CREATED:20240529T201138Z
LAST-MODIFIED:20240529T201138Z
UID:6694-1719486000-1719518400@durhamfoodhall.com
SUMMARY:Ex-Voto: Fried Shrimp Crunchwraps
DESCRIPTION:Try Ex-Voto’s fried shrimp crunchwrap every Thursday at Durham Food Hall!
URL:https://durhamfoodhall.com/event/ex-voto-fried-shrimp-crunchwraps-062724/
CATEGORIES:Daily Specials
END:VEVENT
BEGIN:VEVENT
DTSTART;TZID=America/New_York:20240627T110000
DTEND;TZID=America/New_York:20240627T210000
DTSTAMP:20260421T223236
CREATED:20240529T200632Z
LAST-MODIFIED:20240529T200632Z
UID:6686-1719486000-1719522000@durhamfoodhall.com
SUMMARY:Auctioneer Bar: Featured "Break Even" Bottle
DESCRIPTION:Enjoy a featured ‘Break Even’ bottle every Thursday at the Auctioneer Bar! This means you’ll get to drink one of our spirits at a heavily discounted price. *While supplies last
URL:https://durhamfoodhall.com/event/auctioneer-bar-featured-break-even-bottle-062724/
CATEGORIES:Daily Specials
END:VEVENT
BEGIN:VEVENT
DTSTART;TZID=America/New_York:20240628T110000
DTEND;TZID=America/New_York:20240628T200000
DTSTAMP:20260421T223236
CREATED:20240529T195723Z
LAST-MODIFIED:20240529T195723Z
UID:6678-1719572400-1719604800@durhamfoodhall.com
SUMMARY:Ex-Voto: Carne Asada Crunchwraps
DESCRIPTION:Kick off your weekend every Friday with a specialty carne asada crunchwrap from Ex-Voto in Durham Food Hall!
URL:https://durhamfoodhall.com/event/ex-voto-carne-asada-crunchwraps-062824/
CATEGORIES:Daily Specials
END:VEVENT
BEGIN:VEVENT
DTSTART;TZID=America/New_York:20240629T100000
DTEND;TZID=America/New_York:20240629T200000
DTSTAMP:20260421T223236
CREATED:20240529T194220Z
LAST-MODIFIED:20240529T194220Z
UID:6659-1719655200-1719691200@durhamfoodhall.com
SUMMARY:Ex-Voto: Breakfast Burritos
DESCRIPTION:You do not want to miss out on your chance for one of Ex-Voto’s massive breakfast burritos! These are available while supplies last every Saturday & Sunday – these go fast\, so hurry in to brunch at Durham Food Hall!
URL:https://durhamfoodhall.com/event/ex-voto-breakfast-burritos-062924/
CATEGORIES:Daily Specials
END:VEVENT
BEGIN:VEVENT
DTSTART;TZID=America/New_York:20240629T100000
DTEND;TZID=America/New_York:20240629T220000
DTSTAMP:20260421T223236
CREATED:20240529T193043Z
LAST-MODIFIED:20240529T193043Z
UID:6647-1719655200-1719698400@durhamfoodhall.com
SUMMARY:Auctioneer Bar: $9 House-made Bloody Marys
DESCRIPTION:Enjoy this tasty weekend treat from the Auctioneer Bar – $9 house-made bloody marys every Saturday\, created specially with Napoli’s tomato juice.
URL:https://durhamfoodhall.com/event/auctioneer-bar-9-house-made-bloody-marys-062924/
CATEGORIES:Daily Specials
END:VEVENT
BEGIN:VEVENT
DTSTART;TZID=America/New_York:20240630T100000
DTEND;TZID=America/New_York:20240630T150000
DTSTAMP:20260421T223236
CREATED:20240529T193617Z
LAST-MODIFIED:20240529T193617Z
UID:6651-1719741600-1719759600@durhamfoodhall.com
SUMMARY:Ex-Voto: Breakfast Burritos
DESCRIPTION:You do not want to miss out on your chance for one of Ex-Voto’s massive breakfast burritos! These are available while supplies last every Saturday & Sunday – these go fast\, so hurry in to brunch at Durham Food Hall!
URL:https://durhamfoodhall.com/event/ex-voto-breakfast-burritos-063024/
CATEGORIES:Daily Specials
END:VEVENT
BEGIN:VEVENT
DTSTART;TZID=America/New_York:20240630T100000
DTEND;TZID=America/New_York:20240630T210000
DTSTAMP:20260421T223236
CREATED:20240529T192246Z
LAST-MODIFIED:20240529T192246Z
UID:6637-1719741600-1719781200@durhamfoodhall.com
SUMMARY:Auctioneer Bar: $20 'You Pick 4' Canned Beers
DESCRIPTION:Pick 4 local + craft beers for only $20 at the Auctioneer Bar every Sunday!
URL:https://durhamfoodhall.com/event/auctioneer-bar-20-you-pick-4-canned-beers-063024/
CATEGORIES:Daily Specials
END:VEVENT
END:VCALENDAR