BEGIN:VCALENDAR
VERSION:2.0
PRODID:-//Durham Food Hall - ECPv6.15.20//NONSGML v1.0//EN
CALSCALE:GREGORIAN
METHOD:PUBLISH
X-WR-CALNAME:Durham Food Hall
X-ORIGINAL-URL:https://durhamfoodhall.com
X-WR-CALDESC:Events for Durham Food Hall
REFRESH-INTERVAL;VALUE=DURATION:PT1H
X-Robots-Tag:noindex
X-PUBLISHED-TTL:PT1H
BEGIN:VTIMEZONE
TZID:America/New_York
BEGIN:DAYLIGHT
TZOFFSETFROM:-0500
TZOFFSETTO:-0400
TZNAME:EDT
DTSTART:20230312T070000
END:DAYLIGHT
BEGIN:STANDARD
TZOFFSETFROM:-0400
TZOFFSETTO:-0500
TZNAME:EST
DTSTART:20231105T060000
END:STANDARD
BEGIN:DAYLIGHT
TZOFFSETFROM:-0500
TZOFFSETTO:-0400
TZNAME:EDT
DTSTART:20240310T070000
END:DAYLIGHT
BEGIN:STANDARD
TZOFFSETFROM:-0400
TZOFFSETTO:-0500
TZNAME:EST
DTSTART:20241103T060000
END:STANDARD
BEGIN:DAYLIGHT
TZOFFSETFROM:-0500
TZOFFSETTO:-0400
TZNAME:EDT
DTSTART:20250309T070000
END:DAYLIGHT
BEGIN:STANDARD
TZOFFSETFROM:-0400
TZOFFSETTO:-0500
TZNAME:EST
DTSTART:20251102T060000
END:STANDARD
END:VTIMEZONE
BEGIN:VEVENT
DTSTART;TZID=America/New_York:20240426T110000
DTEND;TZID=America/New_York:20240426T200000
DTSTAMP:20260422T181748
CREATED:20240418T020612Z
LAST-MODIFIED:20240418T020612Z
UID:6389-1714129200-1714161600@durhamfoodhall.com
SUMMARY:Ex-Voto: Carne Asada Crunchwraps
DESCRIPTION:Kick off your weekend every Friday with a specialty carne asada crunchwrap from Ex-Voto in Durham Food Hall!
URL:https://durhamfoodhall.com/event/ex-voto-carne-asada-crunchwraps-042624/
CATEGORIES:Daily Specials
END:VEVENT
BEGIN:VEVENT
DTSTART;TZID=America/New_York:20240426T110000
DTEND;TZID=America/New_York:20240426T210000
DTSTAMP:20260422T181748
CREATED:20240423T141356Z
LAST-MODIFIED:20240423T141356Z
UID:6424-1714129200-1714165200@durhamfoodhall.com
SUMMARY:Auctioneer Bar: $4 Select Beer Cans for Durham Bulls Home Games
DESCRIPTION:Join us pre or post Bulls home games to partake in America’s pastime — drinking beer! We’ll have $4 select beer cans in the fridge at the Auctioneer Bar. Now\, let’s play ball!
URL:https://durhamfoodhall.com/event/auctioneer-bar-4-select-beer-cans-for-durham-bulls-home-games-042624/
CATEGORIES:Daily Specials
END:VEVENT
BEGIN:VEVENT
DTSTART;TZID=America/New_York:20240427T100000
DTEND;TZID=America/New_York:20240427T200000
DTSTAMP:20260422T181748
CREATED:20240418T020815Z
LAST-MODIFIED:20240418T020815Z
UID:6393-1714212000-1714248000@durhamfoodhall.com
SUMMARY:Ex-Voto: Breakfast Burritos
DESCRIPTION:You do not want to miss out on your chance for one of Ex-Voto’s massive breakfast burritos! These are available while supplies last every Saturday & Sunday – these go fast\, so hurry in to brunch at Durham Food Hall!
URL:https://durhamfoodhall.com/event/ex-voto-breakfast-burritos-042724/
CATEGORIES:Daily Specials
END:VEVENT
BEGIN:VEVENT
DTSTART;TZID=America/New_York:20240427T100000
DTEND;TZID=America/New_York:20240427T220000
DTSTAMP:20260422T181748
CREATED:20240417T195236Z
LAST-MODIFIED:20240417T195236Z
UID:6361-1714212000-1714255200@durhamfoodhall.com
SUMMARY:Auctioneer Bar: $9 House-made Bloody Marys
DESCRIPTION:Enjoy this tasty weekend treat from the Auctioneer Bar – $9 house-made bloody marys every Saturday\, created specially with Napoli’s tomato juice.
URL:https://durhamfoodhall.com/event/auctioneer-bar-9-house-made-bloody-marys-042724/
CATEGORIES:Daily Specials
END:VEVENT
BEGIN:VEVENT
DTSTART;TZID=America/New_York:20240427T110000
DTEND;TZID=America/New_York:20240427T210000
DTSTAMP:20260422T181748
CREATED:20240423T141446Z
LAST-MODIFIED:20240423T141446Z
UID:6426-1714215600-1714251600@durhamfoodhall.com
SUMMARY:Auctioneer Bar: $4 Select Beer Cans for Durham Bulls Home Games
DESCRIPTION:Join us pre or post Bulls home games to partake in America’s pastime — drinking beer! We’ll have $4 select beer cans in the fridge at the Auctioneer Bar. Now\, let’s play ball!
URL:https://durhamfoodhall.com/event/auctioneer-bar-4-select-beer-cans-for-durham-bulls-home-games-042724/
CATEGORIES:Daily Specials
END:VEVENT
BEGIN:VEVENT
DTSTART;TZID=America/New_York:20240428T100000
DTEND;TZID=America/New_York:20240428T150000
DTSTAMP:20260422T181748
CREATED:20240418T021004Z
LAST-MODIFIED:20240418T021004Z
UID:6397-1714298400-1714316400@durhamfoodhall.com
SUMMARY:Ex-Voto: Breakfast Burritos
DESCRIPTION:You do not want to miss out on your chance for one of Ex-Voto’s massive breakfast burritos! These are available while supplies last every Saturday & Sunday – these go fast\, so hurry in to brunch at Durham Food Hall!
URL:https://durhamfoodhall.com/event/ex-voto-breakfast-burritos-042824/
CATEGORIES:Daily Specials
END:VEVENT
BEGIN:VEVENT
DTSTART;TZID=America/New_York:20240428T100000
DTEND;TZID=America/New_York:20240428T210000
DTSTAMP:20260422T181748
CREATED:20240417T195418Z
LAST-MODIFIED:20240417T195418Z
UID:6365-1714298400-1714338000@durhamfoodhall.com
SUMMARY:Auctioneer Bar: $20 'You Pick 4' Canned Beers
DESCRIPTION:Pick 4 local + craft beers for only $20 at the Auctioneer Bar every Sunday!
URL:https://durhamfoodhall.com/event/auctioneer-bar-20-you-pick-4-canned-beers-042824/
CATEGORIES:Daily Specials
END:VEVENT
BEGIN:VEVENT
DTSTART;TZID=America/New_York:20240428T110000
DTEND;TZID=America/New_York:20240428T210000
DTSTAMP:20260422T181748
CREATED:20240423T141553Z
LAST-MODIFIED:20240423T141553Z
UID:6428-1714302000-1714338000@durhamfoodhall.com
SUMMARY:Auctioneer Bar: $4 Select Beer Cans for Durham Bulls Home Games
DESCRIPTION:Join us pre or post Bulls home games to partake in America’s pastime — drinking beer! We’ll have $4 select beer cans in the fridge at the Auctioneer Bar. Now\, let’s play ball!
URL:https://durhamfoodhall.com/event/auctioneer-bar-4-select-beer-cans-for-durham-bulls-home-games-042824/
CATEGORIES:Daily Specials
END:VEVENT
BEGIN:VEVENT
DTSTART;VALUE=DATE:20240429
DTEND;VALUE=DATE:20240430
DTSTAMP:20260422T181748
CREATED:20240415T122646Z
LAST-MODIFIED:20240415T122646Z
UID:6345-1714348800-1714435199@durhamfoodhall.com
SUMMARY:Industry Night Specials
DESCRIPTION:Enjoy Industry Night Specials at Durham Food Hall:\nAuctioneer Bar – $10 boiler makers\nLittle Barb’s Bakery – BOGO 50% off pop tarts\nNapoli Pizzeria – $1 off meat & cheese boards after 5pm\nCornerYaki – Half off dashi fries with purchase of entrée after 5pm\nMango Indian Grill – 20% off finger foods with purchase from Auctioneer Bar
URL:https://durhamfoodhall.com/event/industry-night-specials-042924/
CATEGORIES:Daily Specials
END:VEVENT
BEGIN:VEVENT
DTSTART;TZID=America/New_York:20240430T110000
DTEND;TZID=America/New_York:20240430T210000
DTSTAMP:20260422T181748
CREATED:20240417T200103Z
LAST-MODIFIED:20240417T200111Z
UID:6373-1714474800-1714510800@durhamfoodhall.com
SUMMARY:Auctioneer Bar: $5 Select Drafts & $26 Select Wine Bottles
DESCRIPTION:Enjoy Tuesdays at the Auctioneer Bar with $5 select drafts & $26 select wine bottles. This pairs well with the other specials going on at the Hall + Trivia at 6:30pm!
URL:https://durhamfoodhall.com/event/auctioneer-bar-5-select-drafts-24-select-wine-bottles-043024/
CATEGORIES:Daily Specials
END:VEVENT
BEGIN:VEVENT
DTSTART;TZID=America/New_York:20240430T110000
DTEND;TZID=America/New_York:20240430T210000
DTSTAMP:20260422T181748
CREATED:20240418T021644Z
LAST-MODIFIED:20240418T021644Z
UID:6411-1714474800-1714510800@durhamfoodhall.com
SUMMARY:Napoli Pizzeria: $22 for 2 - House Salad & Margherita Pizza Combo
DESCRIPTION:Get 2 house salads and 1 margherita pizza for only $22 every Tuesday at Napoli in Durham Food Hall! The perfect date night meal is waiting for you – don’t forget to pair it with the Auctioneer Bar’s $6 wine special.
URL:https://durhamfoodhall.com/event/napoli-pizzeria-22-for-2-house-salad-margherita-pizza-combo-043024/
CATEGORIES:Daily Specials
END:VEVENT
BEGIN:VEVENT
DTSTART;TZID=America/New_York:20240430T110000
DTEND;TZID=America/New_York:20240430T210000
DTSTAMP:20260422T181748
CREATED:20240418T021907Z
LAST-MODIFIED:20240418T021907Z
UID:6415-1714474800-1714510800@durhamfoodhall.com
SUMMARY:Mango Indian Grill: 20% off Finger Foods
DESCRIPTION:Enjoy 20% off Finger Foods at Mango Indian Grill every Monday & Tuesday when you order something from the Auctioneer Bar. *Must show proof of purchase from Auctioneer Bar
URL:https://durhamfoodhall.com/event/mango-indian-grill-20-off-finger-foods-043024-2/
CATEGORIES:Daily Specials
END:VEVENT
BEGIN:VEVENT
DTSTART;TZID=America/New_York:20240430T123000
DTEND;TZID=America/New_York:20240430T210000
DTSTAMP:20260422T181748
CREATED:20240418T021209Z
LAST-MODIFIED:20240418T021209Z
UID:6401-1714480200-1714510800@durhamfoodhall.com
SUMMARY:Little Barb's Bakery: BOGO 50% Off Poptarts
DESCRIPTION:Enjoy some tasty poptarts from Little Barb’s Bakery – buy one\, get one half off every Monday & Tuesday!
URL:https://durhamfoodhall.com/event/little-barbs-bakery-bogo-50-off-poptarts-043024/
CATEGORIES:Daily Specials
END:VEVENT
BEGIN:VEVENT
DTSTART;TZID=America/New_York:20240501T110000
DTEND;TZID=America/New_York:20240501T200000
DTSTAMP:20260422T181748
CREATED:20240501T154154Z
LAST-MODIFIED:20240501T154154Z
UID:6450-1714561200-1714593600@durhamfoodhall.com
SUMMARY:Locals Seafood: $2 Oysters
DESCRIPTION:Enjoy $2 oysters from Durham Food Hall’s seafood specialists – Local’s Seafood! This is one shell of a deal – happening every Wednesday!
URL:https://durhamfoodhall.com/event/locals-seafood-2-oysters-050124/
CATEGORIES:Daily Specials
END:VEVENT
BEGIN:VEVENT
DTSTART;TZID=America/New_York:20240501T110000
DTEND;TZID=America/New_York:20240501T200000
DTSTAMP:20260422T181748
CREATED:20240501T154910Z
LAST-MODIFIED:20240501T154910Z
UID:6462-1714561200-1714593600@durhamfoodhall.com
SUMMARY:Ex-Voto: Pork Belly Crunchwraps
DESCRIPTION:Try this special crunchwrap concoction featuring pork belly from Ex-Voto every Wednesday at Durham Food Hall!
URL:https://durhamfoodhall.com/event/ex-voto-pork-belly-crunchwraps-050124/
CATEGORIES:Daily Specials
END:VEVENT
BEGIN:VEVENT
DTSTART;TZID=America/New_York:20240501T110000
DTEND;TZID=America/New_York:20240501T210000
DTSTAMP:20260422T181748
CREATED:20240501T153607Z
LAST-MODIFIED:20240501T153607Z
UID:6440-1714561200-1714597200@durhamfoodhall.com
SUMMARY:Auctioneer Bar: $25 Bottles of Bubbly
DESCRIPTION:Wednesdays are for champagne at Durham Food Hall – enjoy $25 bottles of bubbly from the Auctioneer Bar!
URL:https://durhamfoodhall.com/event/auctioneer-bar-25-bottles-of-bubbly-050124/
CATEGORIES:Daily Specials
END:VEVENT
BEGIN:VEVENT
DTSTART;TZID=America/New_York:20240502T110000
DTEND;TZID=America/New_York:20240502T200000
DTSTAMP:20260422T181748
CREATED:20240501T194932Z
LAST-MODIFIED:20240501T194932Z
UID:6537-1714647600-1714680000@durhamfoodhall.com
SUMMARY:Ex-Voto: Fried Shrimp Crunchwraps
DESCRIPTION:Try Ex-Voto’s fried shrimp crunchwrap every Thursday at Durham Food Hall!
URL:https://durhamfoodhall.com/event/ex-voto-fried-shrimp-crunchwraps-050224/
CATEGORIES:Daily Specials
END:VEVENT
BEGIN:VEVENT
DTSTART;TZID=America/New_York:20240502T110000
DTEND;TZID=America/New_York:20240502T210000
DTSTAMP:20260422T181748
CREATED:20240501T194245Z
LAST-MODIFIED:20240501T194245Z
UID:6527-1714647600-1714683600@durhamfoodhall.com
SUMMARY:Auctioneer Bar: Featured "Break Even" Bottle
DESCRIPTION:Enjoy a featured ‘Break Even’ bottle every Thursday at the Auctioneer Bar! This means you’ll get to drink one of our spirits at a heavily discounted price. *While supplies last
URL:https://durhamfoodhall.com/event/auctioneer-bar-featured-break-even-bottle-050224/
CATEGORIES:Daily Specials
END:VEVENT
BEGIN:VEVENT
DTSTART;TZID=America/New_York:20240503T110000
DTEND;TZID=America/New_York:20240503T200000
DTSTAMP:20260422T181748
CREATED:20240501T193546Z
LAST-MODIFIED:20240501T193546Z
UID:6517-1714734000-1714766400@durhamfoodhall.com
SUMMARY:Ex-Voto: Carne Asada Crunchwraps
DESCRIPTION:Kick off your weekend every Friday with a specialty carne asada crunchwrap from Ex-Voto in Durham Food Hall!
URL:https://durhamfoodhall.com/event/ex-voto-carne-asada-crunchwraps-050324/
CATEGORIES:Daily Specials
END:VEVENT
BEGIN:VEVENT
DTSTART;TZID=America/New_York:20240504T100000
DTEND;TZID=America/New_York:20240504T200000
DTSTAMP:20260422T181748
CREATED:20240501T192448Z
LAST-MODIFIED:20240501T192448Z
UID:6505-1714816800-1714852800@durhamfoodhall.com
SUMMARY:Ex-Voto: Breakfast Burritos
DESCRIPTION:You do not want to miss out on your chance for one of Ex-Voto’s massive breakfast burritos! These are available while supplies last every Saturday & Sunday – these go fast\, so hurry in to brunch at Durham Food Hall!
URL:https://durhamfoodhall.com/event/ex-voto-breakfast-burritos-050424/
CATEGORIES:Daily Specials
END:VEVENT
BEGIN:VEVENT
DTSTART;TZID=America/New_York:20240504T100000
DTEND;TZID=America/New_York:20240504T220000
DTSTAMP:20260422T181748
CREATED:20240501T192032Z
LAST-MODIFIED:20240501T192032Z
UID:6497-1714816800-1714860000@durhamfoodhall.com
SUMMARY:Auctioneer Bar: $9 House-made Bloody Marys
DESCRIPTION:Enjoy this tasty weekend treat from the Auctioneer Bar – $9 house-made bloody marys every Saturday\, created specially with Napoli’s tomato juice.
URL:https://durhamfoodhall.com/event/auctioneer-bar-9-house-made-bloody-marys-050424/
CATEGORIES:Daily Specials
END:VEVENT
BEGIN:VEVENT
DTSTART;TZID=America/New_York:20240505T100000
DTEND;TZID=America/New_York:20240505T150000
DTSTAMP:20260422T181748
CREATED:20240501T191341Z
LAST-MODIFIED:20240501T191341Z
UID:6489-1714903200-1714921200@durhamfoodhall.com
SUMMARY:Ex-Voto: Breakfast Burritos
DESCRIPTION:You do not want to miss out on your chance for one of Ex-Voto’s massive breakfast burritos! These are available while supplies last every Saturday & Sunday – these go fast\, so hurry in to brunch at Durham Food Hall!
URL:https://durhamfoodhall.com/event/ex-voto-breakfast-burritos-050524/
CATEGORIES:Daily Specials
END:VEVENT
BEGIN:VEVENT
DTSTART;TZID=America/New_York:20240505T100000
DTEND;TZID=America/New_York:20240505T210000
DTSTAMP:20260422T181748
CREATED:20240501T190915Z
LAST-MODIFIED:20240501T190915Z
UID:6481-1714903200-1714942800@durhamfoodhall.com
SUMMARY:Auctioneer Bar: $20 'You Pick 4' Canned Beers
DESCRIPTION:Pick 4 local + craft beers for only $20 at the Auctioneer Bar every Sunday!
URL:https://durhamfoodhall.com/event/auctioneer-bar-20-you-pick-4-canned-beers-050424/
CATEGORIES:Daily Specials
END:VEVENT
BEGIN:VEVENT
DTSTART;VALUE=DATE:20240506
DTEND;VALUE=DATE:20240507
DTSTAMP:20260422T181748
CREATED:20240501T152815Z
LAST-MODIFIED:20240501T152815Z
UID:6430-1714953600-1715039999@durhamfoodhall.com
SUMMARY:Industry Night Specials
DESCRIPTION:Enjoy Industry Night Specials at Durham Food Hall:\nAuctioneer Bar – $10 boiler makers\nLittle Barb’s Bakery – BOGO 50% off pop tarts\nNapoli Pizzeria – $1 off meat & cheese boards after 5pm\nCornerYaki – Half off dashi fries with purchase of entrée after 5pm\nMango Indian Grill – 20% off finger foods with purchase from Auctioneer Bar
URL:https://durhamfoodhall.com/event/industry-night-specials-050624/
CATEGORIES:Daily Specials
END:VEVENT
BEGIN:VEVENT
DTSTART;TZID=America/New_York:20240507T110000
DTEND;TZID=America/New_York:20240507T210000
DTSTAMP:20260422T181748
CREATED:20240501T195432Z
LAST-MODIFIED:20240501T195432Z
UID:6545-1715079600-1715115600@durhamfoodhall.com
SUMMARY:Auctioneer Bar: $5 Select Drafts & $26 Select Wine Bottles
DESCRIPTION:Enjoy Tuesdays at the Auctioneer Bar with $5 select drafts & $26 select wine bottles. This pairs well with the other specials going on at the Hall + Trivia at 6:30pm!
URL:https://durhamfoodhall.com/event/auctioneer-bar-5-select-drafts-26-select-wine-bottles-050724/
CATEGORIES:Daily Specials
END:VEVENT
BEGIN:VEVENT
DTSTART;TZID=America/New_York:20240507T110000
DTEND;TZID=America/New_York:20240507T210000
DTSTAMP:20260422T181748
CREATED:20240501T200303Z
LAST-MODIFIED:20240501T200303Z
UID:6553-1715079600-1715115600@durhamfoodhall.com
SUMMARY:Mango Indian Grill: 20% off Finger Foods
DESCRIPTION:Enjoy 20% off Finger Foods at Mango Indian Grill every Monday & Tuesday when you order something from the Auctioneer Bar. *Must show proof of purchase from Auctioneer Bar
URL:https://durhamfoodhall.com/event/mango-indian-grill-20-off-finger-foods-050724/
CATEGORIES:Daily Specials
END:VEVENT
BEGIN:VEVENT
DTSTART;TZID=America/New_York:20240507T110000
DTEND;TZID=America/New_York:20240507T210000
DTSTAMP:20260422T181748
CREATED:20240501T200942Z
LAST-MODIFIED:20240501T200942Z
UID:6561-1715079600-1715115600@durhamfoodhall.com
SUMMARY:Napoli Pizzeria: $22 for 2 - House Salad & Margherita Pizza Combo
DESCRIPTION:Get 2 house salads and 1 margherita pizza for only $22 every Tuesday at Napoli in Durham Food Hall! The perfect date night meal is waiting for you – don’t forget to pair it with the Auctioneer Bar’s $6 wine special.
URL:https://durhamfoodhall.com/event/napoli-pizzeria-22-for-2-house-salad-margherita-pizza-combo-050724/
CATEGORIES:Daily Specials
END:VEVENT
BEGIN:VEVENT
DTSTART;TZID=America/New_York:20240507T110000
DTEND;TZID=America/New_York:20240507T210000
DTSTAMP:20260422T181748
CREATED:20240501T202210Z
LAST-MODIFIED:20240501T202210Z
UID:6571-1715079600-1715115600@durhamfoodhall.com
SUMMARY:Auctioneer Bar: $4 Select Beer Cans for Durham Bulls Home Games
DESCRIPTION:Join us pre or post Bulls home games to partake in America’s pastime — drinking beer! We’ll have $4 select beer cans in the fridge at the Auctioneer Bar. Now\, let’s play ball!
URL:https://durhamfoodhall.com/event/auctioneer-bar-4-select-beer-cans-for-durham-bulls-home-games-050724/
CATEGORIES:Daily Specials
END:VEVENT
BEGIN:VEVENT
DTSTART;TZID=America/New_York:20240507T123000
DTEND;TZID=America/New_York:20240507T210000
DTSTAMP:20260422T181748
CREATED:20240501T201719Z
LAST-MODIFIED:20240501T201719Z
UID:6569-1715085000-1715115600@durhamfoodhall.com
SUMMARY:Little Barb's Bakery: BOGO 50% Off Poptarts
DESCRIPTION:Enjoy some tasty poptarts from Little Barb’s Bakery – buy one\, get one half off every Monday & Tuesday!
URL:https://durhamfoodhall.com/event/little-barbs-bakery-bogo-50-off-poptarts-050724/
CATEGORIES:Daily Specials
END:VEVENT
BEGIN:VEVENT
DTSTART;TZID=America/New_York:20240508T110000
DTEND;TZID=America/New_York:20240508T200000
DTSTAMP:20260422T181748
CREATED:20240501T154249Z
LAST-MODIFIED:20240501T154249Z
UID:6452-1715166000-1715198400@durhamfoodhall.com
SUMMARY:Locals Seafood: $2 Oysters
DESCRIPTION:Enjoy $2 oysters from Durham Food Hall’s seafood specialists – Local’s Seafood! This is one shell of a deal – happening every Wednesday!
URL:https://durhamfoodhall.com/event/locals-seafood-2-oysters-050824/
CATEGORIES:Daily Specials
END:VEVENT
END:VCALENDAR