BEGIN:VCALENDAR
VERSION:2.0
PRODID:-//Durham Food Hall - ECPv6.15.20//NONSGML v1.0//EN
CALSCALE:GREGORIAN
METHOD:PUBLISH
X-ORIGINAL-URL:https://durhamfoodhall.com
X-WR-CALDESC:Events for Durham Food Hall
REFRESH-INTERVAL;VALUE=DURATION:PT1H
X-Robots-Tag:noindex
X-PUBLISHED-TTL:PT1H
BEGIN:VTIMEZONE
TZID:America/New_York
BEGIN:DAYLIGHT
TZOFFSETFROM:-0500
TZOFFSETTO:-0400
TZNAME:EDT
DTSTART:20230312T070000
END:DAYLIGHT
BEGIN:STANDARD
TZOFFSETFROM:-0400
TZOFFSETTO:-0500
TZNAME:EST
DTSTART:20231105T060000
END:STANDARD
BEGIN:DAYLIGHT
TZOFFSETFROM:-0500
TZOFFSETTO:-0400
TZNAME:EDT
DTSTART:20240310T070000
END:DAYLIGHT
BEGIN:STANDARD
TZOFFSETFROM:-0400
TZOFFSETTO:-0500
TZNAME:EST
DTSTART:20241103T060000
END:STANDARD
BEGIN:DAYLIGHT
TZOFFSETFROM:-0500
TZOFFSETTO:-0400
TZNAME:EDT
DTSTART:20250309T070000
END:DAYLIGHT
BEGIN:STANDARD
TZOFFSETFROM:-0400
TZOFFSETTO:-0500
TZNAME:EST
DTSTART:20251102T060000
END:STANDARD
END:VTIMEZONE
BEGIN:VEVENT
DTSTART;TZID=America/New_York:20240109T110000
DTEND;TZID=America/New_York:20240109T210000
DTSTAMP:20260419T200827
CREATED:20240104T214829Z
LAST-MODIFIED:20240104T214829Z
UID:5517-1704798000-1704834000@durhamfoodhall.com
SUMMARY:$5 Select Drafts & $6 Italian Glasses of Wine
DESCRIPTION:Enjoy Tuesdays at the Auctioneer Bar with $5 select drafts and $6 Italian glasses of wine. These pair well with the other specials going on at the Hall + Trivia at 6:30pm!
URL:https://durhamfoodhall.com/event/5-select-drafts-6-italian-glasses-of-wine-20924/
CATEGORIES:Daily Specials
END:VEVENT
BEGIN:VEVENT
DTSTART;TZID=America/New_York:20240109T110000
DTEND;TZID=America/New_York:20240109T210000
DTSTAMP:20260419T200827
CREATED:20240104T215129Z
LAST-MODIFIED:20240104T215129Z
UID:5521-1704798000-1704834000@durhamfoodhall.com
SUMMARY:$22 for 2 - House Salad & Margherita Pizza Combo
DESCRIPTION:Get 2 house salads and 1 margherita pizza for only $22 every Tuesday at Napoli in Durham Food Hall! The perfect date night meal is waiting for you – don’t forget to pair it with the Auctioneer Bar’s $6 wine special.
URL:https://durhamfoodhall.com/event/22-for-2-house-salad-margherita-pizza-combo-10924/
CATEGORIES:Daily Specials
END:VEVENT
BEGIN:VEVENT
DTSTART;TZID=America/New_York:20240109T123000
DTEND;TZID=America/New_York:20240109T210000
DTSTAMP:20260419T200827
CREATED:20240104T215434Z
LAST-MODIFIED:20240104T215434Z
UID:5525-1704803400-1704834000@durhamfoodhall.com
SUMMARY:BOGO 50% Off Poptarts
DESCRIPTION:Enjoy some tasty poptarts from Little Barb’s Bakery – buy one\, get one half off every Monday & Tuesday!
URL:https://durhamfoodhall.com/event/bogo-50-off-poptarts-10924/
CATEGORIES:Daily Specials
END:VEVENT
BEGIN:VEVENT
DTSTART;TZID=America/New_York:20240110T110000
DTEND;TZID=America/New_York:20240110T200000
DTSTAMP:20260419T200827
CREATED:20240104T211541Z
LAST-MODIFIED:20240104T211541Z
UID:5459-1704884400-1704916800@durhamfoodhall.com
SUMMARY:$2 Oysters
DESCRIPTION:Enjoy $2 oysters from Durham Food Hall’s seafood specialists – Local’s Seafood! This is one shell of a deal – happening every Wednesday!
URL:https://durhamfoodhall.com/event/2-oysters-11024/
CATEGORIES:Daily Specials
END:VEVENT
BEGIN:VEVENT
DTSTART;TZID=America/New_York:20240110T110000
DTEND;TZID=America/New_York:20240110T200000
DTSTAMP:20260419T200827
CREATED:20240104T213712Z
LAST-MODIFIED:20240104T213712Z
UID:5495-1704884400-1704916800@durhamfoodhall.com
SUMMARY:Pork Belly Crunchwraps
DESCRIPTION:Try this special crunchwrap concoction featuring pork belly from Ex-Voto every Wednesday at Durham Food Hall!
URL:https://durhamfoodhall.com/event/pork-belly-crunchwraps-11024/
CATEGORIES:Daily Specials
END:VEVENT
BEGIN:VEVENT
DTSTART;TZID=America/New_York:20240110T110000
DTEND;TZID=America/New_York:20240110T210000
DTSTAMP:20260419T200827
CREATED:20240104T212725Z
LAST-MODIFIED:20240104T212725Z
UID:5477-1704884400-1704920400@durhamfoodhall.com
SUMMARY:$25 Bottles of Bubbly
DESCRIPTION:Wednesdays are for champagne at Durham Food Hall – enjoy $25 bottles of bubbly from the Auctioneer Bar!
URL:https://durhamfoodhall.com/event/25-bottles-of-bubbly-11024/
CATEGORIES:Daily Specials
END:VEVENT
BEGIN:VEVENT
DTSTART;TZID=America/New_York:20240111T110000
DTEND;TZID=America/New_York:20240111T200000
DTSTAMP:20260419T200827
CREATED:20240104T200807Z
LAST-MODIFIED:20240104T200807Z
UID:5359-1704970800-1705003200@durhamfoodhall.com
SUMMARY:Fried Shrimp Crunchwraps
DESCRIPTION:Try Ex-Voto’s fried shrimp crunchwrap every Thursday at Durham Food Hall!
URL:https://durhamfoodhall.com/event/fried-shrimp-crunchwraps-11124/
CATEGORIES:Daily Specials
END:VEVENT
BEGIN:VEVENT
DTSTART;TZID=America/New_York:20240112T110000
DTEND;TZID=America/New_York:20240112T200000
DTSTAMP:20260419T200827
CREATED:20240104T202009Z
LAST-MODIFIED:20240104T202009Z
UID:5379-1705057200-1705089600@durhamfoodhall.com
SUMMARY:Carne Asada Crunchwraps
DESCRIPTION:Kick off your weekend every Friday with a specialty carne asada crunchwrap from Ex-Voto in Durham Food Hall!
URL:https://durhamfoodhall.com/event/carne-asada-crunchwraps-11224/
CATEGORIES:Daily Specials
END:VEVENT
BEGIN:VEVENT
DTSTART;TZID=America/New_York:20240113T100000
DTEND;TZID=America/New_York:20240113T200000
DTSTAMP:20260419T200827
CREATED:20240104T210348Z
LAST-MODIFIED:20240104T210348Z
UID:5443-1705140000-1705176000@durhamfoodhall.com
SUMMARY:Breakfast Burritos
DESCRIPTION:You do not want to miss out on your chance for one of Ex-Voto’s massive breakfast burritos! These are available while supplies last every Saturday & Sunday – these go fast\, so hurry in to brunch at Durham Food Hall!
URL:https://durhamfoodhall.com/event/breakfast-burritos-11324/
CATEGORIES:Daily Specials
END:VEVENT
BEGIN:VEVENT
DTSTART;TZID=America/New_York:20240113T100000
DTEND;TZID=America/New_York:20240113T220000
DTSTAMP:20260419T200827
CREATED:20240104T203913Z
LAST-MODIFIED:20240104T203913Z
UID:5413-1705140000-1705183200@durhamfoodhall.com
SUMMARY:$9 House-made Bloody Marys
DESCRIPTION:Enjoy this tasty weekend treat from the Auctioneer Bar – $9 house-made bloody marys every Saturday\, created specially with Napoli’s tomato juice.
URL:https://durhamfoodhall.com/event/9-house-made-bloody-marys-11324/
CATEGORIES:Daily Specials
END:VEVENT
BEGIN:VEVENT
DTSTART;TZID=America/New_York:20240114T100000
DTEND;TZID=America/New_York:20240114T150000
DTSTAMP:20260419T200827
CREATED:20240104T205345Z
LAST-MODIFIED:20240104T205345Z
UID:5429-1705226400-1705244400@durhamfoodhall.com
SUMMARY:Breakfast Burritos
DESCRIPTION:You do not want to miss out on your chance for one of Ex-Voto’s massive breakfast burritos! These are available while supplies last every Saturday & Sunday – these go fast\, so hurry in to brunch at Durham Food Hall!
URL:https://durhamfoodhall.com/event/breakfast-burritos-11424/
CATEGORIES:Daily Specials
END:VEVENT
BEGIN:VEVENT
DTSTART;TZID=America/New_York:20240114T100000
DTEND;TZID=America/New_York:20240114T210000
DTSTAMP:20260419T200827
CREATED:20240104T203008Z
LAST-MODIFIED:20240104T203008Z
UID:5395-1705226400-1705266000@durhamfoodhall.com
SUMMARY:$25 'You Pick 4' Canned Beers
DESCRIPTION:Pick 4 local + craft beers for only $25 at the Auctioneer Bar every Sunday!
URL:https://durhamfoodhall.com/event/25-you-pick-4-canned-beers-11424/
CATEGORIES:Daily Specials
END:VEVENT
BEGIN:VEVENT
DTSTART;TZID=America/New_York:20240115T123000
DTEND;TZID=America/New_York:20240115T210000
DTSTAMP:20260419T200827
CREATED:20240105T212650Z
LAST-MODIFIED:20240105T212650Z
UID:5563-1705321800-1705352400@durhamfoodhall.com
SUMMARY:BOGO 50% Off Poptarts
DESCRIPTION:Enjoy some tasty poptarts from Little Barb’s Bakery – buy one\, get one half off every Monday & Tuesday!
URL:https://durhamfoodhall.com/event/bogo-50-off-poptarts-11523/
CATEGORIES:Daily Specials
END:VEVENT
BEGIN:VEVENT
DTSTART;TZID=America/New_York:20240115T170000
DTEND;TZID=America/New_York:20240115T210000
DTSTAMP:20260419T200827
CREATED:20240105T171816Z
LAST-MODIFIED:20240105T213733Z
UID:5543-1705338000-1705352400@durhamfoodhall.com
SUMMARY:Industry Night Specials
DESCRIPTION:Enjoy Industry Night at Durham Food Hall!  \nMonday Night specials:\nAuctioneer Bar – $10 boiler makers\nNapoli Pizzeria – $1 off meat & cheese boards after 5pm\nCornerYaki – Half off dashi fries with purchase of entrée after 5pm
URL:https://durhamfoodhall.com/event/industry-night-10-boiler-makers-11524/
CATEGORIES:Daily Specials
END:VEVENT
BEGIN:VEVENT
DTSTART;TZID=America/New_York:20240116T110000
DTEND;TZID=America/New_York:20240116T180000
DTSTAMP:20260419T200827
CREATED:20240108T213338Z
LAST-MODIFIED:20240108T213338Z
UID:5611-1705402800-1705428000@durhamfoodhall.com
SUMMARY:Rotating Drink Specials
DESCRIPTION:Milklab has seasonal & rotating drink specials every Tuesday! Try them next time you’re at Durham Food Hall!
URL:https://durhamfoodhall.com/event/rotating-drink-specials-11624/
CATEGORIES:Daily Specials
END:VEVENT
BEGIN:VEVENT
DTSTART;TZID=America/New_York:20240116T110000
DTEND;TZID=America/New_York:20240116T210000
DTSTAMP:20260419T200827
CREATED:20240108T210959Z
LAST-MODIFIED:20240108T210959Z
UID:5587-1705402800-1705438800@durhamfoodhall.com
SUMMARY:$22 for 2 - House Salad & Margherita Pizza Combo
DESCRIPTION:Get 2 house salads and 1 margherita pizza for only $22 every Tuesday at Napoli in Durham Food Hall! The perfect date night meal is waiting for you – don’t forget to pair it with the Auctioneer Bar’s $6 wine special.
URL:https://durhamfoodhall.com/event/22-for-2-house-salad-margherita-pizza-combo-11624/
CATEGORIES:Daily Specials
END:VEVENT
BEGIN:VEVENT
DTSTART;TZID=America/New_York:20240116T110000
DTEND;TZID=America/New_York:20240116T210000
DTSTAMP:20260419T200827
CREATED:20240108T212541Z
LAST-MODIFIED:20240111T162549Z
UID:5599-1705402800-1705438800@durhamfoodhall.com
SUMMARY:$5 Select Drafts
DESCRIPTION:Enjoy Tuesdays at the Auctioneer Bar with $5 select drafts. This pairs well with the other specials going on at the Hall + Trivia at 6:30pm!
URL:https://durhamfoodhall.com/event/5-select-drafts-6-italian-glasses-of-wine-11624/
CATEGORIES:Daily Specials
END:VEVENT
BEGIN:VEVENT
DTSTART;TZID=America/New_York:20240116T123000
DTEND;TZID=America/New_York:20240116T210000
DTSTAMP:20260419T200827
CREATED:20240105T212729Z
LAST-MODIFIED:20240105T212729Z
UID:5565-1705408200-1705438800@durhamfoodhall.com
SUMMARY:BOGO 50% Off Poptarts
DESCRIPTION:Enjoy some tasty poptarts from Little Barb’s Bakery – buy one\, get one half off every Monday & Tuesday!
URL:https://durhamfoodhall.com/event/bogo-50-off-poptarts-11624/
CATEGORIES:Daily Specials
END:VEVENT
BEGIN:VEVENT
DTSTART;TZID=America/New_York:20240117T110000
DTEND;TZID=America/New_York:20240117T200000
DTSTAMP:20260419T200827
CREATED:20240104T211809Z
LAST-MODIFIED:20240104T211809Z
UID:5461-1705489200-1705521600@durhamfoodhall.com
SUMMARY:$2 Oysters
DESCRIPTION:Enjoy $2 oysters from Durham Food Hall’s seafood specialists – Local’s Seafood! This is one shell of a deal – happening every Wednesday!
URL:https://durhamfoodhall.com/event/2-oysters-11724/
CATEGORIES:Daily Specials
END:VEVENT
BEGIN:VEVENT
DTSTART;TZID=America/New_York:20240117T110000
DTEND;TZID=America/New_York:20240117T200000
DTSTAMP:20260419T200827
CREATED:20240104T213755Z
LAST-MODIFIED:20240104T213755Z
UID:5497-1705489200-1705521600@durhamfoodhall.com
SUMMARY:Pork Belly Crunchwraps
DESCRIPTION:Try this special crunchwrap concoction featuring pork belly from Ex-Voto every Wednesday at Durham Food Hall!
URL:https://durhamfoodhall.com/event/pork-belly-crunchwraps-11724/
CATEGORIES:Daily Specials
END:VEVENT
BEGIN:VEVENT
DTSTART;TZID=America/New_York:20240117T110000
DTEND;TZID=America/New_York:20240117T210000
DTSTAMP:20260419T200827
CREATED:20240104T212928Z
LAST-MODIFIED:20240104T212928Z
UID:5479-1705489200-1705525200@durhamfoodhall.com
SUMMARY:$25 Bottles of Bubbly
DESCRIPTION:Wednesdays are for champagne at Durham Food Hall – enjoy $25 bottles of bubbly from the Auctioneer Bar!
URL:https://durhamfoodhall.com/event/25-bottles-of-bubbly-11724/
CATEGORIES:Daily Specials
END:VEVENT
BEGIN:VEVENT
DTSTART;TZID=America/New_York:20240118T110000
DTEND;TZID=America/New_York:20240118T200000
DTSTAMP:20260419T200827
CREATED:20240104T200847Z
LAST-MODIFIED:20240104T200847Z
UID:5361-1705575600-1705608000@durhamfoodhall.com
SUMMARY:Fried Shrimp Crunchwraps
DESCRIPTION:Try Ex-Voto’s fried shrimp crunchwrap every Thursday at Durham Food Hall!
URL:https://durhamfoodhall.com/event/fried-shrimp-crunchwraps-11824/
CATEGORIES:Daily Specials
END:VEVENT
BEGIN:VEVENT
DTSTART;TZID=America/New_York:20240119T110000
DTEND;TZID=America/New_York:20240119T200000
DTSTAMP:20260419T200827
CREATED:20240104T202045Z
LAST-MODIFIED:20240104T202045Z
UID:5381-1705662000-1705694400@durhamfoodhall.com
SUMMARY:Carne Asada Crunchwraps
DESCRIPTION:Kick off your weekend every Friday with a specialty carne asada crunchwrap from Ex-Voto in Durham Food Hall!
URL:https://durhamfoodhall.com/event/carne-asada-crunchwraps-11924/
CATEGORIES:Daily Specials
END:VEVENT
BEGIN:VEVENT
DTSTART;TZID=America/New_York:20240120T100000
DTEND;TZID=America/New_York:20240120T200000
DTSTAMP:20260419T200827
CREATED:20240104T210441Z
LAST-MODIFIED:20240104T210441Z
UID:5445-1705744800-1705780800@durhamfoodhall.com
SUMMARY:Breakfast Burritos
DESCRIPTION:You do not want to miss out on your chance for one of Ex-Voto’s massive breakfast burritos! These are available while supplies last every Saturday & Sunday – these go fast\, so hurry in to brunch at Durham Food Hall!
URL:https://durhamfoodhall.com/event/breakfast-burritos-12024/
CATEGORIES:Daily Specials
END:VEVENT
BEGIN:VEVENT
DTSTART;TZID=America/New_York:20240120T100000
DTEND;TZID=America/New_York:20240120T220000
DTSTAMP:20260419T200827
CREATED:20240104T204022Z
LAST-MODIFIED:20240104T204022Z
UID:5415-1705744800-1705788000@durhamfoodhall.com
SUMMARY:$9 House-made Bloody Marys
DESCRIPTION:Enjoy this tasty weekend treat from the Auctioneer Bar – $9 house-made bloody marys every Saturday\, created specially with Napoli’s tomato juice.
URL:https://durhamfoodhall.com/event/9-house-made-bloody-marys-12024/
CATEGORIES:Daily Specials
END:VEVENT
BEGIN:VEVENT
DTSTART;TZID=America/New_York:20240121T100000
DTEND;TZID=America/New_York:20240121T150000
DTSTAMP:20260419T200827
CREATED:20240104T205431Z
LAST-MODIFIED:20240104T205431Z
UID:5431-1705831200-1705849200@durhamfoodhall.com
SUMMARY:Breakfast Burritos
DESCRIPTION:You do not want to miss out on your chance for one of Ex-Voto’s massive breakfast burritos! These are available while supplies last every Saturday & Sunday – these go fast\, so hurry in to brunch at Durham Food Hall!
URL:https://durhamfoodhall.com/event/breakfast-burritos-12124/
CATEGORIES:Daily Specials
END:VEVENT
BEGIN:VEVENT
DTSTART;TZID=America/New_York:20240121T100000
DTEND;TZID=America/New_York:20240121T210000
DTSTAMP:20260419T200827
CREATED:20240104T203131Z
LAST-MODIFIED:20240104T203131Z
UID:5397-1705831200-1705870800@durhamfoodhall.com
SUMMARY:$25 'You Pick 4' Canned Beers
DESCRIPTION:Pick 4 local + craft beers for only $25 at the Auctioneer Bar every Sunday!
URL:https://durhamfoodhall.com/event/25-you-pick-4-canned-beers-12124/
CATEGORIES:Daily Specials
END:VEVENT
BEGIN:VEVENT
DTSTART;TZID=America/New_York:20240122T123000
DTEND;TZID=America/New_York:20240122T210000
DTSTAMP:20260419T200827
CREATED:20240105T212834Z
LAST-MODIFIED:20240105T212834Z
UID:5567-1705926600-1705957200@durhamfoodhall.com
SUMMARY:BOGO 50% Off Poptarts
DESCRIPTION:Enjoy some tasty poptarts from Little Barb’s Bakery – buy one\, get one half off every Monday & Tuesday!
URL:https://durhamfoodhall.com/event/bogo-50-off-poptarts-12224/
CATEGORIES:Daily Specials
END:VEVENT
BEGIN:VEVENT
DTSTART;TZID=America/New_York:20240122T170000
DTEND;TZID=America/New_York:20240122T210000
DTSTAMP:20260419T200827
CREATED:20240105T171857Z
LAST-MODIFIED:20240105T213747Z
UID:5545-1705942800-1705957200@durhamfoodhall.com
SUMMARY:Industry Night Specials
DESCRIPTION:Enjoy Industry Night at Durham Food Hall!  \nMonday Night specials:\nAuctioneer Bar – $10 boiler makers\nNapoli Pizzeria – $1 off meat & cheese boards after 5pm\nCornerYaki – Half off dashi fries with purchase of entrée after 5pm
URL:https://durhamfoodhall.com/event/industry-night-10-boiler-makers-12224/
CATEGORIES:Daily Specials
END:VEVENT
BEGIN:VEVENT
DTSTART;TZID=America/New_York:20240123T110000
DTEND;TZID=America/New_York:20240123T180000
DTSTAMP:20260419T200827
CREATED:20240108T213504Z
LAST-MODIFIED:20240108T213504Z
UID:5613-1706007600-1706032800@durhamfoodhall.com
SUMMARY:Rotating Drink Specials
DESCRIPTION:Milklab has seasonal & rotating drink specials every Tuesday! Try them next time you’re at Durham Food Hall!
URL:https://durhamfoodhall.com/event/rotating-drink-specials-12324/
CATEGORIES:Daily Specials
END:VEVENT
END:VCALENDAR