BEGIN:VCALENDAR
VERSION:2.0
PRODID:-//Durham Food Hall - ECPv6.15.20//NONSGML v1.0//EN
CALSCALE:GREGORIAN
METHOD:PUBLISH
X-WR-CALNAME:Durham Food Hall
X-ORIGINAL-URL:https://durhamfoodhall.com
X-WR-CALDESC:Events for Durham Food Hall
REFRESH-INTERVAL;VALUE=DURATION:PT1H
X-Robots-Tag:noindex
X-PUBLISHED-TTL:PT1H
BEGIN:VTIMEZONE
TZID:America/New_York
BEGIN:DAYLIGHT
TZOFFSETFROM:-0500
TZOFFSETTO:-0400
TZNAME:EDT
DTSTART:20230312T070000
END:DAYLIGHT
BEGIN:STANDARD
TZOFFSETFROM:-0400
TZOFFSETTO:-0500
TZNAME:EST
DTSTART:20231105T060000
END:STANDARD
BEGIN:DAYLIGHT
TZOFFSETFROM:-0500
TZOFFSETTO:-0400
TZNAME:EDT
DTSTART:20240310T070000
END:DAYLIGHT
BEGIN:STANDARD
TZOFFSETFROM:-0400
TZOFFSETTO:-0500
TZNAME:EST
DTSTART:20241103T060000
END:STANDARD
BEGIN:DAYLIGHT
TZOFFSETFROM:-0500
TZOFFSETTO:-0400
TZNAME:EDT
DTSTART:20250309T070000
END:DAYLIGHT
BEGIN:STANDARD
TZOFFSETFROM:-0400
TZOFFSETTO:-0500
TZNAME:EST
DTSTART:20251102T060000
END:STANDARD
END:VTIMEZONE
BEGIN:VEVENT
DTSTART;TZID=America/New_York:20240214T063000
DTEND;TZID=America/New_York:20240214T080000
DTSTAMP:20260421T235710
CREATED:20240212T181150Z
LAST-MODIFIED:20240212T181150Z
UID:5795-1707892200-1707897600@durhamfoodhall.com
SUMMARY:Everything Bagels & Liturgy Beverage: 10% off between 6:30-8am
DESCRIPTION:Enjoy the “Earliest Breakfast in Town” at Everything Bagels and Liturgy Beverage every weekday! Celebrate being an early riser with 10% off your order between 6:30am-8am.
URL:https://durhamfoodhall.com/event/everything-bagels-21424/
CATEGORIES:Daily Specials
END:VEVENT
BEGIN:VEVENT
DTSTART;TZID=America/New_York:20240214T110000
DTEND;TZID=America/New_York:20240214T200000
DTSTAMP:20260421T235710
CREATED:20240104T212150Z
LAST-MODIFIED:20240212T194107Z
UID:5469-1707908400-1707940800@durhamfoodhall.com
SUMMARY:Locals Seafood: $2 Oysters
DESCRIPTION:Enjoy $2 oysters from Durham Food Hall’s seafood specialists – Local’s Seafood! This is one shell of a deal – happening every Wednesday!
URL:https://durhamfoodhall.com/event/2-oysters-21424/
CATEGORIES:Daily Specials
END:VEVENT
BEGIN:VEVENT
DTSTART;TZID=America/New_York:20240214T110000
DTEND;TZID=America/New_York:20240214T200000
DTSTAMP:20260421T235710
CREATED:20240104T214103Z
LAST-MODIFIED:20240212T194118Z
UID:5505-1707908400-1707940800@durhamfoodhall.com
SUMMARY:Ex-Voto: Pork Belly Crunchwraps
DESCRIPTION:Try this special crunchwrap concoction featuring pork belly from Ex-Voto every Wednesday at Durham Food Hall!
URL:https://durhamfoodhall.com/event/pork-belly-crunchwraps-21424/
CATEGORIES:Daily Specials
END:VEVENT
BEGIN:VEVENT
DTSTART;TZID=America/New_York:20240214T110000
DTEND;TZID=America/New_York:20240214T210000
DTSTAMP:20260421T235710
CREATED:20240104T213239Z
LAST-MODIFIED:20240212T194148Z
UID:5487-1707908400-1707944400@durhamfoodhall.com
SUMMARY:Auctioneer Bar: $25 Bottles of Bubbly
DESCRIPTION:Wednesdays are for champagne at Durham Food Hall – enjoy $25 bottles of bubbly from the Auctioneer Bar!
URL:https://durhamfoodhall.com/event/25-bottles-of-bubbly-21424/
CATEGORIES:Daily Specials
END:VEVENT
END:VCALENDAR