BEGIN:VCALENDAR
VERSION:2.0
PRODID:-//Durham Food Hall - ECPv6.15.20//NONSGML v1.0//EN
CALSCALE:GREGORIAN
METHOD:PUBLISH
X-ORIGINAL-URL:https://durhamfoodhall.com
X-WR-CALDESC:Events for Durham Food Hall
REFRESH-INTERVAL;VALUE=DURATION:PT1H
X-Robots-Tag:noindex
X-PUBLISHED-TTL:PT1H
BEGIN:VTIMEZONE
TZID:America/New_York
BEGIN:DAYLIGHT
TZOFFSETFROM:-0500
TZOFFSETTO:-0400
TZNAME:EDT
DTSTART:20220313T070000
END:DAYLIGHT
BEGIN:STANDARD
TZOFFSETFROM:-0400
TZOFFSETTO:-0500
TZNAME:EST
DTSTART:20221106T060000
END:STANDARD
BEGIN:DAYLIGHT
TZOFFSETFROM:-0500
TZOFFSETTO:-0400
TZNAME:EDT
DTSTART:20230312T070000
END:DAYLIGHT
BEGIN:STANDARD
TZOFFSETFROM:-0400
TZOFFSETTO:-0500
TZNAME:EST
DTSTART:20231105T060000
END:STANDARD
BEGIN:DAYLIGHT
TZOFFSETFROM:-0500
TZOFFSETTO:-0400
TZNAME:EDT
DTSTART:20240310T070000
END:DAYLIGHT
BEGIN:STANDARD
TZOFFSETFROM:-0400
TZOFFSETTO:-0500
TZNAME:EST
DTSTART:20241103T060000
END:STANDARD
END:VTIMEZONE
BEGIN:VEVENT
DTSTART;TZID=America/New_York:20231218T110000
DTEND;TZID=America/New_York:20231218T210000
DTSTAMP:20260424T171608
CREATED:20231120T160021Z
LAST-MODIFIED:20231120T160021Z
UID:5207-1702897200-1702933200@durhamfoodhall.com
SUMMARY:Industry Night: $10 Boiler Makers
DESCRIPTION:Enjoy Industry Night at Durham Food Hall! Get $10 Boiler Makers—a Bull Durham Light and LIT shot.
URL:https://durhamfoodhall.com/event/industry-night-10-boiler-makers-121823/
CATEGORIES:Daily Specials
END:VEVENT
BEGIN:VEVENT
DTSTART;TZID=America/New_York:20231218T123000
DTEND;TZID=America/New_York:20231218T210000
DTSTAMP:20260424T171608
CREATED:20231120T155515Z
LAST-MODIFIED:20231120T155515Z
UID:5201-1702902600-1702933200@durhamfoodhall.com
SUMMARY:BOGO 50% Off Poptarts
DESCRIPTION:Enjoy some tasty poptarts from Little Barb’s Bakery – buy one\, get one half off every Monday & Tuesday!
URL:https://durhamfoodhall.com/event/bogo-50-off-poptarts-121823/
CATEGORIES:Daily Specials
END:VEVENT
BEGIN:VEVENT
DTSTART;TZID=America/New_York:20231218T170000
DTEND;TZID=America/New_York:20231218T210000
DTSTAMP:20260424T171608
CREATED:20231120T154517Z
LAST-MODIFIED:20231120T154517Z
UID:5189-1702918800-1702933200@durhamfoodhall.com
SUMMARY:$1 off Formaggi & Meat Boards
DESCRIPTION:Mondays are industry night at Durham Food Hall! Enjoy $1 off formaggi and meat boards at Napoli Pizzeria & Gelateria after 5pm.
URL:https://durhamfoodhall.com/event/1-off-formaggi-meat-boards-121823/
CATEGORIES:Daily Specials
END:VEVENT
BEGIN:VEVENT
DTSTART;TZID=America/New_York:20231218T170000
DTEND;TZID=America/New_York:20231218T210000
DTSTAMP:20260424T171608
CREATED:20231120T155217Z
LAST-MODIFIED:20231120T155217Z
UID:5195-1702918800-1702933200@durhamfoodhall.com
SUMMARY:Half Off Dashi Fries with Purchase of Entrée
DESCRIPTION:Mondays are Industry Night at Durham Food Hall! Enjoy half priced dashi fries at Corner Yaki after 5pm on Mondays with purchase of an entrée!
URL:https://durhamfoodhall.com/event/half-off-dashi-fries-with-purchase-of-entree-121823/
CATEGORIES:Daily Specials
END:VEVENT
END:VCALENDAR