BEGIN:VCALENDAR
VERSION:2.0
PRODID:-//Durham Food Hall - ECPv6.15.20//NONSGML v1.0//EN
CALSCALE:GREGORIAN
METHOD:PUBLISH
X-WR-CALNAME:Durham Food Hall
X-ORIGINAL-URL:https://durhamfoodhall.com
X-WR-CALDESC:Events for Durham Food Hall
REFRESH-INTERVAL;VALUE=DURATION:PT1H
X-Robots-Tag:noindex
X-PUBLISHED-TTL:PT1H
BEGIN:VTIMEZONE
TZID:America/New_York
BEGIN:DAYLIGHT
TZOFFSETFROM:-0500
TZOFFSETTO:-0400
TZNAME:EDT
DTSTART:20220313T070000
END:DAYLIGHT
BEGIN:STANDARD
TZOFFSETFROM:-0400
TZOFFSETTO:-0500
TZNAME:EST
DTSTART:20221106T060000
END:STANDARD
BEGIN:DAYLIGHT
TZOFFSETFROM:-0500
TZOFFSETTO:-0400
TZNAME:EDT
DTSTART:20230312T070000
END:DAYLIGHT
BEGIN:STANDARD
TZOFFSETFROM:-0400
TZOFFSETTO:-0500
TZNAME:EST
DTSTART:20231105T060000
END:STANDARD
BEGIN:DAYLIGHT
TZOFFSETFROM:-0500
TZOFFSETTO:-0400
TZNAME:EDT
DTSTART:20240310T070000
END:DAYLIGHT
BEGIN:STANDARD
TZOFFSETFROM:-0400
TZOFFSETTO:-0500
TZNAME:EST
DTSTART:20241103T060000
END:STANDARD
END:VTIMEZONE
BEGIN:VEVENT
DTSTART;TZID=America/New_York:20231210T100000
DTEND;TZID=America/New_York:20231210T150000
DTSTAMP:20260424T171015
CREATED:20231120T175909Z
LAST-MODIFIED:20231120T175909Z
UID:5297-1702202400-1702220400@durhamfoodhall.com
SUMMARY:Breakfast Burritos
DESCRIPTION:You do not want to miss out on your chance for one of Ex-Voto’s massive breakfast burritos! These are available while supplies last every Saturday & Sunday – these go fast\, so hurry in to brunch at Durham Food Hall!
URL:https://durhamfoodhall.com/event/breakfast-burritos-121023/
CATEGORIES:Daily Specials
END:VEVENT
BEGIN:VEVENT
DTSTART;TZID=America/New_York:20231210T100000
DTEND;TZID=America/New_York:20231210T210000
DTSTAMP:20260424T171015
CREATED:20231120T174949Z
LAST-MODIFIED:20231120T174949Z
UID:5287-1702202400-1702242000@durhamfoodhall.com
SUMMARY:$25 'You Pick 4' Canned Beers
DESCRIPTION:Pick 4 local + craft beers for only $25 at the Auctioneer Bar every Sunday!
URL:https://durhamfoodhall.com/event/25-you-pick-4-canned-beers-121023/
CATEGORIES:Daily Specials
END:VEVENT
END:VCALENDAR