BEGIN:VCALENDAR
VERSION:2.0
PRODID:-//Durham Food Hall - ECPv6.15.20//NONSGML v1.0//EN
CALSCALE:GREGORIAN
METHOD:PUBLISH
X-ORIGINAL-URL:https://durhamfoodhall.com
X-WR-CALDESC:Events for Durham Food Hall
REFRESH-INTERVAL;VALUE=DURATION:PT1H
X-Robots-Tag:noindex
X-PUBLISHED-TTL:PT1H
BEGIN:VTIMEZONE
TZID:America/New_York
BEGIN:DAYLIGHT
TZOFFSETFROM:-0500
TZOFFSETTO:-0400
TZNAME:EDT
DTSTART:20210314T070000
END:DAYLIGHT
BEGIN:STANDARD
TZOFFSETFROM:-0400
TZOFFSETTO:-0500
TZNAME:EST
DTSTART:20211107T060000
END:STANDARD
BEGIN:DAYLIGHT
TZOFFSETFROM:-0500
TZOFFSETTO:-0400
TZNAME:EDT
DTSTART:20220313T070000
END:DAYLIGHT
BEGIN:STANDARD
TZOFFSETFROM:-0400
TZOFFSETTO:-0500
TZNAME:EST
DTSTART:20221106T060000
END:STANDARD
BEGIN:DAYLIGHT
TZOFFSETFROM:-0500
TZOFFSETTO:-0400
TZNAME:EDT
DTSTART:20230312T070000
END:DAYLIGHT
BEGIN:STANDARD
TZOFFSETFROM:-0400
TZOFFSETTO:-0500
TZNAME:EST
DTSTART:20231105T060000
END:STANDARD
END:VTIMEZONE
BEGIN:VEVENT
DTSTART;TZID=America/New_York:20221130T110000
DTEND;TZID=America/New_York:20221130T200000
DTSTAMP:20260421T063203
CREATED:20221101T174641Z
LAST-MODIFIED:20221101T174641Z
UID:3254-1669806000-1669838400@durhamfoodhall.com
SUMMARY:Locals Seafood: $2 Raw Oysters
DESCRIPTION:
URL:https://durhamfoodhall.com/event/locals-seafood-2-raw-oysters-1130/
LOCATION:NC
ATTACH;FMTTYPE=image/jpeg:https://durhamfoodhall.com/wp-content/uploads/2019/08/Raw-NC-oysters-on-the-half-shell-at-Locals-Oyster-Bar.jpg
END:VEVENT
BEGIN:VEVENT
DTSTART;TZID=America/New_York:20221130T190000
DTEND;TZID=America/New_York:20221130T210000
DTSTAMP:20260421T063203
CREATED:20221028T165202Z
LAST-MODIFIED:20221101T173817Z
UID:3204-1669834800-1669842000@durhamfoodhall.com
SUMMARY:Movie Night - Planet of the Apes
DESCRIPTION:
URL:https://durhamfoodhall.com/event/movie-night-1130/
LOCATION:NC
END:VEVENT
END:VCALENDAR