BEGIN:VCALENDAR
VERSION:2.0
PRODID:-//Durham Food Hall - ECPv6.15.20//NONSGML v1.0//EN
CALSCALE:GREGORIAN
METHOD:PUBLISH
X-WR-CALNAME:Durham Food Hall
X-ORIGINAL-URL:https://durhamfoodhall.com
X-WR-CALDESC:Events for Durham Food Hall
REFRESH-INTERVAL;VALUE=DURATION:PT1H
X-Robots-Tag:noindex
X-PUBLISHED-TTL:PT1H
BEGIN:VTIMEZONE
TZID:America/New_York
BEGIN:DAYLIGHT
TZOFFSETFROM:-0500
TZOFFSETTO:-0400
TZNAME:EDT
DTSTART:20210314T070000
END:DAYLIGHT
BEGIN:STANDARD
TZOFFSETFROM:-0400
TZOFFSETTO:-0500
TZNAME:EST
DTSTART:20211107T060000
END:STANDARD
BEGIN:DAYLIGHT
TZOFFSETFROM:-0500
TZOFFSETTO:-0400
TZNAME:EDT
DTSTART:20220313T070000
END:DAYLIGHT
BEGIN:STANDARD
TZOFFSETFROM:-0400
TZOFFSETTO:-0500
TZNAME:EST
DTSTART:20221106T060000
END:STANDARD
BEGIN:DAYLIGHT
TZOFFSETFROM:-0500
TZOFFSETTO:-0400
TZNAME:EDT
DTSTART:20230312T070000
END:DAYLIGHT
BEGIN:STANDARD
TZOFFSETFROM:-0400
TZOFFSETTO:-0500
TZNAME:EST
DTSTART:20231105T060000
END:STANDARD
END:VTIMEZONE
BEGIN:VEVENT
DTSTART;TZID=America/New_York:20221128T110000
DTEND;TZID=America/New_York:20221128T130000
DTSTAMP:20260421T061558
CREATED:20221119T022054Z
LAST-MODIFIED:20221119T022054Z
UID:3474-1669633200-1669640400@durhamfoodhall.com
SUMMARY:FIFA World Cup: Brazil vs Switzerland
DESCRIPTION:Join us for Brazil vs Switzerland in the FIFA World Cup Qatar 2022!
URL:https://durhamfoodhall.com/event/fifa-world-cup-brazil-vs-switzerland/
LOCATION:NC
END:VEVENT
END:VCALENDAR