BEGIN:VCALENDAR
VERSION:2.0
PRODID:-//Durham Food Hall - ECPv6.15.20//NONSGML v1.0//EN
CALSCALE:GREGORIAN
METHOD:PUBLISH
X-WR-CALNAME:Durham Food Hall
X-ORIGINAL-URL:https://durhamfoodhall.com
X-WR-CALDESC:Events for Durham Food Hall
REFRESH-INTERVAL;VALUE=DURATION:PT1H
X-Robots-Tag:noindex
X-PUBLISHED-TTL:PT1H
BEGIN:VTIMEZONE
TZID:America/New_York
BEGIN:DAYLIGHT
TZOFFSETFROM:-0500
TZOFFSETTO:-0400
TZNAME:EDT
DTSTART:20210314T070000
END:DAYLIGHT
BEGIN:STANDARD
TZOFFSETFROM:-0400
TZOFFSETTO:-0500
TZNAME:EST
DTSTART:20211107T060000
END:STANDARD
BEGIN:DAYLIGHT
TZOFFSETFROM:-0500
TZOFFSETTO:-0400
TZNAME:EDT
DTSTART:20220313T070000
END:DAYLIGHT
BEGIN:STANDARD
TZOFFSETFROM:-0400
TZOFFSETTO:-0500
TZNAME:EST
DTSTART:20221106T060000
END:STANDARD
BEGIN:DAYLIGHT
TZOFFSETFROM:-0500
TZOFFSETTO:-0400
TZNAME:EDT
DTSTART:20230312T070000
END:DAYLIGHT
BEGIN:STANDARD
TZOFFSETFROM:-0400
TZOFFSETTO:-0500
TZNAME:EST
DTSTART:20231105T060000
END:STANDARD
END:VTIMEZONE
BEGIN:VEVENT
DTSTART;TZID=America/New_York:20221123T110000
DTEND;TZID=America/New_York:20221123T200000
DTSTAMP:20260421T064159
CREATED:20221101T174535Z
LAST-MODIFIED:20221101T174535Z
UID:3252-1669201200-1669233600@durhamfoodhall.com
SUMMARY:Locals Seafood: $2 Raw Oysters
DESCRIPTION:
URL:https://durhamfoodhall.com/event/locals-seafood-2-raw-oysters-1123/
LOCATION:NC
ATTACH;FMTTYPE=image/jpeg:https://durhamfoodhall.com/wp-content/uploads/2019/08/Raw-NC-oysters-on-the-half-shell-at-Locals-Oyster-Bar.jpg
END:VEVENT
BEGIN:VEVENT
DTSTART;TZID=America/New_York:20221123T140000
DTEND;TZID=America/New_York:20221123T170000
DTSTAMP:20260421T064159
CREATED:20221119T021331Z
LAST-MODIFIED:20221119T021331Z
UID:3466-1669212000-1669222800@durhamfoodhall.com
SUMMARY:FIFA World Cup: Belgium vs Canada
DESCRIPTION:Join us as the FIFA World Cup Qatar 2022 continues with Belgium vs Canada on the big screen!
URL:https://durhamfoodhall.com/event/fifa-world-cup-belgium-vs-canada/
LOCATION:NC
END:VEVENT
BEGIN:VEVENT
DTSTART;TZID=America/New_York:20221123T190000
DTEND;TZID=America/New_York:20221123T210000
DTSTAMP:20260421T064159
CREATED:20221028T165037Z
LAST-MODIFIED:20221101T173742Z
UID:3202-1669230000-1669237200@durhamfoodhall.com
SUMMARY:Movie Night - Hook
DESCRIPTION:
URL:https://durhamfoodhall.com/event/movie-night-1123/
LOCATION:NC
END:VEVENT
END:VCALENDAR