BEGIN:VCALENDAR
VERSION:2.0
PRODID:-//Durham Food Hall - ECPv6.15.20//NONSGML v1.0//EN
CALSCALE:GREGORIAN
METHOD:PUBLISH
X-WR-CALNAME:Durham Food Hall
X-ORIGINAL-URL:https://durhamfoodhall.com
X-WR-CALDESC:Events for Durham Food Hall
REFRESH-INTERVAL;VALUE=DURATION:PT1H
X-Robots-Tag:noindex
X-PUBLISHED-TTL:PT1H
BEGIN:VTIMEZONE
TZID:America/New_York
BEGIN:DAYLIGHT
TZOFFSETFROM:-0500
TZOFFSETTO:-0400
TZNAME:EDT
DTSTART:20210314T070000
END:DAYLIGHT
BEGIN:STANDARD
TZOFFSETFROM:-0400
TZOFFSETTO:-0500
TZNAME:EST
DTSTART:20211107T060000
END:STANDARD
BEGIN:DAYLIGHT
TZOFFSETFROM:-0500
TZOFFSETTO:-0400
TZNAME:EDT
DTSTART:20220313T070000
END:DAYLIGHT
BEGIN:STANDARD
TZOFFSETFROM:-0400
TZOFFSETTO:-0500
TZNAME:EST
DTSTART:20221106T060000
END:STANDARD
BEGIN:DAYLIGHT
TZOFFSETFROM:-0500
TZOFFSETTO:-0400
TZNAME:EDT
DTSTART:20230312T070000
END:DAYLIGHT
BEGIN:STANDARD
TZOFFSETFROM:-0400
TZOFFSETTO:-0500
TZNAME:EST
DTSTART:20231105T060000
END:STANDARD
END:VTIMEZONE
BEGIN:VEVENT
DTSTART;TZID=America/New_York:20221120T110000
DTEND;TZID=America/New_York:20221120T133000
DTSTAMP:20260421T063020
CREATED:20221119T020715Z
LAST-MODIFIED:20221119T020747Z
UID:3460-1668942000-1668951000@durhamfoodhall.com
SUMMARY:FIFA World Cup: Qatar vs Ecuador
DESCRIPTION:Join us for the FIFA World Cup opener! All World Cup games will be shown on our big screen!
URL:https://durhamfoodhall.com/event/fifa-world-cup-qatar-vs-ecuador/
LOCATION:NC
END:VEVENT
BEGIN:VEVENT
DTSTART;TZID=America/New_York:20221120T110000
DTEND;TZID=America/New_York:20221120T210000
DTSTAMP:20260421T063020
CREATED:20221028T170621Z
LAST-MODIFIED:20221028T170621Z
UID:3210-1668942000-1668978000@durhamfoodhall.com
SUMMARY:Auctioneer Bar: $6 Mimosas & $4 Tall Boy Cans
DESCRIPTION:$6 Mimosas & $4 tall boys at the Auctioneer Bar!
URL:https://durhamfoodhall.com/event/auctioneer-bar-6-mimosas-4-tall-boy-cans-112022/
LOCATION:NC
END:VEVENT
END:VCALENDAR